{"text_format":"1","workbook":"xlsx","n_sheets":14,"sheets":["Раздел0","Раздел1","Раздел2","Раздел3","Раздел4","Раздел5","Раздел6","Раздел7","Раздел8","Раздел9","Раздел10","Раздел11","Раздел12","Раздел13"],"not_rendered":{"charts":0,"images":0,"macros":1,"external_links":0,"defined_names":1,"comments":0,"pivot_tables":0},"unopened":[],"bounds":{"document_bytes":16777216,"sheet_cells":100000,"rows_first":2000,"rows_last":500,"rows_between":2000,"halvings":0,"cell_chars":16384,"cell_head_chars":4096},"cells_cut":0,"cells_raw":0,"read":"whole","date_system":"1900"}

{"sheet":"Раздел0","index":0,"n_rows":38,"n_cols":19,"rows_kept":38,"cut":false,"hidden":false,"merged":[[0,0,0,17],[1,0,38,0],[1,4,1,14],[3,4,3,14],[5,3,5,15],[8,5,8,13],[9,5,9,13],[11,1,11,9],[11,10,11,11],[11,13,11,16],[12,13,12,16],[13,13,13,16],[33,1,33,7],[33,8,33,11],[33,12,33,17],[20,13,20,16],[16,13,16,16],[17,13,17,16],[12,1,29,9],[12,10,29,11],[14,13,14,16],[15,13,15,16],[31,4,31,17],[32,1,32,7],[32,8,32,11],[32,12,32,17],[30,1,30,6],[30,7,30,17],[31,18,32,18],[34,4,34,18],[39,0,39,17],[35,12,35,17],[37,1,37,3],[37,4,37,7],[37,8,37,11],[37,12,37,17],[36,1,36,3],[36,4,36,7],[36,8,36,11],[36,12,36,17],[34,1,35,3],[35,4,35,7],[35,8,35,11],[31,1,31,3]]}
[]
[null,null,null,null,"ФЕДЕРАЛЬНОЕ СТАТИСТИЧЕСКОЕ НАБЛЮДЕНИЕ"]
[]
[null,null,null,null,"КОНФИДЕНЦИАЛЬНОСТЬ ГАРАНТИРУЕТСЯ ПОЛУЧАТЕЛЕМ ИНФОРМАЦИИ"]
[]
[null,null,null,"Нарушение порядка предоставления первичных статистических данных или несвоевременное предоставление этих данных, \nлибо предоставление недостоверных первичных статистических данных влечет ответственность, установленную \nКодексом Российской Федерации об административных правонарушениях"]
[]
[]
[null,null,null,null,null,"СВЕДЕНИЯ ПО ПОДГОТОВКЕ СПОРТИВНОГО РЕЗЕРВА"]
[null,null,null,null,null,"по состоянию на 31 декабря 2022 г."]
[]
[null,"Предоставляют:",null,null,null,null,null,null,null,null,"Сроки предоставления",null,null,"Форма № 5-ФК"]
[null,"юридические лица (кроме субъектов малого и среднего предпринимательства) – \nорганизации, осуществляющие спортивную подготовку или обеспечивающие подготовку спортивного резерва:\n\n      - Министерству спорта Российской Федерации по установленному им адресу \n",null,null,null,null,null,null,null,null,"20 января",null,null,"Приказ Росстата: \nОб утверждении формы \nот 22.08.2022 № 584\nО внесении изменений (при наличии)  \nот  __________ № ___\nот  __________ № ___"]
[]
[]
[]
[]
[]
[]
[]
[null,null,null,null,null,null,null,null,null,null,null,null,null,"Годовая"]
[]
[]
[]
[]
[]
[]
[]
[]
[]
[null,"Наименование отчитывающейся организации",null,null,null,null,null,"Муниципальное автономное учреждение спортивная школа №1 города Кирово-Чепецка Кировской области (МАУ СШ № 1 г. Кирово-Чепецка)"]
[null,"Почтовый адрес",null,null,"613040, Кировская область, город Кирово-Чепецк,ул.Юбилейная 15/2",null,null,null,null,null,null,null,null,null,null,null,null,null,"Сельское поселение"]
[null,"Муниципальный район",null,null,null,null,null,null,"Городской округ",null,null,null,"Муниципальный округ"]
[null,null,null,null,null,null,null,null,"МО \"Город Кирово-Чепецк\""]
[null,"Код\nформы\nпо ОКУД",null,null,"Код"]
[null,null,null,null,"отчитывающейся организации по ОКПО \n(для обособленного подразделения юридического лица – идентификационный номер)",null,null,null,null,null,null,null,null,null,null,null,null,null,"Код ОКТМО"]
[null,1,null,null,2,null,null,null,3,null,null,null,4,null,null,null,null,null,5]
[null,"0609403",null,null,"10950091"]

{"sheet":"Раздел1","index":1,"n_rows":29,"n_cols":14,"rows_kept":29,"cut":false,"hidden":false,"merged":[[0,0,16,0],[0,1,0,10],[0,11,16,11],[1,7,1,10],[2,1,3,1],[2,2,3,2],[2,3,3,3],[2,4,2,10],[21,8,21,9],[22,1,24,1],[22,2,24,2],[22,3,22,7],[22,8,23,8],[23,4,23,5],[23,6,23,7],[24,4,24,5],[24,6,24,7],[26,2,27,2],[25,6,25,7],[26,1,28,1],[26,3,27,3],[26,4,27,5],[26,6,27,7],[28,4,28,5],[28,6,28,7]]}
[null,"Раздел I. Число организаций"]
[null,null,null,null,null,null,null,"Код по ОКЕИ: единица – 642"]
[null,"Ведомственная \nпринадлежность","№ стро-ки","Число организаций и структурных подразделений – всего","в том числе по виду организации:"]
[null,null,null,null,"ДЮСШ ","СШ","СШОР","УОР","ЦСП","ЦОП","Другие\nорганизации"]
[null,1,2,3,4,5,6,7,8,9,10]
[null,"Организации в ведении органов управления в сфере физической культуры и спорта","01",{"$f":"SUM(E6:K6)","v":1},null,1,null,null,null,null,null,null,null,{"$f":"SUM(E6:H6,J6:K6)","v":1}]
[null,"Структурные подразделения, реализующие программы спортивной подготовки","02",{"$f":"SUM(E7:K7)","v":0},null,null,null,null,null,null,null,null,null,{"$f":"SUM(E6:K6)","v":1}]
[null,"Обособленные структурные подразделения, реализующие программы спортивной подготовки","03",0,null,null,null,null,null,null,null,null,null,{"$f":"SUM(I18:J18)","v":0}]
[null,"Структурные подразделения, реализующие дополнительные общеобразовательные программы в области физической культуры и спорта ","04",0,null,null,null,null,null,null,null,null,null,{"$f":"SUM(F13,F16)","v":0}]
[null,"Организации в ведении органов управления в сфере образования","05",0,null,null,null,null,null,null,null,null,null,{"$f":"SUM(K7,K9)","v":0}]
[null,"Структурные подразделения, реализующие программы спортивной подготовки","06",0]
[null,"Обособленные структурные подразделения, реализующие программы спортивной подготовки","07",0]
[null,"Организации другой ведомственной принадлежности","08",0]
[null,"Структурные подразделения, реализующие программы спортивной подготовки","09",0]
[null,"Обособленные структурные подразделения, реализующие программы спортивной подготовки","10",0]
[null,"Структурные подразделения, реализующие дополнительные общеобразовательные программы в области физической культуры и спорта","11",{"$f":"SUM(E16:K16)","v":0}]
[null,"Частные организации (из стр. 08)","12",0]
[null,"Итого организаций","13",{"$f":"SUM(E18:K18)","v":1},{"$f":"SUM(E6,E10,E13)","v":0},{"$f":"SUM(F6,F10,F13)","v":1},{"$f":"SUM(G6,G10,G13)","v":0},0,0,0,0]
[null,"Итого обособленных структурных подразделений, реализующих программы спортивной подготовки","14",{"$f":"SUM(E19:K19)","v":0},{"$f":"SUM(E8,E12,E15)","v":0},{"$f":"SUM(F8,F12,F15)","v":0},0,{"$f":"SUM(H8,H12,H15)","v":0},0,{"$f":"SUM(J8,J12,J15)","v":0},0]
[]
[null,"ОГРН","15",1034313507227]
[null,null,null,null,null,null,null,null,"Код по ОКЕИ: единица – 642"]
[null,"Виды правовых образований","16","Публичные правовые образования",null,null,null,null,"Иные правовые образования \n(в том числе частные)"]
[null,null,null,"Российская Федерация","Субъект Российской Федерации",null,"Муниципальное образование"]
[null,null,null,null,null,null,1]
[null,"Код по ОКЕИ: единица – 642",null,null,null,null,"Код по ОКЕИ: единица – 642"]
[null,"Реализация программ спортивной подготовки","№ стро-ки","Не реализуют","Частично",null,"Полностью"]
[]
[null,null,17,null,null,null,1]

{"sheet":"Раздел2","index":2,"n_rows":282,"n_cols":31,"rows_kept":282,"cut":false,"hidden":false,"merged":[[5,23,5,24],[5,25,5,30],[5,15,6,15],[5,9,6,9],[2,2,4,3],[2,4,6,4],[1,28,1,30],[5,20,6,20],[2,5,2,30],[3,5,6,5],[3,6,3,21],[3,22,4,30],[4,6,4,11],[4,12,4,15],[4,16,6,16],[4,17,4,21],[5,6,6,6],[5,22,6,22],[2,0,5,0],[2,1,6,1],[5,10,6,10],[5,11,6,11],[0,0,0,21],[5,2,6,2],[5,7,6,7],[5,17,6,17],[5,18,6,18],[5,12,6,12],[5,13,6,13],[5,14,6,14],[5,21,6,21],[5,19,6,19],[5,3,6,3],[5,8,6,8]]}
["Раздел II. Численность занимающихся"]
[null,null,null,null,null,null,null,null,null,null,null,null,null,null,null,null,null,null,null,null,null,null,null,null,null,null,null,null,"Коды по ОКЕИ: человек - 792, единица - 642"]
["Виды спорта","№ строки","Число отделений по видам спорта, единица",null,"Базовый вид спорта","Число занимающихся и обучающихся на 31 декабря отчетного года, человек"]
[null,null,null,null,null,"Итого занимающихся и обучающихся","Занимающиеся ",null,null,null,null,null,null,null,null,null,null,null,null,null,null,null,"Обучающиеся по дополнительным общеобразовательным программам в области физической культуры и спорта"]
[null,null,null,null,null,null,"по этапам спортивной подготовки",null,null,null,null,null,"по возрастам (из гр. 7)",null,null,null,"женщин (из гр. 7)","в платных группах (из гр. 8-12)"]
[null,null,"всего","в том числе олимпийские отделения",null,null,"всего занимающихся","спортивно-оздоровительный","начальной подготовки","трениро-вочный","совершен-ствования спортивного мастерства","высшего спортивного мастерства","до 4 лет ","от 5 до 17 лет","от 18 до 22 лет","старше 22 лет",null,"спортивно-оздоровительный","начальной подготовки","трениро-вочный","совершен-ствования спортивного мастерства","высшего спортивного мастерства","Всего обучающихся","по общеразвивающим программам",null,"по предпрофессиональным программам"]
[null,null,null,null,null,null,null,null,null,null,null,null,null,null,null,null,null,null,null,null,null,null,null,"всего","в платных группах (из гр. 24)","всего","базовый уровень (из гр. 26)","углубленный уровень (из гр. 26)","в платных группах (из гр. 26)","базовый уровень (из гр. 29)","углубленный уровень (из гр. 29)"]
[1,2,3,4,5,6,7,8,9,10,11,12,13,14,15,16,17,18,19,20,21,22,23,24,25,26,27,28,29,30,31]
["Авиамодельный спорт","01",null,null,null,{"$f":"SUM(G9,W9)*IF(C9>0,1,0)","v":0},{"$f":"SUM(H9:L9)","v":0},null,null,null,null,null,null,null,null,null,null,null,null,null,null,null,{"$f":"SUM(X9,Z9)","v":0},null,null,{"$f":"SUM(AA9:AB9)","v":0},null,null,{"$f":"SUM(AD9:AE9)","v":0}]
["Авиационные гонки","02",null,null,null,{"$f":"SUM(G10,W10)*IF(C10>0,1,0)","v":0},{"$f":"SUM(H10:L10)","v":0},null,null,null,null,null,null,null,null,null,null,null,null,null,null,null,{"$f":"SUM(X10,Z10)","v":0},null,null,{"$f":"SUM(AA10:AB10)","v":0},null,null,{"$f":"SUM(AD10:AE10)","v":0}]
["Автомобильный спорт","03",null,null,null,0,0,null,null,null,null,null,null,null,null,null,null,null,null,null,null,null,0,null,null,0,null,null,0]
["Автомодельный спорт","04",null,null,null,0,0,null,null,null,null,null,null,null,null,null,null,null,null,null,null,null,0,null,null,0,null,null,0]
["Айкидо","05",null,null,null,0,0,null,null,null,null,null,null,null,null,null,null,null,null,null,null,null,0,null,null,0,null,null,0]
["Айсшток","06",null,null,null,0,0,null,null,null,null,null,null,null,null,null,null,null,null,null,null,null,0,null,null,0,null,null,0]
["Акробатический рок-н-ролл","07",null,null,null,0,0,null,null,null,null,null,null,null,null,null,null,null,null,null,null,null,0,null,null,0,null,null,0]
["Альпинизм","08",null,null,null,0,0,null,null,null,null,null,null,null,null,null,null,null,null,null,null,null,0,null,null,0,null,null,0]
["Американский футбол","09",null,null,null,0,0,null,null,null,null,null,null,null,null,null,null,null,null,null,null,null,0,null,null,0,null,null,0]
["Армейский рукопашный бой","10",null,null,null,0,0,null,null,null,null,null,null,null,null,null,null,null,null,null,null,null,0,null,null,0,null,null,0]
["Армейское тактико-стрелковое многоборье","11",null,null,null,0,0,null,null,null,null,null,null,null,null,null,null,null,null,null,null,null,0,null,null,0,null,null,0]
["Армрестлинг","12",null,null,null,0,0,null,null,null,null,null,null,null,null,null,null,null,null,null,null,null,0,null,null,0,null,null,0]
["Бадминтон","13",null,null,null,0,0,null,null,null,null,null,null,null,null,null,null,null,null,null,null,null,0,null,null,0,null,null,0]
["Баскетбол - всего","14",{"$f":"IF(SUM(C23:C25)>=1,1,0)","v":1},{"$f":"IF(SUM(D23:D25)>=1,1,0)","v":0},null,256,256,{"$f":"SUM(H23:H25)","v":82},{"$f":"SUM(I23:I25)","v":140},34,0,0,0,256,0,0,91,0,0,0,0,0,0,0,0,0,0,0,0,0,0]
["в том числе:\nБаскетбол (муж.)","15",1,null,null,165,165,45,95,25,null,null,null,165,null,null,null,null,null,null,null,null,0,null,null,0,null,null,0]
["Баскетбол (жен.)","16",1,null,null,91,91,37,45,9,null,null,null,91,null,null,{"$f":"G24","v":91},null,null,null,null,null,0,null,null,0,null,null,0]
["Баскетбол 3х3","17",null,null,null,0,0,null,null,null,null,null,null,null,null,null,null,null,null,null,null,null,0,null,null,0,null,null,0]
["Бейсбол","18",null,null,null,0,0,null,null,null,null,null,null,null,null,null,null,null,null,null,null,null,0,null,null,0,null,null,0]
["Биатлон","19",1,null,null,73,73,22,42,9,null,null,null,73,null,null,21,null,null,null,null,null,0,null,null,0,null,null,0]
["Бильярдный спорт","20",null,null,null,0,0,null,null,null,null,null,null,null,null,null,null,null,null,null,null,null,0,null,null,0,null,null,0]
["Бобслей - всего","21",{"$f":"IF(SUM(C30:C31)>=1,1,0)","v":0},{"$f":"IF(SUM(D30:D31)>=1,1,0)","v":0},null,0,0,{"$f":"SUM(H30:H31)","v":0},{"$f":"SUM(I30:I31)","v":0},0,0,0,0,0,0,0,0,0,0,0,0,0,0,0,0,0,0,0,0,0,0]
["в том числе:\nБобслей","22",null,null,null,0,0,null,null,null,null,null,null,null,null,null,null,null,null,null,null,null,0,null,null,0,null,null,0]
["Скелетон","23",null,null,null,0,0,null,null,null,null,null,null,null,null,null,null,null,null,null,null,null,0,null,null,0,null,null,0]
["Бодибилдинг","24",null,null,null,0,0,null,null,null,null,null,null,null,null,null,null,null,null,null,null,null,0,null,null,0,null,null,0]
["Бокс","25",1,null,null,90,90,30,60,null,null,null,null,90,null,null,4,null,null,null,null,null,0,null,null,0,null,null,0]
["Борьба на поясах","26",null,null,null,0,0,null,null,null,null,null,null,null,null,null,null,null,null,null,null,null,0,null,null,0,null,null,0]
["Боулинг","27",null,null,null,0,0,null,null,null,null,null,null,null,null,null,null,null,null,null,null,null,0,null,null,0,null,null,0]
["Боулспорт","28",null,null,null,0,0,null,null,null,null,null,null,null,null,null,null,null,null,null,null,null,0,null,null,0,null,null,0]
["Велосипедный спорт - всего","29",{"$f":"IF(SUM(C38:C41)>=1,1,0)","v":0},{"$f":"IF(SUM(D38:D41)>=1,1,0)","v":0},null,0,0,{"$f":"SUM(H38:H41)","v":0},{"$f":"SUM(I38:I41)","v":0},0,0,0,0,0,0,0,0,0,0,0,0,0,0,0,0,0,0,0,0,0,0]
["в том числе:\nBMX","30",null,null,null,0,0,null,null,null,null,null,null,null,null,null,null,null,null,null,null,null,0,null,null,0,null,null,0]
["Маунтинбайк","31",null,null,null,0,0,null,null,null,null,null,null,null,null,null,null,null,null,null,null,null,0,null,null,0,null,null,0]
["Трек","32",null,null,null,0,0,null,null,null,null,null,null,null,null,null,null,null,null,null,null,null,0,null,null,0,null,null,0]
["Шоссе","33",null,null,null,0,0,null,null,null,null,null,null,null,null,null,null,null,null,null,null,null,0,null,null,0,null,null,0]
["Вертолетный спорт","34",null,null,null,0,0,null,null,null,null,null,null,null,null,null,null,null,null,null,null,null,0,null,null,0,null,null,0]
["Водно-моторный спорт","35",null,null,null,0,0,null,null,null,null,null,null,null,null,null,null,null,null,null,null,null,0,null,null,0,null,null,0]
["Водно-спасательное многоборье","36",null,null,null,0,0,null,null,null,null,null,null,null,null,null,null,null,null,null,null,null,0,null,null,0,null,null,0]
["Водное поло - всего ","37",{"$f":"IF(SUM(C46:C47)>=1,1,0)","v":0},{"$f":"IF(SUM(D46:D47)>=1,1,0)","v":0},null,0,0,{"$f":"SUM(H46:H47)","v":0},{"$f":"SUM(I46:I47)","v":0},0,0,0,0,0,0,0,0,0,0,0,0,0,0,0,0,0,0,0,0,0,0]
["в том числе:\nВодное поло (муж.)","38",null,null,null,0,0,null,null,null,null,null,null,null,null,null,null,null,null,null,null,null,0,null,null,0,null,null,0]
["Водное поло (жен.)","39",null,null,null,0,0,null,null,null,null,null,null,null,null,null,{"$f":"G47","v":0},null,null,null,null,null,0,null,null,0,null,null,0]
["Воднолыжный спорт","40",null,null,null,0,0,null,null,null,null,null,null,null,null,null,null,null,null,null,null,null,0,null,null,0,null,null,0]
["Военно-прикладной спорт","41",null,null,null,0,0,null,null,null,null,null,null,null,null,null,null,null,null,null,null,null,0,null,null,0,null,null,0]
["Военно-спортивное многоборье","42",null,null,null,0,0,null,null,null,null,null,null,null,null,null,null,null,null,null,null,null,0,null,null,0,null,null,0]
["Воздухоплавательный спорт","43",null,null,null,0,0,null,null,null,null,null,null,null,null,null,null,null,null,null,null,null,0,null,null,0,null,null,0]
["Воздушно-силовая атлетика","44",null,null,null,0,0,null,null,null,null,null,null,null,null,null,null,null,null,null,null,null,0,null,null,0,null,null,0]
["Волейбол - всего","45",{"$f":"IF(SUM(C54:C57)>=1,1,0)","v":0},{"$f":"IF(SUM(D54:D57)>=1,1,0)","v":0},null,0,0,{"$f":"SUM(H54:H57)","v":0},{"$f":"SUM(I54:I57)","v":0},0,0,0,0,0,0,0,0,0,0,0,0,0,0,0,0,0,0,0,0,0,0]
["в том числе:\nВолейбол (муж.)","46",null,null,null,0,0,null,null,null,null,null,null,null,null,null,null,null,null,null,null,null,0,null,null,0,null,null,0]
["Волейбол (жен.)","47",null,null,null,0,0,null,null,null,null,null,null,null,null,null,{"$f":"G55","v":0},null,null,null,null,null,0,null,null,0,null,null,0]
["Пляжный волейбол (муж.)","48",null,null,null,0,0,null,null,null,null,null,null,null,null,null,null,null,null,null,null,null,0,null,null,0,null,null,0]
["Пляжный волейбол (жен.)","49",null,null,null,0,0,null,null,null,null,null,null,null,null,null,{"$f":"G57","v":0},null,null,null,null,null,0,null,null,0,null,null,0]
["Восточное боевое единоборство","50",null,null,null,0,0,null,null,null,null,null,null,null,null,null,null,null,null,null,null,null,0,null,null,0,null,null,0]
["Всестилевое каратэ","51",null,null,null,0,0,null,null,null,null,null,null,null,null,null,null,null,null,null,null,null,0,null,null,0,null,null,0]
["Гандбол - всего","52",{"$f":"IF(SUM(C61:C63)>=1,1,0)","v":0},{"$f":"IF(SUM(D61:D63)>=1,1,0)","v":0},null,0,0,{"$f":"SUM(H61:H63)","v":0},{"$f":"SUM(I61:I63)","v":0},0,0,0,0,0,0,0,0,0,0,0,0,0,0,0,0,0,0,0,0,0,0]
["в том числе:\nГандбол (муж.)","53",null,null,null,0,0,null,null,null,null,null,null,null,null,null,null,null,null,null,null,null,0,null,null,0,null,null,0]
["Гандбол (жен.)","54",null,null,null,0,0,null,null,null,null,null,null,null,null,null,{"$f":"G62","v":0},null,null,null,null,null,0,null,null,0,null,null,0]
["Пляжный гандбол","55",null,null,null,0,0,null,null,null,null,null,null,null,null,null,null,null,null,null,null,null,0,null,null,0,null,null,0]
["Гиревой спорт","56",null,null,null,0,0,null,null,null,null,null,null,null,null,null,null,null,null,null,null,null,0,null,null,0,null,null,0]
["Го","57",null,null,null,0,0,null,null,null,null,null,null,null,null,null,null,null,null,null,null,null,0,null,null,0,null,null,0]
["Гольф","58",null,null,null,0,0,null,null,null,null,null,null,null,null,null,null,null,null,null,null,null,0,null,null,0,null,null,0]
["Гонки на охотничьих лыжах","59",null,null,null,0,0,null,null,null,null,null,null,null,null,null,null,null,null,null,null,null,0,null,null,0,null,null,0]
["Гонки с препятствиями","60",null,null,null,0,0,null,null,null,null,null,null,null,null,null,null,null,null,null,null,null,0,null,null,0,null,null,0]
["Горнолыжный спорт","61",null,null,null,0,0,null,null,null,null,null,null,null,null,null,null,null,null,null,null,null,0,null,null,0,null,null,0]
["Городошный спорт","62",null,null,null,0,0,null,null,null,null,null,null,null,null,null,null,null,null,null,null,null,0,null,null,0,null,null,0]
["Гребля на байдарках и каноэ","63",null,null,null,0,0,null,null,null,null,null,null,null,null,null,null,null,null,null,null,null,0,null,null,0,null,null,0]
["Гребля на шлюпках","64",null,null,null,0,0,null,null,null,null,null,null,null,null,null,null,null,null,null,null,null,0,null,null,0,null,null,0]
["Гребной слалом","65",null,null,null,0,0,null,null,null,null,null,null,null,null,null,null,null,null,null,null,null,0,null,null,0,null,null,0]
["Гребной спорт - всего","66",{"$f":"IF(SUM(C75:C78)>=1,1,0)","v":0},{"$f":"IF(SUM(D75:D78)>=1,1,0)","v":0},null,{"$f":"SUM(G74,W74)*IF(C74>0,1,0)","v":0},{"$f":"SUM(H74:L74)","v":0},{"$f":"SUM(H75:H78)","v":0},{"$f":"SUM(I75:I78)","v":0},0,0,0,0,0,0,0,0,0,0,0,0,0,0,0,0,0,0,0,0,0,0]
["в том числе:\nАкадемическая гребля","67",null,null,null,0,0,null,null,null,null,null,null,null,null,null,null,null,null,null,null,null,{"$f":"SUM(X75,Z75)","v":0},null,null,{"$f":"SUM(AA75:AB75)","v":0},null,null,{"$f":"SUM(AD75:AE75)","v":0}]
["Гребля-индор","68",null,null,null,0,0,null,null,null,null,null,null,null,null,null,null,null,null,null,null,null,0,null,null,0,null,null,0]
["Народная гребля","69",null,null,null,0,0,null,null,null,null,null,null,null,null,null,null,null,null,null,null,null,0,null,null,0,null,null,0]
["Прибрежная гребля","70",null,null,null,0,0,null,null,null,null,null,null,null,null,null,null,null,null,null,null,null,0,null,null,0,null,null,0]
["Гребно-парусное двоеборье","71",null,null,null,0,0,null,null,null,null,null,null,null,null,null,null,null,null,null,null,null,0,null,null,0,null,null,0]
["Дартс","72",null,null,null,0,0,null,null,null,null,null,null,null,null,null,null,null,null,null,null,null,0,null,null,0,null,null,0]
["Джиу-джитсу","73",null,null,null,0,0,null,null,null,null,null,null,null,null,null,null,null,null,null,null,null,0,null,null,0,null,null,0]
["Дзюдо","74",1,null,null,628,628,374,195,59,null,null,null,628,null,null,102,240,null,null,null,null,0,null,null,0,null,null,0]
["Ездовой спорт","75",null,null,null,0,0,null,null,null,null,null,null,null,null,null,null,null,null,null,null,null,0,null,null,0,null,null,0]
["Зимнее плавание","76",null,null,null,0,0,null,null,null,null,null,null,null,null,null,null,null,null,null,null,null,0,null,null,0,null,null,0]
["Капоэйра","77",null,null,null,0,0,null,null,null,null,null,null,null,null,null,null,null,null,null,null,null,0,null,null,0,null,null,0]
["Каратэ","78",null,null,null,0,0,null,null,null,null,null,null,null,null,null,null,null,null,null,null,null,0,null,null,0,null,null,0]
["Кендо","79",null,null,null,0,0,null,null,null,null,null,null,null,null,null,null,null,null,null,null,null,0,null,null,0,null,null,0]
["Керешу","80",null,null,null,0,0,null,null,null,null,null,null,null,null,null,null,null,null,null,null,null,0,null,null,0,null,null,0]
["Кёрлинг - всего","81",{"$f":"IF(SUM(C90:C92)>=1,1,0)","v":0},{"$f":"IF(SUM(D90:D92)>=1,1,0)","v":0},null,0,0,{"$f":"SUM(H90:H92)","v":0},{"$f":"SUM(I90:I92)","v":0},0,0,0,0,0,0,0,0,0,0,0,0,0,0,0,0,0,0,0,0,0,0]
["в том числе:\nКерлинг (муж.)","82",null,null,null,0,0,null,null,null,null,null,null,null,null,null,null,null,null,null,null,null,0,null,null,0,null,null,0]
["Керлинг (жен.)","83",null,null,null,0,0,null,null,null,null,null,null,null,null,null,{"$f":"G91","v":0},null,null,null,null,null,0,null,null,0,null,null,0]
["Кёрлинг – смешанные пары","84",null,null,null,0,0,null,null,null,null,null,null,null,null,null,null,null,null,null,null,null,0,null,null,0,null,null,0]
["Кикбоксинг","85",null,null,null,0,0,null,null,null,null,null,null,null,null,null,null,null,null,null,null,null,0,null,null,0,null,null,0]
["Кинологический спорт","86",null,null,null,0,0,null,null,null,null,null,null,null,null,null,null,null,null,null,null,null,0,null,null,0,null,null,0]
["Киокусинкай","87",null,null,null,0,0,null,null,null,null,null,null,null,null,null,null,null,null,null,null,null,0,null,null,0,null,null,0]
["Киокушин","88",null,null,null,0,0,null,null,null,null,null,null,null,null,null,null,null,null,null,null,null,0,null,null,0,null,null,0]
["Комплексное единоборство","89",null,null,null,0,0,null,null,null,null,null,null,null,null,null,null,null,null,null,null,null,0,null,null,0,null,null,0]
["Компьютерный спорт","90",null,null,null,0,0,null,null,null,null,null,null,null,null,null,null,null,null,null,null,null,0,null,null,0,null,null,0]
["Конный спорт","91",null,null,null,0,0,null,null,null,null,null,null,null,null,null,null,null,null,null,null,null,0,null,null,0,null,null,0]
["Конькобежный спорт - всего","92",{"$f":"IF(SUM(C101:C102)>=1,1,0)","v":0},{"$f":"IF(SUM(D101:D102)>=1,1,0)","v":0},null,0,0,{"$f":"SUM(H101:H102)","v":0},{"$f":"SUM(I101:I102)","v":0},0,0,0,0,0,0,0,0,0,0,0,0,0,0,0,0,0,0,0,0,0,0]
["в том числе:\nКонькобежный спорт","93",null,null,null,0,0,null,null,null,null,null,null,null,null,null,null,null,null,null,null,null,0,null,null,0,null,null,0]
["Шорт-трек","94",null,null,null,0,0,null,null,null,null,null,null,null,null,null,null,null,null,null,null,null,0,null,null,0,null,null,0]
["Корэш","95",null,null,null,0,0,null,null,null,null,null,null,null,null,null,null,null,null,null,null,null,0,null,null,0,null,null,0]
["Крикет","96",null,null,null,0,0,null,null,null,null,null,null,null,null,null,null,null,null,null,null,null,0,null,null,0,null,null,0]
["Кудо","97",null,null,null,0,0,null,null,null,null,null,null,null,null,null,null,null,null,null,null,null,0,null,null,0,null,null,0]
["Лапта","98",null,null,null,0,0,null,null,null,null,null,null,null,null,null,null,null,null,null,null,null,0,null,null,0,null,null,0]
["Легкая атлетика - всего","99",{"$f":"IF(SUM(C108:C114)>=1,1,0)","v":1},{"$f":"IF(SUM(D108:D114)>=1,1,0)","v":0},null,318,318,{"$f":"SUM(H108:H114)","v":105},{"$f":"SUM(I108:I114)","v":137},76,0,0,0,318,0,0,133,0,0,0,0,0,0,0,0,0,0,0,0,0,0]
["в том числе:\nСпринтерский и барьерный бег","100",1,null,null,67,67,null,37,30,null,null,null,67,null,null,46,null,null,null,null,null,0,null,null,0,null,null,0]
["Бег на средние дистанции и бег с препятствиями","101",1,null,null,10,10,null,null,10,null,null,null,10,null,null,3,null,null,null,null,null,0,null,null,0,null,null,0]
["Бег на длинные и сверхдлинные дистанции","102",null,null,null,0,0,null,null,0,null,null,null,null,null,null,null,null,null,null,null,null,0,null,null,0,null,null,0]
["Многоборья","103",1,null,null,215,215,105,100,10,null,null,null,215,null,null,79,null,null,null,null,null,0,null,null,0,null,null,0]
["Прыжки","104",1,null,null,11,11,null,null,11,null,null,null,11,null,null,2,null,null,null,null,null,0,null,null,0,null,null,0]
["Метания","105",1,null,null,15,15,null,null,15,null,null,null,15,null,null,3,null,null,null,null,null,0,null,null,0,null,null,0]
["Спортивная ходьба","106",null,null,null,0,0,null,null,null,null,null,null,null,null,null,null,null,null,null,null,null,0,null,null,0,null,null,0]
["Лыжное двоеборье","107",null,null,null,0,0,null,null,null,null,null,null,null,null,null,null,null,null,null,null,null,0,null,null,0,null,null,0]
["Лыжные гонки","108",1,null,null,31,31,null,20,11,null,null,null,31,null,null,5,null,null,null,null,null,0,null,null,0,null,null,0]
["Мас-рестлинг","109",null,null,null,0,0,null,null,null,null,null,null,null,null,null,null,null,null,null,null,null,0,null,null,0,null,null,0]
["Международное военно-спортивное многоборье","110",null,null,null,0,0,null,null,null,null,null,null,null,null,null,null,null,null,null,null,null,0,null,null,0,null,null,0]
["Микрофутзал","111",null,null,null,0,0,null,null,null,null,null,null,null,null,null,null,null,null,null,null,null,0,null,null,0,null,null,0]
["Многоборье кинологов","112",null,null,null,0,0,null,null,null,null,null,null,null,null,null,null,null,null,null,null,null,0,null,null,0,null,null,0]
["Многоборье спасателей МЧС России","113",null,null,null,0,0,null,null,null,null,null,null,null,null,null,null,null,null,null,null,null,0,null,null,0,null,null,0]
["Морское многоборье","114",null,null,null,0,0,null,null,null,null,null,null,null,null,null,null,null,null,null,null,null,0,null,null,0,null,null,0]
["Мотоциклетный спорт","115",null,null,null,0,0,null,null,null,null,null,null,null,null,null,null,null,null,null,null,null,0,null,null,0,null,null,0]
["Нарды","116",null,null,null,0,0,null,null,null,null,null,null,null,null,null,null,null,null,null,null,null,0,null,null,0,null,null,0]
["Настольный теннис","117",null,null,null,0,0,null,null,null,null,null,null,null,null,null,null,null,null,null,null,null,0,null,null,0,null,null,0]
["Падел","118",null,null,null,0,0,null,null,null,null,null,null,null,null,null,null,null,null,null,null,null,0,null,null,0,null,null,0]
["Парашютный спорт","119",null,null,null,0,0,null,null,null,null,null,null,null,null,null,null,null,null,null,null,null,0,null,null,0,null,null,0]
["Парусный спорт","120",null,null,null,0,0,null,null,null,null,null,null,null,null,null,null,null,null,null,null,null,0,null,null,0,null,null,0]
["Пауэрлифтинг","121",null,null,null,0,0,null,null,null,null,null,null,null,null,null,null,null,null,null,null,null,0,null,null,0,null,null,0]
["Перетягивание каната","122",null,null,null,0,0,null,null,null,null,null,null,null,null,null,null,null,null,null,null,null,0,null,null,0,null,null,0]
["Пилонный спорт","123",null,null,null,0,0,null,null,null,null,null,null,null,null,null,null,null,null,null,null,null,0,null,null,0,null,null,0]
["Плавание - всего","124",{"$f":"IF(SUM(C133:C134)>=1,1,0)","v":0},{"$f":"IF(SUM(D133:D134)>=1,1,0)","v":0},null,0,0,{"$f":"SUM(H133:H134)","v":0},{"$f":"SUM(I133:I134)","v":0},0,0,0,0,0,0,0,0,0,0,0,0,0,0,0,0,0,0,0,0,0,0]
["в том числе:\nПлавание ","125",null,null,null,0,0,null,null,null,null,null,null,null,null,null,null,null,null,null,null,null,0,null,null,0,null,null,0]
["Открытая вода","126",null,null,null,0,0,null,null,null,null,null,null,null,null,null,null,null,null,null,null,null,0,null,null,0,null,null,0]
["Планерный спорт","127",null,null,null,0,0,null,null,null,null,null,null,null,null,null,null,null,null,null,null,null,0,null,null,0,null,null,0]
["Подводный спорт","128",null,null,null,0,0,null,null,null,null,null,null,null,null,null,null,null,null,null,null,null,0,null,null,0,null,null,0]
["Пожарно-спасательный спорт","129",null,null,null,0,0,null,null,null,null,null,null,null,null,null,null,null,null,null,null,null,0,null,null,0,null,null,0]
["Полиатлон","130",null,null,null,{"$f":"SUM(G138,W138)*IF(C138>0,1,0)","v":0},{"$f":"SUM(H138:L138)","v":0},null,null,null,null,null,null,null,null,null,null,null,null,null,null,null,{"$f":"SUM(X138,Z138)","v":0},null,null,{"$f":"SUM(AA138:AB138)","v":0},null,null,{"$f":"SUM(AD138:AE138)","v":0}]
["Практическая стрельба","131",null,null,null,0,0,null,null,null,null,null,null,null,null,null,null,null,null,null,null,null,0,null,null,0,null,null,0]
["Прыжки в воду - всего","132",{"$f":"IF(SUM(C141:C142)>=1,1,0)","v":0},{"$f":"IF(SUM(D141:D142)>=1,1,0)","v":0},null,0,0,{"$f":"SUM(H141:H142)","v":0},{"$f":"SUM(I141:I142)","v":0},0,0,0,0,0,0,0,0,0,0,0,0,0,0,0,0,0,0,0,0,0,0]
["в том числе:\nПрыжки в воду","133",null,null,null,0,0,null,null,null,null,null,null,null,null,null,null,null,null,null,null,null,0,null,null,0,null,null,0]
["Прыжки в открытый водоем","134",null,null,null,0,0,null,null,null,null,null,null,null,null,null,null,null,null,null,null,null,0,null,null,0,null,null,0]
["Прыжки на батуте - всего","135",{"$f":"IF(SUM(C144:C147)>=1,1,0)","v":0},{"$f":"IF(SUM(D144:D147)>=1,1,0)","v":0},null,0,0,{"$f":"SUM(H144:H147)","v":0},{"$f":"SUM(I144:I147)","v":0},0,0,0,0,0,0,0,0,0,0,0,0,0,0,0,0,0,0,0,0,0,0]
["в том числе:\nАкробатическая дорожка","136",null,null,null,0,0,null,null,null,null,null,null,null,null,null,null,null,null,null,null,null,0,null,null,0,null,null,0]
["Двойной минитрамп","137",null,null,null,0,0,null,null,null,null,null,null,null,null,null,null,null,null,null,null,null,0,null,null,0,null,null,0]
["Индивидуальные прыжки","138",null,null,null,0,0,null,null,null,null,null,null,null,null,null,null,null,null,null,null,null,0,null,null,0,null,null,0]
["Синхронные прыжки","139",null,null,null,0,0,null,null,null,null,null,null,null,null,null,null,null,null,null,null,null,0,null,null,0,null,null,0]
["Прыжки на лыжах с трамплина","140",null,null,null,0,0,null,null,null,null,null,null,null,null,null,null,null,null,null,null,null,0,null,null,0,null,null,0]
["Пулевая стрельба - всего","141",{"$f":"IF(SUM(C150:C154)>=1,1,0)","v":0},{"$f":"IF(SUM(D150:D154)>=1,1,0)","v":0},null,0,0,{"$f":"SUM(H150:H154)","v":0},{"$f":"SUM(I150:I154)","v":0},0,0,0,0,0,0,0,0,0,0,0,0,0,0,0,0,0,0,0,0,0,0]
["в том числе:\nПневматическая винтовка","142",null,null,null,0,0,null,null,null,null,null,null,null,null,null,null,null,null,null,null,null,0,null,null,0,null,null,0]
["Пневматический пистолет","143",null,null,null,0,0,null,null,null,null,null,null,null,null,null,null,null,null,null,null,null,0,null,null,0,null,null,0]
["Малокалиберная винтовка","144",null,null,null,0,0,null,null,null,null,null,null,null,null,null,null,null,null,null,null,null,0,null,null,0,null,null,0]
["Малокалиберный пистолет","145",null,null,null,0,0,null,null,null,null,null,null,null,null,null,null,null,null,null,null,null,0,null,null,0,null,null,0]
["Движущаяся мишень","146",null,null,null,0,0,null,null,null,null,null,null,null,null,null,null,null,null,null,null,null,0,null,null,0,null,null,0]
["Пэйнтбол","147",null,null,null,0,0,null,null,null,null,null,null,null,null,null,null,null,null,null,null,null,0,null,null,0,null,null,0]
["Радиоспорт","148",null,null,null,0,0,null,null,null,null,null,null,null,null,null,null,null,null,null,null,null,0,null,null,0,null,null,0]
["Рафтинг","149",null,null,null,0,0,null,null,null,null,null,null,null,null,null,null,null,null,null,null,null,0,null,null,0,null,null,0]
["Регби - всего","150",{"$f":"IF(SUM(C159:C163)>=1,1,0)","v":0},{"$f":"IF(SUM(D159:D163)>=1,1,0)","v":0},null,0,0,{"$f":"SUM(H159:H163)","v":0},{"$f":"SUM(I159:I163)","v":0},0,0,0,0,0,0,0,0,0,0,0,0,0,0,0,0,0,0,0,0,0,0]
["в том числе:\nРегби","151",null,null,null,0,0,null,null,null,null,null,null,null,null,null,null,null,null,null,null,null,0,null,null,0,null,null,0]
["Регби 7 (муж.)","152",null,null,null,0,0,null,null,null,null,null,null,null,null,null,null,null,null,null,null,null,0,null,null,0,null,null,0]
["Регби 7 (жен.)","153",null,null,null,0,0,null,null,null,null,null,null,null,null,null,{"$f":"G161","v":0},null,null,null,null,null,0,null,null,0,null,null,0]
["Регби - пляжное","154",null,null,null,0,0,null,null,null,null,null,null,null,null,null,null,null,null,null,null,null,0,null,null,0,null,null,0]
["Регби на снегу","155",null,null,null,0,0,null,null,null,null,null,null,null,null,null,null,null,null,null,null,null,0,null,null,0,null,null,0]
["Регбол","156",null,null,null,0,0,null,null,null,null,null,null,null,null,null,null,null,null,null,null,null,0,null,null,0,null,null,0]
["Роллер спорт","157",null,null,null,0,0,null,null,null,null,null,null,null,null,null,null,null,null,null,null,null,0,null,null,0,null,null,0]
["Роуп скиппинг (спортивная скакалка)","158",null,null,null,0,0,null,null,null,null,null,null,null,null,null,null,null,null,null,null,null,0,null,null,0,null,null,0]
["Рукопашный бой","159",null,null,null,0,0,null,null,null,null,null,null,null,null,null,null,null,null,null,null,null,0,null,null,0,null,null,0]
["Рыболовный спорт","160",null,null,null,0,0,null,null,null,null,null,null,null,null,null,null,null,null,null,null,null,0,null,null,0,null,null,0]
["Сават","161",null,null,null,0,0,null,null,null,null,null,null,null,null,null,null,null,null,null,null,null,0,null,null,0,null,null,0]
["Самбо","162",null,null,null,0,0,null,null,null,null,null,null,null,null,null,null,null,null,null,null,null,0,null,null,0,null,null,0]
["Самолетный спорт","163",null,null,null,0,0,null,null,null,null,null,null,null,null,null,null,null,null,null,null,null,0,null,null,0,null,null,0]
["Санный спорт","164",null,null,null,0,0,null,null,null,null,null,null,null,null,null,null,null,null,null,null,null,0,null,null,0,null,null,0]
["Северное многоборье","165",null,null,null,0,0,null,null,null,null,null,null,null,null,null,null,null,null,null,null,null,0,null,null,0,null,null,0]
["Серфинг","166",null,null,null,0,0,null,null,null,null,null,null,null,null,null,null,null,null,null,null,null,0,null,null,0,null,null,0]
["Силовой экстрим","167",null,null,null,0,0,null,null,null,null,null,null,null,null,null,null,null,null,null,null,null,0,null,null,0,null,null,0]
["Синхронное плавание","168",null,null,null,0,0,null,null,null,null,null,null,null,null,null,null,null,null,null,null,null,0,null,null,0,null,null,0]
["Скалолазание","169",null,null,null,0,0,null,null,null,null,null,null,null,null,null,null,null,null,null,null,null,0,null,null,0,null,null,0]
["Сквош","170",null,null,null,0,0,null,null,null,null,null,null,null,null,null,null,null,null,null,null,null,0,null,null,0,null,null,0]
["Скейтбординг","171",null,null,null,0,0,null,null,null,null,null,null,null,null,null,null,null,null,null,null,null,0,null,null,0,null,null,0]
["Служебно-боевая стрельба ","172",null,null,null,0,0,null,null,null,null,null,null,null,null,null,null,null,null,null,null,null,0,null,null,0,null,null,0]
["Служебно-прикладной спорт","173",null,null,null,0,0,null,null,null,null,null,null,null,null,null,null,null,null,null,null,null,0,null,null,0,null,null,0]
["Служебно-прикладной спорт ФСО России","174",null,null,null,0,0,null,null,null,null,null,null,null,null,null,null,null,null,null,null,null,0,null,null,0,null,null,0]
["Служебно-прикладной спорт ФТС России","175",null,null,null,0,0,null,null,null,null,null,null,null,null,null,null,null,null,null,null,null,0,null,null,0,null,null,0]
["Служебное двоеборье","176",null,null,null,0,0,null,null,null,null,null,null,null,null,null,null,null,null,null,null,null,0,null,null,0,null,null,0]
["Служебное единоборство","177",null,null,null,0,0,null,null,null,null,null,null,null,null,null,null,null,null,null,null,null,0,null,null,0,null,null,0]
["Служебное многоборье","178",null,null,null,0,0,null,null,null,null,null,null,null,null,null,null,null,null,null,null,null,0,null,null,0,null,null,0]
["Служебный биатлон","179",null,null,null,0,0,null,null,null,null,null,null,null,null,null,null,null,null,null,null,null,0,null,null,0,null,null,0]
["Спасательный спорт","180",null,null,null,0,0,null,null,null,null,null,null,null,null,null,null,null,null,null,null,null,0,null,null,0,null,null,0]
["Стрельба из боевого ручного стрелкового оружия","181",null,null,null,0,0,null,null,null,null,null,null,null,null,null,null,null,null,null,null,null,0,null,null,0,null,null,0]
["Стрельба из штатного или табельного оружия","182",null,null,null,0,0,null,null,null,null,null,null,null,null,null,null,null,null,null,null,null,0,null,null,0,null,null,0]
["Стрельба на дальние дистанции","183",null,null,null,0,0,null,null,null,null,null,null,null,null,null,null,null,null,null,null,null,0,null,null,0,null,null,0]
["Смешанное боевое единоборство (ММА)","184",null,null,null,0,0,null,null,null,null,null,null,null,null,null,null,null,null,null,null,null,0,null,null,0,null,null,0]
["Сноуборд","185",null,null,null,0,0,null,null,null,null,null,null,null,null,null,null,null,null,null,null,null,0,null,null,0,null,null,0]
["Современное пятиборье","186",null,null,null,0,0,null,null,null,null,null,null,null,null,null,null,null,null,null,null,null,0,null,null,0,null,null,0]
["Софтбол","187",null,null,null,0,0,null,null,null,null,null,null,null,null,null,null,null,null,null,null,null,0,null,null,0,null,null,0]
["Спорт сверхлегкой авиации","188",null,null,null,0,0,null,null,null,null,null,null,null,null,null,null,null,null,null,null,null,0,null,null,0,null,null,0]
["Спортивная акробатика","189",null,null,null,0,0,null,null,null,null,null,null,null,null,null,null,null,null,null,null,null,0,null,null,0,null,null,0]
["Спортивная аэробика","190",null,null,null,0,0,null,null,null,null,null,null,null,null,null,null,null,null,null,null,null,0,null,null,0,null,null,0]
["Спортивная борьба - всего","191",{"$f":"IF(SUM(C200:C204)>=1,1,0)","v":0},{"$f":"IF(SUM(D200:D204)>=1,1,0)","v":0},null,0,0,{"$f":"SUM(H200:H204)","v":0},{"$f":"SUM(I200:I204)","v":0},0,0,0,0,0,0,0,0,0,0,0,0,0,0,0,0,0,0,0,0,0,0]
["в том числе:\nВольная борьба","192",null,null,null,0,0,null,null,null,null,null,null,null,null,null,null,null,null,null,null,null,0,null,null,0,null,null,0]
["Греко-римская борьба","193",null,null,null,0,0,null,null,null,null,null,null,null,null,null,null,null,null,null,null,null,0,null,null,0,null,null,0]
["Грэпплинг","194",null,null,null,{"$f":"SUM(G202,W202)*IF(C202>0,1,0)","v":0},{"$f":"SUM(H202:L202)","v":0},null,null,null,null,null,null,null,null,null,null,null,null,null,null,null,{"$f":"SUM(X202,Z202)","v":0},null,null,{"$f":"SUM(AA202:AB202)","v":0},null,null,{"$f":"SUM(AD202:AE202)","v":0}]
["Грэпплинг-ги","195",null,null,null,0,0,null,null,null,null,null,null,null,null,null,null,null,null,null,null,null,0,null,null,0,null,null,0]
["Панкратион","196",null,null,null,0,0,null,null,null,null,null,null,null,null,null,null,null,null,null,null,null,0,null,null,0,null,null,0]
["Спортивная гимнастика","197",null,null,null,0,0,null,null,null,null,null,null,null,null,null,null,null,null,null,null,null,0,null,null,0,null,null,0]
["Спортивная йога","198",null,null,null,0,0,null,null,null,null,null,null,null,null,null,null,null,null,null,null,null,0,null,null,0,null,null,0]
["Спортивно-прикладное собаководство","199",null,null,null,0,0,null,null,null,null,null,null,null,null,null,null,null,null,null,null,null,0,null,null,0,null,null,0]
["Спортивное программирование","200",null,null,null,0,0,null,null,null,null,null,null,null,null,null,null,null,null,null,null,null,0,null,null,0,null,null,0]
["Спортивное метание ножа","201",null,null,null,0,0,null,null,null,null,null,null,null,null,null,null,null,null,null,null,null,0,null,null,0,null,null,0]
["Спортивное ориентирование","202",null,null,null,0,0,null,null,null,null,null,null,null,null,null,null,null,null,null,null,null,0,null,null,0,null,null,0]
["Спортивный бридж","203",null,null,null,0,0,null,null,null,null,null,null,null,null,null,null,null,null,null,null,null,0,null,null,0,null,null,0]
["Спортивный туризм","204",null,null,null,0,0,null,null,null,null,null,null,null,null,null,null,null,null,null,null,null,0,null,null,0,null,null,0]
["Стендовая стрельба - всего","205",{"$f":"IF(SUM(C214:C217)>=1,1,0)","v":0},{"$f":"IF(SUM(D214:D217)>=1,1,0)","v":0},null,0,0,{"$f":"SUM(H214:H217)","v":0},{"$f":"SUM(I214:I217)","v":0},0,0,0,0,0,0,0,0,0,0,0,0,0,0,0,0,0,0,0,0,0,0]
["в том числе:\nТрап","206",null,null,null,0,0,null,null,null,null,null,null,null,null,null,null,null,null,null,null,null,0,null,null,0,null,null,0]
["Скит","207",null,null,null,0,0,null,null,null,null,null,null,null,null,null,null,null,null,null,null,null,0,null,null,0,null,null,0]
["Дубль-трап","208",null,null,null,0,0,null,null,null,null,null,null,null,null,null,null,null,null,null,null,null,0,null,null,0,null,null,0]
["Спортинг","209",null,null,null,0,0,null,null,null,null,null,null,null,null,null,null,null,null,null,null,null,0,null,null,0,null,null,0]
["Страйкбол","210",null,null,null,0,0,null,null,null,null,null,null,null,null,null,null,null,null,null,null,null,0,null,null,0,null,null,0]
["Стрельба из арбалета","211",null,null,null,0,0,null,null,null,null,null,null,null,null,null,null,null,null,null,null,null,0,null,null,0,null,null,0]
["Стрельба из лука - всего","212",{"$f":"IF(SUM(C221:C223)>=1,1,0)","v":0},{"$f":"IF(SUM(D221:D223)>=1,1,0)","v":0},null,0,0,{"$f":"SUM(H221:H223)","v":0},{"$f":"SUM(I221:I223)","v":0},0,0,0,0,0,0,0,0,0,0,0,0,0,0,0,0,0,0,0,0,0,0]
["в том числе:\nКлассический лук","213",null,null,null,0,0,null,null,null,null,null,null,null,null,null,null,null,null,null,null,null,0,null,null,0,null,null,0]
["   Блочный лук","214",null,null,null,0,0,null,null,null,null,null,null,null,null,null,null,null,null,null,null,null,0,null,null,0,null,null,0]
["   Ачери ","215",null,null,null,0,0,null,null,null,null,null,null,null,null,null,null,null,null,null,null,null,0,null,null,0,null,null,0]
["Судомодельный спорт","216",null,null,null,0,0,null,null,null,null,null,null,null,null,null,null,null,null,null,null,null,0,null,null,0,null,null,0]
["Сумо","217",null,null,null,0,0,null,null,null,null,null,null,null,null,null,null,null,null,null,null,null,0,null,null,0,null,null,0]
["Таврели","218",null,null,null,0,0,null,null,null,null,null,null,null,null,null,null,null,null,null,null,null,0,null,null,0,null,null,0]
["Тайский бокс","219",null,null,null,0,0,null,null,null,null,null,null,null,null,null,null,null,null,null,null,null,0,null,null,0,null,null,0]
["Танцевальный спорт - всего","220",{"$f":"IF(SUM(C229:C230)>=1,1,0)","v":0},{"$f":"IF(SUM(D229:D230)>=1,1,0)","v":0},null,0,0,{"$f":"SUM(H229:H230)","v":0},{"$f":"SUM(I229:I230)","v":0},0,0,0,0,0,0,0,0,0,0,0,0,0,0,0,0,0,0,0,0,0,0]
["  в том числе:\n  Танцевальный спорт","221",null,null,null,0,0,null,null,null,null,null,null,null,null,null,null,null,null,null,null,null,0,null,null,0,null,null,0]
["Брейкинг","222",null,null,null,0,0,null,null,null,null,null,null,null,null,null,null,null,null,null,null,null,0,null,null,0,null,null,0]
["Теннис","223",null,null,null,0,0,null,null,null,null,null,null,null,null,null,null,null,null,null,null,null,0,null,null,0,null,null,0]
["Триатлон","224",null,null,null,0,0,null,null,null,null,null,null,null,null,null,null,null,null,null,null,null,0,null,null,0,null,null,0]
["Тхэквондо (ВТФ)","225",null,null,null,0,0,null,null,null,null,null,null,null,null,null,null,null,null,null,null,null,0,null,null,0,null,null,0]
["Тхэквондо ГТФ","226",null,null,null,0,0,null,null,null,null,null,null,null,null,null,null,null,null,null,null,null,0,null,null,0,null,null,0]
["Тхэквондо ИТФ","227",null,null,null,0,0,null,null,null,null,null,null,null,null,null,null,null,null,null,null,null,0,null,null,0,null,null,0]
["Тхэквондо МФТ","228",null,null,null,0,0,null,null,null,null,null,null,null,null,null,null,null,null,null,null,null,0,null,null,0,null,null,0]
["Тяжелая атлетика","229",null,null,null,0,0,null,null,null,null,null,null,null,null,null,null,null,null,null,null,null,0,null,null,0,null,null,0]
["Универсальный бой","230",null,null,null,0,0,null,null,null,null,null,null,null,null,null,null,null,null,null,null,null,0,null,null,0,null,null,0]
["Ушу","231",null,null,null,0,0,null,null,null,null,null,null,null,null,null,null,null,null,null,null,null,0,null,null,0,null,null,0]
["Фехтование - всего","232",{"$f":"IF(SUM(C241:C244)>=1,1,0)","v":0},{"$f":"IF(SUM(D241:D244)>=1,1,0)","v":0},null,0,0,{"$f":"SUM(H241:H244)","v":0},{"$f":"SUM(I241:I244)","v":0},0,0,0,0,0,0,0,0,0,0,0,0,0,0,0,0,0,0,0,0,0,0]
["в том числе:\nРапира","233",null,null,null,0,0,null,null,null,null,null,null,null,null,null,null,null,null,null,null,null,0,null,null,0,null,null,0]
["Сабля","234",null,null,null,0,0,null,null,null,null,null,null,null,null,null,null,null,null,null,null,null,0,null,null,0,null,null,0]
["Шпага","235",null,null,null,0,0,null,null,null,null,null,null,null,null,null,null,null,null,null,null,null,0,null,null,0,null,null,0]
["Арт-фехтование","236",null,null,null,0,0,null,null,null,null,null,null,null,null,null,null,null,null,null,null,null,0,null,null,0,null,null,0]
["Фигурное катание на коньках","237",null,null,null,0,0,null,null,null,null,null,null,null,null,null,null,null,null,null,null,null,0,null,null,0,null,null,0]
["Фитнес-аэробика","238",null,null,null,0,0,null,null,null,null,null,null,null,null,null,null,null,null,null,null,null,0,null,null,0,null,null,0]
["Флаинг диск","239",null,null,null,0,0,null,null,null,null,null,null,null,null,null,null,null,null,null,null,null,0,null,null,0,null,null,0]
["Флорбол","240",null,null,null,0,0,null,null,null,null,null,null,null,null,null,null,null,null,null,null,null,0,null,null,0,null,null,0]
["Фристайл - всего","241",{"$f":"IF(SUM(C250:C255)>=1,1,0)","v":0},{"$f":"IF(SUM(D250:D255)>=1,1,0)","v":0},null,0,0,{"$f":"SUM(H250:H255)","v":0},{"$f":"SUM(I250:I255)","v":0},0,0,0,0,0,0,0,0,0,0,0,0,0,0,0,0,0,0,0,0,0,0]
["в том числе:\nАкробатика","242",null,null,null,0,0,null,null,null,null,null,null,null,null,null,null,null,null,null,null,null,0,null,null,0,null,null,0]
["Биг-эйр","243",null,null,null,0,0,null,null,null,null,null,null,null,null,null,null,null,null,null,null,null,0,null,null,0,null,null,0]
["Могул","244",null,null,null,0,0,null,null,null,null,null,null,null,null,null,null,null,null,null,null,null,0,null,null,0,null,null,0]
["Ски-кросс","245",null,null,null,0,0,null,null,null,null,null,null,null,null,null,null,null,null,null,null,null,0,null,null,0,null,null,0]
["Хаф-пайп","246",null,null,null,0,0,null,null,null,null,null,null,null,null,null,null,null,null,null,null,null,0,null,null,0,null,null,0]
["Слоуп-стайл","247",null,null,null,0,0,null,null,null,null,null,null,null,null,null,null,null,null,null,null,null,0,null,null,0,null,null,0]
["Функциональное многоборье","248",null,null,null,0,0,null,null,null,null,null,null,null,null,null,null,null,null,null,null,null,0,null,null,0,null,null,0]
["Футбол - всего","249",{"$f":"IF(SUM(C258:C263)>=1,1,0)","v":0},{"$f":"IF(SUM(D258:D263)>=1,1,0)","v":0},null,0,0,{"$f":"SUM(H258:H263)","v":0},{"$f":"SUM(I258:I263)","v":0},0,0,0,0,0,0,0,0,0,0,0,0,0,0,0,0,0,0,0,0,0,0]
["в том числе:\nФутбол (муж.)","250",null,null,null,0,0,null,null,null,null,null,null,null,null,null,null,null,null,null,null,null,0,null,null,0,null,null,0]
["Футбол (жен.)","251",null,null,null,0,0,null,null,null,null,null,null,null,null,null,{"$f":"G259","v":0},null,null,null,null,null,0,null,null,0,null,null,0]
["Мини-футбол (футзал)","252",null,null,null,0,0,null,null,null,null,null,null,null,null,null,null,null,null,null,null,null,0,null,null,0,null,null,0]
["Пляжный футбол","253",null,null,null,0,0,null,null,null,null,null,null,null,null,null,null,null,null,null,null,null,0,null,null,0,null,null,0]
["Футбол 6х6, 7х7, 8х8","254",null,null,null,0,0,null,null,null,null,null,null,null,null,null,null,null,null,null,null,null,0,null,null,0,null,null,0]
["Интерактивный футбол","255",null,null,null,0,0,null,null,null,null,null,null,null,null,null,null,null,null,null,null,null,0,null,null,0,null,null,0]
["Хапкидо","256",null,null,null,0,0,null,null,null,null,null,null,null,null,null,null,null,null,null,null,null,0,null,null,0,null,null,0]
["Хапсагай","257",null,null,null,0,0,null,null,null,null,null,null,null,null,null,null,null,null,null,null,null,0,null,null,0,null,null,0]
["Хоккей - всего","258",{"$f":"IF(SUM(C267:C268)>=1,1,0)","v":0},{"$f":"IF(SUM(D267:D268)>=1,1,0)","v":0},null,{"$f":"SUM(G266,W266)*IF(C266>0,1,0)","v":0},{"$f":"SUM(H266:L266)","v":0},{"$f":"SUM(H267:H268)","v":0},{"$f":"SUM(I267:I268)","v":0},0,0,0,0,0,0,0,0,0,0,0,0,0,0,0,0,0,0,0,0,0,0]
["в том числе:\nХоккей (муж.)","259",null,null,null,0,0,null,null,null,null,null,null,null,null,null,null,null,null,null,null,null,{"$f":"SUM(X267,Z267)","v":0},null,null,{"$f":"SUM(AA267:AB267)","v":0},null,null,{"$f":"SUM(AD267:AE267)","v":0}]
["Хоккей (жен.)","260",null,null,null,0,0,null,null,null,null,null,null,null,null,null,{"$f":"G268","v":0},null,null,null,null,null,0,null,null,0,null,null,0]
["Хоккей на траве - всего","261",{"$f":"IF(SUM(C270:C272)>=1,1,0)","v":0},{"$f":"IF(SUM(D270:D272)>=1,1,0)","v":0},null,0,0,{"$f":"SUM(H270:H272)","v":0},{"$f":"SUM(I270:I272)","v":0},0,0,0,0,0,0,0,0,0,0,0,0,0,0,0,0,0,0,0,0,0,0]
["в том числе:\nХоккей на траве (муж.)","262",null,null,null,0,0,null,null,null,null,null,null,null,null,null,null,null,null,null,null,null,0,null,null,0,null,null,0]
["Хоккей на траве (жен.)","263",null,null,null,0,0,null,null,null,null,null,null,null,null,null,{"$f":"G271","v":0},null,null,null,null,null,0,null,null,0,null,null,0]
["Индорхоккей","264",null,null,null,0,0,null,null,null,null,null,null,null,null,null,null,null,null,null,null,null,0,null,null,0,null,null,0]
["Хоккей с мячом","265",null,null,null,0,0,null,null,null,null,null,null,null,null,null,null,null,null,null,null,null,0,null,null,0,null,null,0]
["Художественная гимнастика","266",null,null,null,0,0,null,null,null,null,null,null,null,null,null,null,null,null,null,null,null,0,null,null,0,null,null,0]
["Хуреш","267",null,null,null,0,0,null,null,null,null,null,null,null,null,null,null,null,null,null,null,null,0,null,null,0,null,null,0]
["Чир спорт","268",null,null,null,0,0,null,null,null,null,null,null,null,null,null,null,null,null,null,null,null,0,null,null,0,null,null,0]
["Шахматы","269",1,null,null,30,30,15,15,null,null,null,null,30,null,null,null,null,null,null,null,null,0,null,null,0,null,null,0]
["Шашки","270",null,null,null,0,0,null,null,null,null,null,null,null,null,null,null,null,null,null,null,null,0,null,null,0,null,null,0]
["Шодсанлат","271",null,null,null,0,0,null,null,null,null,null,null,null,null,null,null,null,null,null,null,null,0,null,null,0,null,null,0]
["Эстетическая гимнастика","272",null,null,null,0,0,null,null,null,null,null,null,null,null,null,null,null,null,null,null,null,0,null,null,0,null,null,0]
["Якутские национальные прыжки","273",null,null,null,0,0,null,null,null,null,null,null,null,null,null,null,null,null,null,null,null,0,null,null,0,null,null,0]
["ИТОГО","274",{"$f":"SUM(C9:C22,C26:C29,C32:C37,C48:C53,C58:C60,C42:C45,C64:C74,C79:C89,C93:C100,C103:C107,C115:C118,C119:C132,C135:C140,C143,C148:C149,C155:C158,C164:C165,C166:C180,C181:C199,C205:C210,C211:C213,C218:C220,C224:C228,C231:C240,C245:C249,C256:C257,C264:C266,C269,C273:C281)","v":7},{"$f":"SUM(D9:D22,D26:D29,D32:D37,D48:D53,D58:D60,D42:D45,D64:D74,D79:D89,D93:D100,D103:D107,D115:D118,D119:D132,D135:D140,D143,D148:D149,D155:D158,D164:D165,D166:D180,D181:D199,D205:D210,D211:D213,D218:D220,D224:D228,D231:D240,D245:D249,D256:D257,D264:D266,D269,D273:D281)","v":0},null,{"$f":"SUM(F9:F22,F26:F29,F32:F37,F48:F53,F58:F60,F42:F45,F64:F74,F79:F89,F93:F100,F103:F107,F115:F118,F119:F132,F135:F140,F143,F148:F149,F155:F158,F164:F165,F166:F180,F181:F199,F205:F210,F211:F213,F218:F220,F224:F228,F231:F240,F245:F249,F256:F257,F264:F266,F269,F273:F281)","v":1426},1426,628,609,189,0,0,0,1426,0,0,356,240,0,0,0,0,0,0,0,0,0,0,0,0,0]

{"sheet":"Раздел3","index":3,"n_rows":281,"n_cols":36,"rows_kept":281,"cut":false,"hidden":false,"merged":[[3,26,5,26],[0,0,0,30],[1,26,1,30],[3,27,4,30],[4,3,4,5],[4,6,4,10],[4,11,4,15],[4,16,4,20],[2,0,5,0],[2,1,5,1],[2,2,2,20],[2,21,2,25],[2,26,2,30],[3,2,5,2],[3,3,3,20],[3,21,5,21],[3,22,4,25]]}
["Раздел III. Численность занимающихся по программам спортивной подготовки"]
[null,null,null,null,null,null,null,null,null,null,null,null,null,null,null,null,null,null,null,null,null,null,null,null,null,null,"Код по ОКЕИ: человек – 792"]
["Виды спорта","№ строки","Число занимающихся по программам спортивной подготовки на 31 декабря отчетного года (из гр. 9-12 раздела II)",null,null,null,null,null,null,null,null,null,null,null,null,null,null,null,null,null,null,"Число занимающихся, зачисленных на программы \nспортивной подготовки в отчетном году",null,null,null,null,"Число занимающихся, отчисленных с программ \nспортивной подготовки в отчетном году"]
[null,null,"всего","в том числе по этапам и годам подготовки",null,null,null,null,null,null,null,null,null,null,null,null,null,null,null,null,null,"всего","в том числе по этапам подготовки",null,null,null,"всего","в том числе по этапам подготовки"]
[null,null,null,"начальной подготовки",null,null,"тренировочный",null,null,null,null,"совершенствования спортивного мастерства",null,null,null,null,"высшего спортивного мастерства"]
[null,null,null,1,2,"более 2",1,2,3,4,5,1,2,3,4,"более 4",1,2,3,4,"более 4",null,"начальной подготовки","трениро-вочный","совершен-ствования спортивного мастерства","высшего спортивного мастерства",null,"начальной подготовки","трениро-вочный","совершен-ствования спортивного мастерства","высшего спортивного мастерства"]
[1,2,3,4,5,6,7,8,9,10,11,12,13,14,15,16,17,18,19,20,21,22,23,24,25,26,27,28,29,30,31,"2р","нп","тр","сов","выс"]
["Авиамодельный спорт","01",{"$f":"SUM(D8:U8)","v":0},null,null,null,null,null,null,null,null,null,null,null,null,null,null,null,null,null,null,{"$f":"SUM(W8:Z8)","v":0},null,null,null,null,{"$f":"SUM(AB8:AE8)","v":0},null,null,null,null,{"$f":"Раздел2!C9","v":0},{"$f":"Раздел2!I9","v":0},{"$f":"Раздел2!J9","v":0},{"$f":"Раздел2!K9","v":0},{"$f":"Раздел2!L9","v":0}]
["Авиационные гонки","02",{"$f":"SUM(D9:U9)","v":0},null,null,null,null,null,null,null,null,null,null,null,null,null,null,null,null,null,null,{"$f":"SUM(W9:Z9)","v":0},null,null,null,null,{"$f":"SUM(AB9:AE9)","v":0},null,null,null,null,{"$f":"Раздел2!C10","v":0},{"$f":"Раздел2!I10","v":0},{"$f":"Раздел2!J10","v":0},{"$f":"Раздел2!K10","v":0},{"$f":"Раздел2!L10","v":0}]
["Автомобильный спорт","03",0,null,null,null,null,null,null,null,null,null,null,null,null,null,null,null,null,null,null,0,null,null,null,null,0,null,null,null,null,{"$f":"Раздел2!C11","v":0},{"$f":"Раздел2!I11","v":0},{"$f":"Раздел2!J11","v":0},{"$f":"Раздел2!K11","v":0},{"$f":"Раздел2!L11","v":0}]
["Автомодельный спорт","04",0,null,null,null,null,null,null,null,null,null,null,null,null,null,null,null,null,null,null,0,null,null,null,null,0,null,null,null,null,{"$f":"Раздел2!C12","v":0},{"$f":"Раздел2!I12","v":0},{"$f":"Раздел2!J12","v":0},{"$f":"Раздел2!K12","v":0},{"$f":"Раздел2!L12","v":0}]
["Айкидо","05",0,null,null,null,null,null,null,null,null,null,null,null,null,null,null,null,null,null,null,0,null,null,null,null,0,null,null,null,null,{"$f":"Раздел2!C13","v":0},{"$f":"Раздел2!I13","v":0},{"$f":"Раздел2!J13","v":0},{"$f":"Раздел2!K13","v":0},{"$f":"Раздел2!L13","v":0}]
["Айсшток","06",0,null,null,null,null,null,null,null,null,null,null,null,null,null,null,null,null,null,null,0,null,null,null,null,0,null,null,null,null,{"$f":"Раздел2!C14","v":0},{"$f":"Раздел2!I14","v":0},{"$f":"Раздел2!J14","v":0},{"$f":"Раздел2!K14","v":0},{"$f":"Раздел2!L14","v":0}]
["Акробатический рок-н-ролл","07",0,null,null,null,null,null,null,null,null,null,null,null,null,null,null,null,null,null,null,0,null,null,null,null,0,null,null,null,null,{"$f":"Раздел2!C15","v":0},{"$f":"Раздел2!I15","v":0},{"$f":"Раздел2!J15","v":0},{"$f":"Раздел2!K15","v":0},{"$f":"Раздел2!L15","v":0}]
["Альпинизм","08",0,null,null,null,null,null,null,null,null,null,null,null,null,null,null,null,null,null,null,0,null,null,null,null,0,null,null,null,null,{"$f":"Раздел2!C16","v":0},{"$f":"Раздел2!I16","v":0},{"$f":"Раздел2!J16","v":0},{"$f":"Раздел2!K16","v":0},{"$f":"Раздел2!L16","v":0}]
["Американский футбол","09",0,null,null,null,null,null,null,null,null,null,null,null,null,null,null,null,null,null,null,0,null,null,null,null,0,null,null,null,null,{"$f":"Раздел2!C17","v":0},{"$f":"Раздел2!I17","v":0},{"$f":"Раздел2!J17","v":0},{"$f":"Раздел2!K17","v":0},{"$f":"Раздел2!L17","v":0}]
["Армейский рукопашный бой","10",0,null,null,null,null,null,null,null,null,null,null,null,null,null,null,null,null,null,null,0,null,null,null,null,0,null,null,null,null,{"$f":"Раздел2!C18","v":0},{"$f":"Раздел2!I18","v":0},{"$f":"Раздел2!J18","v":0},{"$f":"Раздел2!K18","v":0},{"$f":"Раздел2!L18","v":0}]
["Армейское тактико-стрелковое многоборье","11",0,null,null,null,null,null,null,null,null,null,null,null,null,null,null,null,null,null,null,0,null,null,null,null,0,null,null,null,null,{"$f":"Раздел2!C19","v":0},{"$f":"Раздел2!I19","v":0},{"$f":"Раздел2!J19","v":0},{"$f":"Раздел2!K19","v":0},{"$f":"Раздел2!L19","v":0}]
["Армрестлинг","12",0,null,null,null,null,null,null,null,null,null,null,null,null,null,null,null,null,null,null,0,null,null,null,null,0,null,null,null,null,{"$f":"Раздел2!C20","v":0},{"$f":"Раздел2!I20","v":0},{"$f":"Раздел2!J20","v":0},{"$f":"Раздел2!K20","v":0},{"$f":"Раздел2!L20","v":0}]
["Бадминтон","13",0,null,null,null,null,null,null,null,null,null,null,null,null,null,null,null,null,null,null,0,null,null,null,null,0,null,null,null,null,{"$f":"Раздел2!C21","v":0},{"$f":"Раздел2!I21","v":0},{"$f":"Раздел2!J21","v":0},{"$f":"Раздел2!K21","v":0},{"$f":"Раздел2!L21","v":0}]
["Баскетбол - всего","14",174,{"$f":"SUM(D22:D24)","v":45},{"$f":"SUM(E22:E24)","v":95},0,12,4,18,0,0,0,0,0,0,0,0,0,0,0,0,174,140,34,0,0,50,32,18,0,0,{"$f":"Раздел2!C22","v":1},{"$f":"Раздел2!I22","v":140},{"$f":"Раздел2!J22","v":34},{"$f":"Раздел2!K22","v":0},{"$f":"Раздел2!L22","v":0}]
["в том числе:\nБаскетбол (муж.)","15",120,20,75,null,8,4,13,null,null,null,null,null,null,null,null,null,null,null,null,174,140,34,null,null,35,17,18,null,null,{"$f":"Раздел2!C23","v":1},{"$f":"Раздел2!I23","v":95},{"$f":"Раздел2!J23","v":25},{"$f":"Раздел2!K23","v":0},{"$f":"Раздел2!L23","v":0}]
["Баскетбол (жен.)","16",54,25,20,null,4,null,5,null,null,null,null,null,null,null,null,null,null,null,null,0,null,null,null,null,15,15,null,null,null,{"$f":"Раздел2!C24","v":1},{"$f":"Раздел2!I24","v":45},{"$f":"Раздел2!J24","v":9},{"$f":"Раздел2!K24","v":0},{"$f":"Раздел2!L24","v":0}]
["Баскетбол 3х3","17",0,null,null,null,null,null,null,null,null,null,null,null,null,null,null,null,null,null,null,0,null,null,null,null,0,null,null,null,null,{"$f":"Раздел2!C25","v":0},{"$f":"Раздел2!I25","v":0},{"$f":"Раздел2!J25","v":0},{"$f":"Раздел2!K25","v":0},{"$f":"Раздел2!L25","v":0}]
["Бейсбол","18",0,null,null,null,null,null,null,null,null,null,null,null,null,null,null,null,null,null,null,0,null,null,null,null,0,null,null,null,null,{"$f":"Раздел2!C26","v":0},{"$f":"Раздел2!I26","v":0},{"$f":"Раздел2!J26","v":0},{"$f":"Раздел2!K26","v":0},{"$f":"Раздел2!L26","v":0}]
["Биатлон","19",51,10,30,2,3,3,2,1,null,null,null,null,null,null,null,null,null,null,null,51,42,9,null,null,17,12,5,null,null,{"$f":"Раздел2!C27","v":1},{"$f":"Раздел2!I27","v":42},{"$f":"Раздел2!J27","v":9},{"$f":"Раздел2!K27","v":0},{"$f":"Раздел2!L27","v":0}]
["Бильярдный спорт","20",0,null,null,null,null,null,null,null,null,null,null,null,null,null,null,null,null,null,null,0,null,null,null,null,0,null,null,null,null,{"$f":"Раздел2!C28","v":0},{"$f":"Раздел2!I28","v":0},{"$f":"Раздел2!J28","v":0},{"$f":"Раздел2!K28","v":0},{"$f":"Раздел2!L28","v":0}]
["Бобслей - всего","21",0,{"$f":"SUM(D29:D30)","v":0},{"$f":"SUM(E29:E30)","v":0},0,0,0,0,0,0,0,0,0,0,0,0,0,0,0,0,0,0,0,0,0,0,0,0,0,0,{"$f":"Раздел2!C29","v":0},{"$f":"Раздел2!I29","v":0},{"$f":"Раздел2!J29","v":0},{"$f":"Раздел2!K29","v":0},{"$f":"Раздел2!L29","v":0}]
["в том числе:\nБобслей","22",0,null,null,null,null,null,null,null,null,null,null,null,null,null,null,null,null,null,null,0,null,null,null,null,0,null,null,null,null,{"$f":"Раздел2!C30","v":0},{"$f":"Раздел2!I30","v":0},{"$f":"Раздел2!J30","v":0},{"$f":"Раздел2!K30","v":0},{"$f":"Раздел2!L30","v":0}]
["Скелетон","23",0,null,null,null,null,null,null,null,null,null,null,null,null,null,null,null,null,null,null,0,null,null,null,null,0,null,null,null,null,{"$f":"Раздел2!C31","v":0},{"$f":"Раздел2!I31","v":0},{"$f":"Раздел2!J31","v":0},{"$f":"Раздел2!K31","v":0},{"$f":"Раздел2!L31","v":0}]
["Бодибилдинг","24",0,null,null,null,null,null,null,null,null,null,null,null,null,null,null,null,null,null,null,0,null,null,null,null,0,null,null,null,null,{"$f":"Раздел2!C32","v":0},{"$f":"Раздел2!I32","v":0},{"$f":"Раздел2!J32","v":0},{"$f":"Раздел2!K32","v":0},{"$f":"Раздел2!L32","v":0}]
["Бокс","25",60,60,null,null,null,null,null,null,null,null,null,null,null,null,null,null,null,null,null,60,60,null,null,null,75,75,null,null,null,{"$f":"Раздел2!C33","v":1},{"$f":"Раздел2!I33","v":60},{"$f":"Раздел2!J33","v":0},{"$f":"Раздел2!K33","v":0},{"$f":"Раздел2!L33","v":0}]
["Борьба на поясах","26",0,null,null,null,null,null,null,null,null,null,null,null,null,null,null,null,null,null,null,0,null,null,null,null,0,null,null,null,null,{"$f":"Раздел2!C34","v":0},{"$f":"Раздел2!I34","v":0},{"$f":"Раздел2!J34","v":0},{"$f":"Раздел2!K34","v":0},{"$f":"Раздел2!L34","v":0}]
["Боулинг","27",0,null,null,null,null,null,null,null,null,null,null,null,null,null,null,null,null,null,null,0,null,null,null,null,0,null,null,null,null,{"$f":"Раздел2!C35","v":0},{"$f":"Раздел2!I35","v":0},{"$f":"Раздел2!J35","v":0},{"$f":"Раздел2!K35","v":0},{"$f":"Раздел2!L35","v":0}]
["Боулспорт","28",0,null,null,null,null,null,null,null,null,null,null,null,null,null,null,null,null,null,null,0,null,null,null,null,0,null,null,null,null,{"$f":"Раздел2!C36","v":0},{"$f":"Раздел2!I36","v":0},{"$f":"Раздел2!J36","v":0},{"$f":"Раздел2!K36","v":0},{"$f":"Раздел2!L36","v":0}]
["Велосипедный спорт - всего","29",0,{"$f":"SUM(D37:D40)","v":0},{"$f":"SUM(E37:E40)","v":0},0,0,0,0,0,0,0,0,0,0,0,0,0,0,0,0,0,0,0,0,0,0,0,0,0,0,{"$f":"Раздел2!C37","v":0},{"$f":"Раздел2!I37","v":0},{"$f":"Раздел2!J37","v":0},{"$f":"Раздел2!K37","v":0},{"$f":"Раздел2!L37","v":0}]
["в том числе:\nBMX","30",0,null,null,null,null,null,null,null,null,null,null,null,null,null,null,null,null,null,null,0,null,null,null,null,0,null,null,null,null,{"$f":"Раздел2!C38","v":0},{"$f":"Раздел2!I38","v":0},{"$f":"Раздел2!J38","v":0},{"$f":"Раздел2!K38","v":0},{"$f":"Раздел2!L38","v":0}]
["Маунтинбайк","31",0,null,null,null,null,null,null,null,null,null,null,null,null,null,null,null,null,null,null,0,null,null,null,null,0,null,null,null,null,{"$f":"Раздел2!C39","v":0},{"$f":"Раздел2!I39","v":0},{"$f":"Раздел2!J39","v":0},{"$f":"Раздел2!K39","v":0},{"$f":"Раздел2!L39","v":0}]
["Трек","32",0,null,null,null,null,null,null,null,null,null,null,null,null,null,null,null,null,null,null,0,null,null,null,null,0,null,null,null,null,{"$f":"Раздел2!C40","v":0},{"$f":"Раздел2!I40","v":0},{"$f":"Раздел2!J40","v":0},{"$f":"Раздел2!K40","v":0},{"$f":"Раздел2!L40","v":0}]
["Шоссе","33",0,null,null,null,null,null,null,null,null,null,null,null,null,null,null,null,null,null,null,0,null,null,null,null,0,null,null,null,null,{"$f":"Раздел2!C41","v":0},{"$f":"Раздел2!I41","v":0},{"$f":"Раздел2!J41","v":0},{"$f":"Раздел2!K41","v":0},{"$f":"Раздел2!L41","v":0}]
["Вертолетный спорт","34",0,null,null,null,null,null,null,null,null,null,null,null,null,null,null,null,null,null,null,0,null,null,null,null,0,null,null,null,null,{"$f":"Раздел2!C42","v":0},{"$f":"Раздел2!I42","v":0},{"$f":"Раздел2!J42","v":0},{"$f":"Раздел2!K42","v":0},{"$f":"Раздел2!L42","v":0}]
["Водно-моторный спорт","35",0,null,null,null,null,null,null,null,null,null,null,null,null,null,null,null,null,null,null,0,null,null,null,null,0,null,null,null,null,{"$f":"Раздел2!C43","v":0},{"$f":"Раздел2!I43","v":0},{"$f":"Раздел2!J43","v":0},{"$f":"Раздел2!K43","v":0},{"$f":"Раздел2!L43","v":0}]
["Водно-спасательное многоборье","36",0,null,null,null,null,null,null,null,null,null,null,null,null,null,null,null,null,null,null,0,null,null,null,null,0,null,null,null,null,{"$f":"Раздел2!C44","v":0},{"$f":"Раздел2!I44","v":0},{"$f":"Раздел2!J44","v":0},{"$f":"Раздел2!K44","v":0},{"$f":"Раздел2!L44","v":0}]
["Водное поло - всего ","37",0,{"$f":"SUM(D45:D46)","v":0},{"$f":"SUM(E45:E46)","v":0},0,0,0,0,0,0,0,0,0,0,0,0,0,0,0,0,0,0,0,0,0,0,0,0,0,0,{"$f":"Раздел2!C45","v":0},{"$f":"Раздел2!I45","v":0},{"$f":"Раздел2!J45","v":0},{"$f":"Раздел2!K45","v":0},{"$f":"Раздел2!L45","v":0}]
["в том числе:\nВодное поло (муж.)","38",0,null,null,null,null,null,null,null,null,null,null,null,null,null,null,null,null,null,null,0,null,null,null,null,0,null,null,null,null,{"$f":"Раздел2!C46","v":0},{"$f":"Раздел2!I46","v":0},{"$f":"Раздел2!J46","v":0},{"$f":"Раздел2!K46","v":0},{"$f":"Раздел2!L46","v":0}]
["Водное поло (жен.)","39",0,null,null,null,null,null,null,null,null,null,null,null,null,null,null,null,null,null,null,0,null,null,null,null,0,null,null,null,null,{"$f":"Раздел2!C47","v":0},{"$f":"Раздел2!I47","v":0},{"$f":"Раздел2!J47","v":0},{"$f":"Раздел2!K47","v":0},{"$f":"Раздел2!L47","v":0}]
["Воднолыжный спорт","40",0,null,null,null,null,null,null,null,null,null,null,null,null,null,null,null,null,null,null,0,null,null,null,null,0,null,null,null,null,{"$f":"Раздел2!C48","v":0},{"$f":"Раздел2!I48","v":0},{"$f":"Раздел2!J48","v":0},{"$f":"Раздел2!K48","v":0},{"$f":"Раздел2!L48","v":0}]
["Военно-прикладной спорт","41",0,null,null,null,null,null,null,null,null,null,null,null,null,null,null,null,null,null,null,0,null,null,null,null,0,null,null,null,null,{"$f":"Раздел2!C49","v":0},{"$f":"Раздел2!I49","v":0},{"$f":"Раздел2!J49","v":0},{"$f":"Раздел2!K49","v":0},{"$f":"Раздел2!L49","v":0}]
["Военно-спортивное многоборье","42",0,null,null,null,null,null,null,null,null,null,null,null,null,null,null,null,null,null,null,0,null,null,null,null,0,null,null,null,null,{"$f":"Раздел2!C50","v":0},{"$f":"Раздел2!I50","v":0},{"$f":"Раздел2!J50","v":0},{"$f":"Раздел2!K50","v":0},{"$f":"Раздел2!L50","v":0}]
["Воздухоплавательный спорт","43",0,null,null,null,null,null,null,null,null,null,null,null,null,null,null,null,null,null,null,0,null,null,null,null,0,null,null,null,null,{"$f":"Раздел2!C51","v":0},{"$f":"Раздел2!I51","v":0},{"$f":"Раздел2!J51","v":0},{"$f":"Раздел2!K51","v":0},{"$f":"Раздел2!L51","v":0}]
["Воздушно-силовая атлетика","44",0,null,null,null,null,null,null,null,null,null,null,null,null,null,null,null,null,null,null,0,null,null,null,null,0,null,null,null,null,{"$f":"Раздел2!C52","v":0},{"$f":"Раздел2!I52","v":0},{"$f":"Раздел2!J52","v":0},{"$f":"Раздел2!K52","v":0},{"$f":"Раздел2!L52","v":0}]
["Волейбол - всего","45",0,{"$f":"SUM(D53:D56)","v":0},{"$f":"SUM(E53:E56)","v":0},0,0,0,0,0,0,0,0,0,0,0,0,0,0,0,0,0,0,0,0,0,0,0,0,0,0,{"$f":"Раздел2!C53","v":0},{"$f":"Раздел2!I53","v":0},{"$f":"Раздел2!J53","v":0},{"$f":"Раздел2!K53","v":0},{"$f":"Раздел2!L53","v":0}]
["в том числе:\nВолейбол (муж.)","46",0,null,null,null,null,null,null,null,null,null,null,null,null,null,null,null,null,null,null,0,null,null,null,null,0,null,null,null,null,{"$f":"Раздел2!C54","v":0},{"$f":"Раздел2!I54","v":0},{"$f":"Раздел2!J54","v":0},{"$f":"Раздел2!K54","v":0},{"$f":"Раздел2!L54","v":0}]
["Волейбол (жен.)","47",0,null,null,null,null,null,null,null,null,null,null,null,null,null,null,null,null,null,null,0,null,null,null,null,0,null,null,null,null,{"$f":"Раздел2!C55","v":0},{"$f":"Раздел2!I55","v":0},{"$f":"Раздел2!J55","v":0},{"$f":"Раздел2!K55","v":0},{"$f":"Раздел2!L55","v":0}]
["Пляжный волейбол (муж.)","48",0,null,null,null,null,null,null,null,null,null,null,null,null,null,null,null,null,null,null,0,null,null,null,null,0,null,null,null,null,{"$f":"Раздел2!C56","v":0},{"$f":"Раздел2!I56","v":0},{"$f":"Раздел2!J56","v":0},{"$f":"Раздел2!K56","v":0},{"$f":"Раздел2!L56","v":0}]
["Пляжный волейбол (жен.)","49",0,null,null,null,null,null,null,null,null,null,null,null,null,null,null,null,null,null,null,0,null,null,null,null,0,null,null,null,null,{"$f":"Раздел2!C57","v":0},{"$f":"Раздел2!I57","v":0},{"$f":"Раздел2!J57","v":0},{"$f":"Раздел2!K57","v":0},{"$f":"Раздел2!L57","v":0}]
["Восточное боевое единоборство","50",0,null,null,null,null,null,null,null,null,null,null,null,null,null,null,null,null,null,null,0,null,null,null,null,0,null,null,null,null,{"$f":"Раздел2!C58","v":0},{"$f":"Раздел2!I58","v":0},{"$f":"Раздел2!J58","v":0},{"$f":"Раздел2!K58","v":0},{"$f":"Раздел2!L58","v":0}]
["Всестилевое каратэ","51",0,null,null,null,null,null,null,null,null,null,null,null,null,null,null,null,null,null,null,0,null,null,null,null,0,null,null,null,null,{"$f":"Раздел2!C59","v":0},{"$f":"Раздел2!I59","v":0},{"$f":"Раздел2!J59","v":0},{"$f":"Раздел2!K59","v":0},{"$f":"Раздел2!L59","v":0}]
["Гандбол - всего","52",0,{"$f":"SUM(D60:D62)","v":0},{"$f":"SUM(E60:E62)","v":0},0,0,0,0,0,0,0,0,0,0,0,0,0,0,0,0,0,0,0,0,0,0,0,0,0,0,{"$f":"Раздел2!C60","v":0},{"$f":"Раздел2!I60","v":0},{"$f":"Раздел2!J60","v":0},{"$f":"Раздел2!K60","v":0},{"$f":"Раздел2!L60","v":0}]
["в том числе:\nГандбол (муж.)","53",0,null,null,null,null,null,null,null,null,null,null,null,null,null,null,null,null,null,null,0,null,null,null,null,0,null,null,null,null,{"$f":"Раздел2!C61","v":0},{"$f":"Раздел2!I61","v":0},{"$f":"Раздел2!J61","v":0},{"$f":"Раздел2!K61","v":0},{"$f":"Раздел2!L61","v":0}]
["Гандбол (жен.)","54",0,null,null,null,null,null,null,null,null,null,null,null,null,null,null,null,null,null,null,0,null,null,null,null,0,null,null,null,null,{"$f":"Раздел2!C62","v":0},{"$f":"Раздел2!I62","v":0},{"$f":"Раздел2!J62","v":0},{"$f":"Раздел2!K62","v":0},{"$f":"Раздел2!L62","v":0}]
["Пляжный гандбол","55",0,null,null,null,null,null,null,null,null,null,null,null,null,null,null,null,null,null,null,0,null,null,null,null,0,null,null,null,null,{"$f":"Раздел2!C63","v":0},{"$f":"Раздел2!I63","v":0},{"$f":"Раздел2!J63","v":0},{"$f":"Раздел2!K63","v":0},{"$f":"Раздел2!L63","v":0}]
["Гиревой спорт","56",0,null,null,null,null,null,null,null,null,null,null,null,null,null,null,null,null,null,null,0,null,null,null,null,0,null,null,null,null,{"$f":"Раздел2!C64","v":0},{"$f":"Раздел2!I64","v":0},{"$f":"Раздел2!J64","v":0},{"$f":"Раздел2!K64","v":0},{"$f":"Раздел2!L64","v":0}]
["Го","57",0,null,null,null,null,null,null,null,null,null,null,null,null,null,null,null,null,null,null,0,null,null,null,null,0,null,null,null,null,{"$f":"Раздел2!C65","v":0},{"$f":"Раздел2!I65","v":0},{"$f":"Раздел2!J65","v":0},{"$f":"Раздел2!K65","v":0},{"$f":"Раздел2!L65","v":0}]
["Гольф","58",0,null,null,null,null,null,null,null,null,null,null,null,null,null,null,null,null,null,null,0,null,null,null,null,0,null,null,null,null,{"$f":"Раздел2!C66","v":0},{"$f":"Раздел2!I66","v":0},{"$f":"Раздел2!J66","v":0},{"$f":"Раздел2!K66","v":0},{"$f":"Раздел2!L66","v":0}]
["Гонки на охотничьих лыжах","59",0,null,null,null,null,null,null,null,null,null,null,null,null,null,null,null,null,null,null,0,null,null,null,null,0,null,null,null,null,{"$f":"Раздел2!C67","v":0},{"$f":"Раздел2!I67","v":0},{"$f":"Раздел2!J67","v":0},{"$f":"Раздел2!K67","v":0},{"$f":"Раздел2!L67","v":0}]
["Гонки с препятствиями","60",0,null,null,null,null,null,null,null,null,null,null,null,null,null,null,null,null,null,null,0,null,null,null,null,0,null,null,null,null,{"$f":"Раздел2!C68","v":0},{"$f":"Раздел2!I68","v":0},{"$f":"Раздел2!J68","v":0},{"$f":"Раздел2!K68","v":0},{"$f":"Раздел2!L68","v":0}]
["Горнолыжный спорт","61",0,null,null,null,null,null,null,null,null,null,null,null,null,null,null,null,null,null,null,0,null,null,null,null,0,null,null,null,null,{"$f":"Раздел2!C69","v":0},{"$f":"Раздел2!I69","v":0},{"$f":"Раздел2!J69","v":0},{"$f":"Раздел2!K69","v":0},{"$f":"Раздел2!L69","v":0}]
["Городошный спорт","62",0,null,null,null,null,null,null,null,null,null,null,null,null,null,null,null,null,null,null,0,null,null,null,null,0,null,null,null,null,{"$f":"Раздел2!C70","v":0},{"$f":"Раздел2!I70","v":0},{"$f":"Раздел2!J70","v":0},{"$f":"Раздел2!K70","v":0},{"$f":"Раздел2!L70","v":0}]
["Гребля на байдарках и каноэ","63",0,null,null,null,null,null,null,null,null,null,null,null,null,null,null,null,null,null,null,0,null,null,null,null,0,null,null,null,null,{"$f":"Раздел2!C71","v":0},{"$f":"Раздел2!I71","v":0},{"$f":"Раздел2!J71","v":0},{"$f":"Раздел2!K71","v":0},{"$f":"Раздел2!L71","v":0}]
["Гребля на шлюпках","64",0,null,null,null,null,null,null,null,null,null,null,null,null,null,null,null,null,null,null,0,null,null,null,null,0,null,null,null,null,{"$f":"Раздел2!C72","v":0},{"$f":"Раздел2!I72","v":0},{"$f":"Раздел2!J72","v":0},{"$f":"Раздел2!K72","v":0},{"$f":"Раздел2!L72","v":0}]
["Гребной слалом","65",0,null,null,null,null,null,null,null,null,null,null,null,null,null,null,null,null,null,null,0,null,null,null,null,0,null,null,null,null,{"$f":"Раздел2!C73","v":0},{"$f":"Раздел2!I73","v":0},{"$f":"Раздел2!J73","v":0},{"$f":"Раздел2!K73","v":0},{"$f":"Раздел2!L73","v":0}]
["Гребной спорт - всего","66",{"$f":"SUM(D73:U73)","v":0},{"$f":"SUM(D74:D77)","v":0},{"$f":"SUM(E74:E77)","v":0},0,0,0,0,0,0,0,0,0,0,0,0,0,0,0,0,0,0,0,0,0,0,0,0,0,0,{"$f":"Раздел2!C74","v":0},{"$f":"Раздел2!I74","v":0},{"$f":"Раздел2!J74","v":0},{"$f":"Раздел2!K74","v":0},{"$f":"Раздел2!L74","v":0}]
["в том числе:\nАкадемическая гребля","67",0,null,null,null,null,null,null,null,null,null,null,null,null,null,null,null,null,null,null,{"$f":"SUM(W74:Z74)","v":0},null,null,null,null,{"$f":"SUM(AB74:AE74)","v":0},null,null,null,null,{"$f":"Раздел2!C75","v":0},{"$f":"Раздел2!I75","v":0},{"$f":"Раздел2!J75","v":0},{"$f":"Раздел2!K75","v":0},{"$f":"Раздел2!L75","v":0}]
["Гребля-индор","68",0,null,null,null,null,null,null,null,null,null,null,null,null,null,null,null,null,null,null,0,null,null,null,null,0,null,null,null,null,{"$f":"Раздел2!C76","v":0},{"$f":"Раздел2!I76","v":0},{"$f":"Раздел2!J76","v":0},{"$f":"Раздел2!K76","v":0},{"$f":"Раздел2!L76","v":0}]
["Народная гребля","69",0,null,null,null,null,null,null,null,null,null,null,null,null,null,null,null,null,null,null,0,null,null,null,null,0,null,null,null,null,{"$f":"Раздел2!C77","v":0},{"$f":"Раздел2!I77","v":0},{"$f":"Раздел2!J77","v":0},{"$f":"Раздел2!K77","v":0},{"$f":"Раздел2!L77","v":0}]
["Прибрежная гребля","70",0,null,null,null,null,null,null,null,null,null,null,null,null,null,null,null,null,null,null,0,null,null,null,null,0,null,null,null,null,{"$f":"Раздел2!C78","v":0},{"$f":"Раздел2!I78","v":0},{"$f":"Раздел2!J78","v":0},{"$f":"Раздел2!K78","v":0},{"$f":"Раздел2!L78","v":0}]
["Гребно-парусное двоеборье","71",0,null,null,null,null,null,null,null,null,null,null,null,null,null,null,null,null,null,null,0,null,null,null,null,0,null,null,null,null,{"$f":"Раздел2!C79","v":0},{"$f":"Раздел2!I79","v":0},{"$f":"Раздел2!J79","v":0},{"$f":"Раздел2!K79","v":0},{"$f":"Раздел2!L79","v":0}]
["Дартс","72",0,null,null,null,null,null,null,null,null,null,null,null,null,null,null,null,null,null,null,0,null,null,null,null,0,null,null,null,null,{"$f":"Раздел2!C80","v":0},{"$f":"Раздел2!I80","v":0},{"$f":"Раздел2!J80","v":0},{"$f":"Раздел2!K80","v":0},{"$f":"Раздел2!L80","v":0}]
["Джиу-джитсу","73",0,null,null,null,null,null,null,null,null,null,null,null,null,null,null,null,null,null,null,0,null,null,null,null,0,null,null,null,null,{"$f":"Раздел2!C81","v":0},{"$f":"Раздел2!I81","v":0},{"$f":"Раздел2!J81","v":0},{"$f":"Раздел2!K81","v":0},{"$f":"Раздел2!L81","v":0}]
["Дзюдо","74",254,75,70,50,14,14,13,12,6,null,null,null,null,null,null,null,null,null,null,254,195,59,null,null,52,33,19,null,null,{"$f":"Раздел2!C82","v":1},{"$f":"Раздел2!I82","v":195},{"$f":"Раздел2!J82","v":59},{"$f":"Раздел2!K82","v":0},{"$f":"Раздел2!L82","v":0}]
["Ездовой спорт","75",0,null,null,null,null,null,null,null,null,null,null,null,null,null,null,null,null,null,null,0,null,null,null,null,0,null,null,null,null,{"$f":"Раздел2!C83","v":0},{"$f":"Раздел2!I83","v":0},{"$f":"Раздел2!J83","v":0},{"$f":"Раздел2!K83","v":0},{"$f":"Раздел2!L83","v":0}]
["Зимнее плавание","76",0,null,null,null,null,null,null,null,null,null,null,null,null,null,null,null,null,null,null,0,null,null,null,null,0,null,null,null,null,{"$f":"Раздел2!C84","v":0},{"$f":"Раздел2!I84","v":0},{"$f":"Раздел2!J84","v":0},{"$f":"Раздел2!K84","v":0},{"$f":"Раздел2!L84","v":0}]
["Капоэйра","77",0,null,null,null,null,null,null,null,null,null,null,null,null,null,null,null,null,null,null,0,null,null,null,null,0,null,null,null,null,{"$f":"Раздел2!C85","v":0},{"$f":"Раздел2!I85","v":0},{"$f":"Раздел2!J85","v":0},{"$f":"Раздел2!K85","v":0},{"$f":"Раздел2!L85","v":0}]
["Каратэ","78",0,null,null,null,null,null,null,null,null,null,null,null,null,null,null,null,null,null,null,0,null,null,null,null,0,null,null,null,null,{"$f":"Раздел2!C86","v":0},{"$f":"Раздел2!I86","v":0},{"$f":"Раздел2!J86","v":0},{"$f":"Раздел2!K86","v":0},{"$f":"Раздел2!L86","v":0}]
["Кендо","79",0,null,null,null,null,null,null,null,null,null,null,null,null,null,null,null,null,null,null,0,null,null,null,null,0,null,null,null,null,{"$f":"Раздел2!C87","v":0},{"$f":"Раздел2!I87","v":0},{"$f":"Раздел2!J87","v":0},{"$f":"Раздел2!K87","v":0},{"$f":"Раздел2!L87","v":0}]
["Керешу","80",0,null,null,null,null,null,null,null,null,null,null,null,null,null,null,null,null,null,null,0,null,null,null,null,0,null,null,null,null,{"$f":"Раздел2!C88","v":0},{"$f":"Раздел2!I88","v":0},{"$f":"Раздел2!J88","v":0},{"$f":"Раздел2!K88","v":0},{"$f":"Раздел2!L88","v":0}]
["Кёрлинг - всего","81",0,{"$f":"SUM(D89:D91)","v":0},{"$f":"SUM(E89:E91)","v":0},0,0,0,0,0,0,0,0,0,0,0,0,0,0,0,0,0,0,0,0,0,0,0,0,0,0,{"$f":"Раздел2!C89","v":0},{"$f":"Раздел2!I89","v":0},{"$f":"Раздел2!J89","v":0},{"$f":"Раздел2!K89","v":0},{"$f":"Раздел2!L89","v":0}]
["в том числе:\nКерлинг (муж.)","82",0,null,null,null,null,null,null,null,null,null,null,null,null,null,null,null,null,null,null,0,null,null,null,null,0,null,null,null,null,{"$f":"Раздел2!C90","v":0},{"$f":"Раздел2!I90","v":0},{"$f":"Раздел2!J90","v":0},{"$f":"Раздел2!K90","v":0},{"$f":"Раздел2!L90","v":0}]
["Керлинг (жен.)","83",0,null,null,null,null,null,null,null,null,null,null,null,null,null,null,null,null,null,null,0,null,null,null,null,0,null,null,null,null,{"$f":"Раздел2!C91","v":0},{"$f":"Раздел2!I91","v":0},{"$f":"Раздел2!J91","v":0},{"$f":"Раздел2!K91","v":0},{"$f":"Раздел2!L91","v":0}]
["Кёрлинг – смешанные пары","84",0,null,null,null,null,null,null,null,null,null,null,null,null,null,null,null,null,null,null,0,null,null,null,null,0,null,null,null,null,{"$f":"Раздел2!C92","v":0},{"$f":"Раздел2!I92","v":0},{"$f":"Раздел2!J92","v":0},{"$f":"Раздел2!K92","v":0},{"$f":"Раздел2!L92","v":0}]
["Кикбоксинг","85",0,null,null,null,null,null,null,null,null,null,null,null,null,null,null,null,null,null,null,0,null,null,null,null,0,null,null,null,null,{"$f":"Раздел2!C93","v":0},{"$f":"Раздел2!I93","v":0},{"$f":"Раздел2!J93","v":0},{"$f":"Раздел2!K93","v":0},{"$f":"Раздел2!L93","v":0}]
["Кинологический спорт","86",0,null,null,null,null,null,null,null,null,null,null,null,null,null,null,null,null,null,null,0,null,null,null,null,0,null,null,null,null,{"$f":"Раздел2!C94","v":0},{"$f":"Раздел2!I94","v":0},{"$f":"Раздел2!J94","v":0},{"$f":"Раздел2!K94","v":0},{"$f":"Раздел2!L94","v":0}]
["Киокусинкай","87",0,null,null,null,null,null,null,null,null,null,null,null,null,null,null,null,null,null,null,0,null,null,null,null,0,null,null,null,null,{"$f":"Раздел2!C95","v":0},{"$f":"Раздел2!I95","v":0},{"$f":"Раздел2!J95","v":0},{"$f":"Раздел2!K95","v":0},{"$f":"Раздел2!L95","v":0}]
["Киокушин","88",0,null,null,null,null,null,null,null,null,null,null,null,null,null,null,null,null,null,null,0,null,null,null,null,0,null,null,null,null,{"$f":"Раздел2!C96","v":0},{"$f":"Раздел2!I96","v":0},{"$f":"Раздел2!J96","v":0},{"$f":"Раздел2!K96","v":0},{"$f":"Раздел2!L96","v":0}]
["Комплексное единоборство","89",0,null,null,null,null,null,null,null,null,null,null,null,null,null,null,null,null,null,null,0,null,null,null,null,0,null,null,null,null,{"$f":"Раздел2!C97","v":0},{"$f":"Раздел2!I97","v":0},{"$f":"Раздел2!J97","v":0},{"$f":"Раздел2!K97","v":0},{"$f":"Раздел2!L97","v":0}]
["Компьютерный спорт","90",0,null,null,null,null,null,null,null,null,null,null,null,null,null,null,null,null,null,null,0,null,null,null,null,0,null,null,null,null,{"$f":"Раздел2!C98","v":0},{"$f":"Раздел2!I98","v":0},{"$f":"Раздел2!J98","v":0},{"$f":"Раздел2!K98","v":0},{"$f":"Раздел2!L98","v":0}]
["Конный спорт","91",0,null,null,null,null,null,null,null,null,null,null,null,null,null,null,null,null,null,null,0,null,null,null,null,0,null,null,null,null,{"$f":"Раздел2!C99","v":0},{"$f":"Раздел2!I99","v":0},{"$f":"Раздел2!J99","v":0},{"$f":"Раздел2!K99","v":0},{"$f":"Раздел2!L99","v":0}]
["Конькобежный спорт - всего","92",0,{"$f":"SUM(D100:D101)","v":0},{"$f":"SUM(E100:E101)","v":0},0,0,0,0,0,0,0,0,0,0,0,0,0,0,0,0,0,0,0,0,0,0,0,0,0,0,{"$f":"Раздел2!C100","v":0},{"$f":"Раздел2!I100","v":0},{"$f":"Раздел2!J100","v":0},{"$f":"Раздел2!K100","v":0},{"$f":"Раздел2!L100","v":0}]
["в том числе:\nКонькобежный спорт","93",0,null,null,null,null,null,null,null,null,null,null,null,null,null,null,null,null,null,null,0,null,null,null,null,0,null,null,null,null,{"$f":"Раздел2!C101","v":0},{"$f":"Раздел2!I101","v":0},{"$f":"Раздел2!J101","v":0},{"$f":"Раздел2!K101","v":0},{"$f":"Раздел2!L101","v":0}]
["Шорт-трек","94",0,null,null,null,null,null,null,null,null,null,null,null,null,null,null,null,null,null,null,0,null,null,null,null,0,null,null,null,null,{"$f":"Раздел2!C102","v":0},{"$f":"Раздел2!I102","v":0},{"$f":"Раздел2!J102","v":0},{"$f":"Раздел2!K102","v":0},{"$f":"Раздел2!L102","v":0}]
["Корэш","95",0,null,null,null,null,null,null,null,null,null,null,null,null,null,null,null,null,null,null,0,null,null,null,null,0,null,null,null,null,{"$f":"Раздел2!C103","v":0},{"$f":"Раздел2!I103","v":0},{"$f":"Раздел2!J103","v":0},{"$f":"Раздел2!K103","v":0},{"$f":"Раздел2!L103","v":0}]
["Крикет","96",0,null,null,null,null,null,null,null,null,null,null,null,null,null,null,null,null,null,null,0,null,null,null,null,0,null,null,null,null,{"$f":"Раздел2!C104","v":0},{"$f":"Раздел2!I104","v":0},{"$f":"Раздел2!J104","v":0},{"$f":"Раздел2!K104","v":0},{"$f":"Раздел2!L104","v":0}]
["Кудо","97",0,null,null,null,null,null,null,null,null,null,null,null,null,null,null,null,null,null,null,0,null,null,null,null,0,null,null,null,null,{"$f":"Раздел2!C105","v":0},{"$f":"Раздел2!I105","v":0},{"$f":"Раздел2!J105","v":0},{"$f":"Раздел2!K105","v":0},{"$f":"Раздел2!L105","v":0}]
["Лапта","98",0,null,null,null,null,null,null,null,null,null,null,null,null,null,null,null,null,null,null,0,null,null,null,null,0,null,null,null,null,{"$f":"Раздел2!C106","v":0},{"$f":"Раздел2!I106","v":0},{"$f":"Раздел2!J106","v":0},{"$f":"Раздел2!K106","v":0},{"$f":"Раздел2!L106","v":0}]
["Легкая атлетика - всего","99",213,{"$f":"SUM(D107:D113)","v":45},{"$f":"SUM(E107:E113)","v":52},40,25,20,11,10,10,0,0,0,0,0,0,0,0,0,0,213,137,76,0,0,47,33,14,0,0,{"$f":"Раздел2!C107","v":1},{"$f":"Раздел2!I107","v":137},{"$f":"Раздел2!J107","v":76},{"$f":"Раздел2!K107","v":0},{"$f":"Раздел2!L107","v":0}]
["в том числе:\nСпринтерский и барьерный бег","100",67,null,20,17,6,6,6,6,6,null,null,null,null,null,null,null,null,null,null,67,37,30,null,null,21,18,3,null,null,{"$f":"Раздел2!C108","v":1},{"$f":"Раздел2!I108","v":37},{"$f":"Раздел2!J108","v":30},{"$f":"Раздел2!K108","v":0},{"$f":"Раздел2!L108","v":0}]
["Бег на средние дистанции и бег с препятствиями","101",10,null,null,null,5,5,null,0,0,null,null,null,null,null,null,null,null,null,null,10,null,10,null,null,1,null,1,null,null,{"$f":"Раздел2!C109","v":1},{"$f":"Раздел2!I109","v":0},{"$f":"Раздел2!J109","v":10},{"$f":"Раздел2!K109","v":0},{"$f":"Раздел2!L109","v":0}]
["Бег на длинные и сверхдлинные дистанции","102",0,null,null,null,null,null,null,null,null,null,null,null,null,null,null,null,null,null,null,0,null,null,null,null,0,null,null,null,null,{"$f":"Раздел2!C110","v":0},{"$f":"Раздел2!I110","v":0},{"$f":"Раздел2!J110","v":0},{"$f":"Раздел2!K110","v":0},{"$f":"Раздел2!L110","v":0}]
["Многоборья","103",110,45,32,23,5,5,null,null,null,null,null,null,null,null,null,null,null,null,null,110,100,10,null,null,17,15,2,null,null,{"$f":"Раздел2!C111","v":1},{"$f":"Раздел2!I111","v":100},{"$f":"Раздел2!J111","v":10},{"$f":"Раздел2!K111","v":0},{"$f":"Раздел2!L111","v":0}]
["Прыжки","104",11,null,null,null,5,4,2,null,null,null,null,null,null,null,null,null,null,null,null,11,null,11,null,null,3,null,3,null,null,{"$f":"Раздел2!C112","v":1},{"$f":"Раздел2!I112","v":0},{"$f":"Раздел2!J112","v":11},{"$f":"Раздел2!K112","v":0},{"$f":"Раздел2!L112","v":0}]
["Метания","105",15,null,null,null,4,null,3,4,4,null,null,null,null,null,null,null,null,null,null,15,null,15,null,null,5,null,5,null,null,{"$f":"Раздел2!C113","v":1},{"$f":"Раздел2!I113","v":0},{"$f":"Раздел2!J113","v":15},{"$f":"Раздел2!K113","v":0},{"$f":"Раздел2!L113","v":0}]
["Спортивная ходьба","106",0,null,null,null,null,null,null,null,null,null,null,null,null,null,null,null,null,null,null,0,null,null,null,null,0,null,null,null,null,{"$f":"Раздел2!C114","v":0},{"$f":"Раздел2!I114","v":0},{"$f":"Раздел2!J114","v":0},{"$f":"Раздел2!K114","v":0},{"$f":"Раздел2!L114","v":0}]
["Лыжное двоеборье","107",0,null,null,null,null,null,null,null,null,null,null,null,null,null,null,null,null,null,null,0,null,null,null,null,0,null,null,null,null,{"$f":"Раздел2!C115","v":0},{"$f":"Раздел2!I115","v":0},{"$f":"Раздел2!J115","v":0},{"$f":"Раздел2!K115","v":0},{"$f":"Раздел2!L115","v":0}]
["Лыжные гонки","108",31,5,10,5,2,2,4,2,1,null,null,null,null,null,null,null,null,null,null,31,20,11,null,null,8,5,3,null,null,{"$f":"Раздел2!C116","v":1},{"$f":"Раздел2!I116","v":20},{"$f":"Раздел2!J116","v":11},{"$f":"Раздел2!K116","v":0},{"$f":"Раздел2!L116","v":0}]
["Мас-рестлинг","109",0,null,null,null,null,null,null,null,null,null,null,null,null,null,null,null,null,null,null,0,null,null,null,null,0,null,null,null,null,{"$f":"Раздел2!C117","v":0},{"$f":"Раздел2!I117","v":0},{"$f":"Раздел2!J117","v":0},{"$f":"Раздел2!K117","v":0},{"$f":"Раздел2!L117","v":0}]
["Международное военно-спортивное многоборье","110",0,null,null,null,null,null,null,null,null,null,null,null,null,null,null,null,null,null,null,0,null,null,null,null,0,null,null,null,null,{"$f":"Раздел2!C118","v":0},{"$f":"Раздел2!I118","v":0},{"$f":"Раздел2!J118","v":0},{"$f":"Раздел2!K118","v":0},{"$f":"Раздел2!L118","v":0}]
["Микрофутзал","111",0,null,null,null,null,null,null,null,null,null,null,null,null,null,null,null,null,null,null,0,null,null,null,null,0,null,null,null,null,{"$f":"Раздел2!C119","v":0},{"$f":"Раздел2!I119","v":0},{"$f":"Раздел2!J119","v":0},{"$f":"Раздел2!K119","v":0},{"$f":"Раздел2!L119","v":0}]
["Многоборье кинологов","112",0,null,null,null,null,null,null,null,null,null,null,null,null,null,null,null,null,null,null,0,null,null,null,null,0,null,null,null,null,{"$f":"Раздел2!C120","v":0},{"$f":"Раздел2!I120","v":0},{"$f":"Раздел2!J120","v":0},{"$f":"Раздел2!K120","v":0},{"$f":"Раздел2!L120","v":0}]
["Многоборье спасателей МЧС России","113",0,null,null,null,null,null,null,null,null,null,null,null,null,null,null,null,null,null,null,0,null,null,null,null,0,null,null,null,null,{"$f":"Раздел2!C121","v":0},{"$f":"Раздел2!I121","v":0},{"$f":"Раздел2!J121","v":0},{"$f":"Раздел2!K121","v":0},{"$f":"Раздел2!L121","v":0}]
["Морское многоборье","114",0,null,null,null,null,null,null,null,null,null,null,null,null,null,null,null,null,null,null,0,null,null,null,null,0,null,null,null,null,{"$f":"Раздел2!C122","v":0},{"$f":"Раздел2!I122","v":0},{"$f":"Раздел2!J122","v":0},{"$f":"Раздел2!K122","v":0},{"$f":"Раздел2!L122","v":0}]
["Мотоциклетный спорт","115",0,null,null,null,null,null,null,null,null,null,null,null,null,null,null,null,null,null,null,0,null,null,null,null,0,null,null,null,null,{"$f":"Раздел2!C123","v":0},{"$f":"Раздел2!I123","v":0},{"$f":"Раздел2!J123","v":0},{"$f":"Раздел2!K123","v":0},{"$f":"Раздел2!L123","v":0}]
["Нарды","116",0,null,null,null,null,null,null,null,null,null,null,null,null,null,null,null,null,null,null,0,null,null,null,null,0,null,null,null,null,{"$f":"Раздел2!C124","v":0},{"$f":"Раздел2!I124","v":0},{"$f":"Раздел2!J124","v":0},{"$f":"Раздел2!K124","v":0},{"$f":"Раздел2!L124","v":0}]
["Настольный теннис","117",0,null,null,null,null,null,null,null,null,null,null,null,null,null,null,null,null,null,null,0,null,null,null,null,0,null,null,null,null,{"$f":"Раздел2!C125","v":0},{"$f":"Раздел2!I125","v":0},{"$f":"Раздел2!J125","v":0},{"$f":"Раздел2!K125","v":0},{"$f":"Раздел2!L125","v":0}]
["Падел","118",0,null,null,null,null,null,null,null,null,null,null,null,null,null,null,null,null,null,null,0,null,null,null,null,0,null,null,null,null,{"$f":"Раздел2!C126","v":0},{"$f":"Раздел2!I126","v":0},{"$f":"Раздел2!J126","v":0},{"$f":"Раздел2!K126","v":0},{"$f":"Раздел2!L126","v":0}]
["Парашютный спорт","119",0,null,null,null,null,null,null,null,null,null,null,null,null,null,null,null,null,null,null,0,null,null,null,null,0,null,null,null,null,{"$f":"Раздел2!C127","v":0},{"$f":"Раздел2!I127","v":0},{"$f":"Раздел2!J127","v":0},{"$f":"Раздел2!K127","v":0},{"$f":"Раздел2!L127","v":0}]
["Парусный спорт","120",0,null,null,null,null,null,null,null,null,null,null,null,null,null,null,null,null,null,null,0,null,null,null,null,0,null,null,null,null,{"$f":"Раздел2!C128","v":0},{"$f":"Раздел2!I128","v":0},{"$f":"Раздел2!J128","v":0},{"$f":"Раздел2!K128","v":0},{"$f":"Раздел2!L128","v":0}]
["Пауэрлифтинг","121",0,null,null,null,null,null,null,null,null,null,null,null,null,null,null,null,null,null,null,0,null,null,null,null,0,null,null,null,null,{"$f":"Раздел2!C129","v":0},{"$f":"Раздел2!I129","v":0},{"$f":"Раздел2!J129","v":0},{"$f":"Раздел2!K129","v":0},{"$f":"Раздел2!L129","v":0}]
["Перетягивание каната","122",0,null,null,null,null,null,null,null,null,null,null,null,null,null,null,null,null,null,null,0,null,null,null,null,0,null,null,null,null,{"$f":"Раздел2!C130","v":0},{"$f":"Раздел2!I130","v":0},{"$f":"Раздел2!J130","v":0},{"$f":"Раздел2!K130","v":0},{"$f":"Раздел2!L130","v":0}]
["Пилонный спорт","123",0,null,null,null,null,null,null,null,null,null,null,null,null,null,null,null,null,null,null,0,null,null,null,null,0,null,null,null,null,{"$f":"Раздел2!C131","v":0},{"$f":"Раздел2!I131","v":0},{"$f":"Раздел2!J131","v":0},{"$f":"Раздел2!K131","v":0},{"$f":"Раздел2!L131","v":0}]
["Плавание - всего","124",0,{"$f":"SUM(D132:D133)","v":0},{"$f":"SUM(E132:E133)","v":0},0,0,0,0,0,0,0,0,0,0,0,0,0,0,0,0,0,0,0,0,0,0,0,0,0,0,{"$f":"Раздел2!C132","v":0},{"$f":"Раздел2!I132","v":0},{"$f":"Раздел2!J132","v":0},{"$f":"Раздел2!K132","v":0},{"$f":"Раздел2!L132","v":0}]
["в том числе:\nПлавание ","125",0,null,null,null,null,null,null,null,null,null,null,null,null,null,null,null,null,null,null,0,null,null,null,null,0,null,null,null,null,{"$f":"Раздел2!C133","v":0},{"$f":"Раздел2!I133","v":0},{"$f":"Раздел2!J133","v":0},{"$f":"Раздел2!K133","v":0},{"$f":"Раздел2!L133","v":0}]
["Открытая вода","126",0,null,null,null,null,null,null,null,null,null,null,null,null,null,null,null,null,null,null,0,null,null,null,null,0,null,null,null,null,{"$f":"Раздел2!C134","v":0},{"$f":"Раздел2!I134","v":0},{"$f":"Раздел2!J134","v":0},{"$f":"Раздел2!K134","v":0},{"$f":"Раздел2!L134","v":0}]
["Планерный спорт","127",0,null,null,null,null,null,null,null,null,null,null,null,null,null,null,null,null,null,null,0,null,null,null,null,0,null,null,null,null,{"$f":"Раздел2!C135","v":0},{"$f":"Раздел2!I135","v":0},{"$f":"Раздел2!J135","v":0},{"$f":"Раздел2!K135","v":0},{"$f":"Раздел2!L135","v":0}]
["Подводный спорт","128",0,null,null,null,null,null,null,null,null,null,null,null,null,null,null,null,null,null,null,0,null,null,null,null,0,null,null,null,null,{"$f":"Раздел2!C136","v":0},{"$f":"Раздел2!I136","v":0},{"$f":"Раздел2!J136","v":0},{"$f":"Раздел2!K136","v":0},{"$f":"Раздел2!L136","v":0}]
["Пожарно-спасательный спорт","129",0,null,null,null,null,null,null,null,null,null,null,null,null,null,null,null,null,null,null,0,null,null,null,null,0,null,null,null,null,{"$f":"Раздел2!C137","v":0},{"$f":"Раздел2!I137","v":0},{"$f":"Раздел2!J137","v":0},{"$f":"Раздел2!K137","v":0},{"$f":"Раздел2!L137","v":0}]
["Полиатлон","130",{"$f":"SUM(D137:U137)","v":0},null,null,null,null,null,null,null,null,null,null,null,null,null,null,null,null,null,null,{"$f":"SUM(W137:Z137)","v":0},null,null,null,null,{"$f":"SUM(AB137:AE137)","v":0},null,null,null,null,{"$f":"Раздел2!C138","v":0},{"$f":"Раздел2!I138","v":0},{"$f":"Раздел2!J138","v":0},{"$f":"Раздел2!K138","v":0},{"$f":"Раздел2!L138","v":0}]
["Практическая стрельба","131",0,null,null,null,null,null,null,null,null,null,null,null,null,null,null,null,null,null,null,0,null,null,null,null,0,null,null,null,null,{"$f":"Раздел2!C139","v":0},{"$f":"Раздел2!I139","v":0},{"$f":"Раздел2!J139","v":0},{"$f":"Раздел2!K139","v":0},{"$f":"Раздел2!L139","v":0}]
["Прыжки в воду - всего","132",0,{"$f":"SUM(D140:D141)","v":0},{"$f":"SUM(E140:E141)","v":0},0,0,0,0,0,0,0,0,0,0,0,0,0,0,0,0,0,0,0,0,0,0,0,0,0,0,{"$f":"Раздел2!C140","v":0},{"$f":"Раздел2!I140","v":0},{"$f":"Раздел2!J140","v":0},{"$f":"Раздел2!K140","v":0},{"$f":"Раздел2!L140","v":0}]
["в том числе:\nПрыжки в воду","133",0,null,null,null,null,null,null,null,null,null,null,null,null,null,null,null,null,null,null,0,null,null,null,null,0,null,null,null,null,{"$f":"Раздел2!C141","v":0},{"$f":"Раздел2!I141","v":0},{"$f":"Раздел2!J141","v":0},{"$f":"Раздел2!K141","v":0},{"$f":"Раздел2!L141","v":0}]
["Прыжки в открытый водоем","134",0,null,null,null,null,null,null,null,null,null,null,null,null,null,null,null,null,null,null,0,null,null,null,null,0,null,null,null,null,{"$f":"Раздел2!C142","v":0},{"$f":"Раздел2!I142","v":0},{"$f":"Раздел2!J142","v":0},{"$f":"Раздел2!K142","v":0},{"$f":"Раздел2!L142","v":0}]
["Прыжки на батуте - всего","135",0,{"$f":"SUM(D143:D146)","v":0},{"$f":"SUM(E143:E146)","v":0},0,0,0,0,0,0,0,0,0,0,0,0,0,0,0,0,0,0,0,0,0,0,0,0,0,0,{"$f":"Раздел2!C143","v":0},{"$f":"Раздел2!I143","v":0},{"$f":"Раздел2!J143","v":0},{"$f":"Раздел2!K143","v":0},{"$f":"Раздел2!L143","v":0}]
["в том числе:\nАкробатическая дорожка","136",0,null,null,null,null,null,null,null,null,null,null,null,null,null,null,null,null,null,null,0,null,null,null,null,0,null,null,null,null,{"$f":"Раздел2!C144","v":0},{"$f":"Раздел2!I144","v":0},{"$f":"Раздел2!J144","v":0},{"$f":"Раздел2!K144","v":0},{"$f":"Раздел2!L144","v":0}]
["Двойной минитрамп","137",0,null,null,null,null,null,null,null,null,null,null,null,null,null,null,null,null,null,null,0,null,null,null,null,0,null,null,null,null,{"$f":"Раздел2!C145","v":0},{"$f":"Раздел2!I145","v":0},{"$f":"Раздел2!J145","v":0},{"$f":"Раздел2!K145","v":0},{"$f":"Раздел2!L145","v":0}]
["Индивидуальные прыжки","138",0,null,null,null,null,null,null,null,null,null,null,null,null,null,null,null,null,null,null,0,null,null,null,null,0,null,null,null,null,{"$f":"Раздел2!C146","v":0},{"$f":"Раздел2!I146","v":0},{"$f":"Раздел2!J146","v":0},{"$f":"Раздел2!K146","v":0},{"$f":"Раздел2!L146","v":0}]
["Синхронные прыжки","139",0,null,null,null,null,null,null,null,null,null,null,null,null,null,null,null,null,null,null,0,null,null,null,null,0,null,null,null,null,{"$f":"Раздел2!C147","v":0},{"$f":"Раздел2!I147","v":0},{"$f":"Раздел2!J147","v":0},{"$f":"Раздел2!K147","v":0},{"$f":"Раздел2!L147","v":0}]
["Прыжки на лыжах с трамплина","140",0,null,null,null,null,null,null,null,null,null,null,null,null,null,null,null,null,null,null,0,null,null,null,null,0,null,null,null,null,{"$f":"Раздел2!C148","v":0},{"$f":"Раздел2!I148","v":0},{"$f":"Раздел2!J148","v":0},{"$f":"Раздел2!K148","v":0},{"$f":"Раздел2!L148","v":0}]
["Пулевая стрельба - всего","141",0,{"$f":"SUM(D149:D153)","v":0},{"$f":"SUM(E149:E153)","v":0},0,0,0,0,0,0,0,0,0,0,0,0,0,0,0,0,0,0,0,0,0,0,0,0,0,0,{"$f":"Раздел2!C149","v":0},{"$f":"Раздел2!I149","v":0},{"$f":"Раздел2!J149","v":0},{"$f":"Раздел2!K149","v":0},{"$f":"Раздел2!L149","v":0}]
["в том числе:\nПневматическая винтовка","142",0,null,null,null,null,null,null,null,null,null,null,null,null,null,null,null,null,null,null,0,null,null,null,null,0,null,null,null,null,{"$f":"Раздел2!C150","v":0},{"$f":"Раздел2!I150","v":0},{"$f":"Раздел2!J150","v":0},{"$f":"Раздел2!K150","v":0},{"$f":"Раздел2!L150","v":0}]
["Пневматический пистолет","143",0,null,null,null,null,null,null,null,null,null,null,null,null,null,null,null,null,null,null,0,null,null,null,null,0,null,null,null,null,{"$f":"Раздел2!C151","v":0},{"$f":"Раздел2!I151","v":0},{"$f":"Раздел2!J151","v":0},{"$f":"Раздел2!K151","v":0},{"$f":"Раздел2!L151","v":0}]
["Малокалиберная винтовка","144",0,null,null,null,null,null,null,null,null,null,null,null,null,null,null,null,null,null,null,0,null,null,null,null,0,null,null,null,null,{"$f":"Раздел2!C152","v":0},{"$f":"Раздел2!I152","v":0},{"$f":"Раздел2!J152","v":0},{"$f":"Раздел2!K152","v":0},{"$f":"Раздел2!L152","v":0}]
["Малокалиберный пистолет","145",0,null,null,null,null,null,null,null,null,null,null,null,null,null,null,null,null,null,null,0,null,null,null,null,0,null,null,null,null,{"$f":"Раздел2!C153","v":0},{"$f":"Раздел2!I153","v":0},{"$f":"Раздел2!J153","v":0},{"$f":"Раздел2!K153","v":0},{"$f":"Раздел2!L153","v":0}]
["Движущаяся мишень","146",0,null,null,null,null,null,null,null,null,null,null,null,null,null,null,null,null,null,null,0,null,null,null,null,0,null,null,null,null,{"$f":"Раздел2!C154","v":0},{"$f":"Раздел2!I154","v":0},{"$f":"Раздел2!J154","v":0},{"$f":"Раздел2!K154","v":0},{"$f":"Раздел2!L154","v":0}]
["Пэйнтбол","147",0,null,null,null,null,null,null,null,null,null,null,null,null,null,null,null,null,null,null,0,null,null,null,null,0,null,null,null,null,{"$f":"Раздел2!C155","v":0},{"$f":"Раздел2!I155","v":0},{"$f":"Раздел2!J155","v":0},{"$f":"Раздел2!K155","v":0},{"$f":"Раздел2!L155","v":0}]
["Радиоспорт","148",0,null,null,null,null,null,null,null,null,null,null,null,null,null,null,null,null,null,null,0,null,null,null,null,0,null,null,null,null,{"$f":"Раздел2!C156","v":0},{"$f":"Раздел2!I156","v":0},{"$f":"Раздел2!J156","v":0},{"$f":"Раздел2!K156","v":0},{"$f":"Раздел2!L156","v":0}]
["Рафтинг","149",0,null,null,null,null,null,null,null,null,null,null,null,null,null,null,null,null,null,null,0,null,null,null,null,0,null,null,null,null,{"$f":"Раздел2!C157","v":0},{"$f":"Раздел2!I157","v":0},{"$f":"Раздел2!J157","v":0},{"$f":"Раздел2!K157","v":0},{"$f":"Раздел2!L157","v":0}]
["Регби - всего","150",0,{"$f":"SUM(D158:D162)","v":0},{"$f":"SUM(E158:E162)","v":0},0,0,0,0,0,0,0,0,0,0,0,0,0,0,0,0,0,0,0,0,0,0,0,0,0,0,{"$f":"Раздел2!C158","v":0},{"$f":"Раздел2!I158","v":0},{"$f":"Раздел2!J158","v":0},{"$f":"Раздел2!K158","v":0},{"$f":"Раздел2!L158","v":0}]
["в том числе:\nРегби","151",0,null,null,null,null,null,null,null,null,null,null,null,null,null,null,null,null,null,null,0,null,null,null,null,0,null,null,null,null,{"$f":"Раздел2!C159","v":0},{"$f":"Раздел2!I159","v":0},{"$f":"Раздел2!J159","v":0},{"$f":"Раздел2!K159","v":0},{"$f":"Раздел2!L159","v":0}]
["Регби 7 (муж.)","152",0,null,null,null,null,null,null,null,null,null,null,null,null,null,null,null,null,null,null,0,null,null,null,null,0,null,null,null,null,{"$f":"Раздел2!C160","v":0},{"$f":"Раздел2!I160","v":0},{"$f":"Раздел2!J160","v":0},{"$f":"Раздел2!K160","v":0},{"$f":"Раздел2!L160","v":0}]
["Регби 7 (жен.)","153",0,null,null,null,null,null,null,null,null,null,null,null,null,null,null,null,null,null,null,0,null,null,null,null,0,null,null,null,null,{"$f":"Раздел2!C161","v":0},{"$f":"Раздел2!I161","v":0},{"$f":"Раздел2!J161","v":0},{"$f":"Раздел2!K161","v":0},{"$f":"Раздел2!L161","v":0}]
["Регби - пляжное","154",0,null,null,null,null,null,null,null,null,null,null,null,null,null,null,null,null,null,null,0,null,null,null,null,0,null,null,null,null,{"$f":"Раздел2!C162","v":0},{"$f":"Раздел2!I162","v":0},{"$f":"Раздел2!J162","v":0},{"$f":"Раздел2!K162","v":0},{"$f":"Раздел2!L162","v":0}]
["Регби на снегу","155",0,null,null,null,null,null,null,null,null,null,null,null,null,null,null,null,null,null,null,0,null,null,null,null,0,null,null,null,null,{"$f":"Раздел2!C163","v":0},{"$f":"Раздел2!I163","v":0},{"$f":"Раздел2!J163","v":0},{"$f":"Раздел2!K163","v":0},{"$f":"Раздел2!L163","v":0}]
["Регбол","156",0,null,null,null,null,null,null,null,null,null,null,null,null,null,null,null,null,null,null,0,null,null,null,null,0,null,null,null,null,{"$f":"Раздел2!C164","v":0},{"$f":"Раздел2!I164","v":0},{"$f":"Раздел2!J164","v":0},{"$f":"Раздел2!K164","v":0},{"$f":"Раздел2!L164","v":0}]
["Роллер спорт","157",0,null,null,null,null,null,null,null,null,null,null,null,null,null,null,null,null,null,null,0,null,null,null,null,0,null,null,null,null,{"$f":"Раздел2!C165","v":0},{"$f":"Раздел2!I165","v":0},{"$f":"Раздел2!J165","v":0},{"$f":"Раздел2!K165","v":0},{"$f":"Раздел2!L165","v":0}]
["Роуп скиппинг (спортивная скакалка)","158",0,null,null,null,null,null,null,null,null,null,null,null,null,null,null,null,null,null,null,0,null,null,null,null,0,null,null,null,null,{"$f":"Раздел2!C166","v":0},{"$f":"Раздел2!I166","v":0},{"$f":"Раздел2!J166","v":0},{"$f":"Раздел2!K166","v":0},{"$f":"Раздел2!L166","v":0}]
["Рукопашный бой","159",0,null,null,null,null,null,null,null,null,null,null,null,null,null,null,null,null,null,null,0,null,null,null,null,0,null,null,null,null,{"$f":"Раздел2!C167","v":0},{"$f":"Раздел2!I167","v":0},{"$f":"Раздел2!J167","v":0},{"$f":"Раздел2!K167","v":0},{"$f":"Раздел2!L167","v":0}]
["Рыболовный спорт","160",0,null,null,null,null,null,null,null,null,null,null,null,null,null,null,null,null,null,null,0,null,null,null,null,0,null,null,null,null,{"$f":"Раздел2!C168","v":0},{"$f":"Раздел2!I168","v":0},{"$f":"Раздел2!J168","v":0},{"$f":"Раздел2!K168","v":0},{"$f":"Раздел2!L168","v":0}]
["Сават","161",0,null,null,null,null,null,null,null,null,null,null,null,null,null,null,null,null,null,null,0,null,null,null,null,0,null,null,null,null,{"$f":"Раздел2!C169","v":0},{"$f":"Раздел2!I169","v":0},{"$f":"Раздел2!J169","v":0},{"$f":"Раздел2!K169","v":0},{"$f":"Раздел2!L169","v":0}]
["Самбо","162",0,null,null,null,null,null,null,null,null,null,null,null,null,null,null,null,null,null,null,0,null,null,null,null,0,null,null,null,null,{"$f":"Раздел2!C170","v":0},{"$f":"Раздел2!I170","v":0},{"$f":"Раздел2!J170","v":0},{"$f":"Раздел2!K170","v":0},{"$f":"Раздел2!L170","v":0}]
["Самолетный спорт","163",0,null,null,null,null,null,null,null,null,null,null,null,null,null,null,null,null,null,null,0,null,null,null,null,0,null,null,null,null,{"$f":"Раздел2!C171","v":0},{"$f":"Раздел2!I171","v":0},{"$f":"Раздел2!J171","v":0},{"$f":"Раздел2!K171","v":0},{"$f":"Раздел2!L171","v":0}]
["Санный спорт","164",0,null,null,null,null,null,null,null,null,null,null,null,null,null,null,null,null,null,null,0,null,null,null,null,0,null,null,null,null,{"$f":"Раздел2!C172","v":0},{"$f":"Раздел2!I172","v":0},{"$f":"Раздел2!J172","v":0},{"$f":"Раздел2!K172","v":0},{"$f":"Раздел2!L172","v":0}]
["Северное многоборье","165",0,null,null,null,null,null,null,null,null,null,null,null,null,null,null,null,null,null,null,0,null,null,null,null,0,null,null,null,null,{"$f":"Раздел2!C173","v":0},{"$f":"Раздел2!I173","v":0},{"$f":"Раздел2!J173","v":0},{"$f":"Раздел2!K173","v":0},{"$f":"Раздел2!L173","v":0}]
["Серфинг","166",0,null,null,null,null,null,null,null,null,null,null,null,null,null,null,null,null,null,null,0,null,null,null,null,0,null,null,null,null,{"$f":"Раздел2!C174","v":0},{"$f":"Раздел2!I174","v":0},{"$f":"Раздел2!J174","v":0},{"$f":"Раздел2!K174","v":0},{"$f":"Раздел2!L174","v":0}]
["Силовой экстрим","167",0,null,null,null,null,null,null,null,null,null,null,null,null,null,null,null,null,null,null,0,null,null,null,null,0,null,null,null,null,{"$f":"Раздел2!C175","v":0},{"$f":"Раздел2!I175","v":0},{"$f":"Раздел2!J175","v":0},{"$f":"Раздел2!K175","v":0},{"$f":"Раздел2!L175","v":0}]
["Синхронное плавание","168",0,null,null,null,null,null,null,null,null,null,null,null,null,null,null,null,null,null,null,0,null,null,null,null,0,null,null,null,null,{"$f":"Раздел2!C176","v":0},{"$f":"Раздел2!I176","v":0},{"$f":"Раздел2!J176","v":0},{"$f":"Раздел2!K176","v":0},{"$f":"Раздел2!L176","v":0}]
["Скалолазание","169",0,null,null,null,null,null,null,null,null,null,null,null,null,null,null,null,null,null,null,0,null,null,null,null,0,null,null,null,null,{"$f":"Раздел2!C177","v":0},{"$f":"Раздел2!I177","v":0},{"$f":"Раздел2!J177","v":0},{"$f":"Раздел2!K177","v":0},{"$f":"Раздел2!L177","v":0}]
["Сквош","170",0,null,null,null,null,null,null,null,null,null,null,null,null,null,null,null,null,null,null,0,null,null,null,null,0,null,null,null,null,{"$f":"Раздел2!C178","v":0},{"$f":"Раздел2!I178","v":0},{"$f":"Раздел2!J178","v":0},{"$f":"Раздел2!K178","v":0},{"$f":"Раздел2!L178","v":0}]
["Скейтбординг","171",0,null,null,null,null,null,null,null,null,null,null,null,null,null,null,null,null,null,null,0,null,null,null,null,0,null,null,null,null,{"$f":"Раздел2!C179","v":0},{"$f":"Раздел2!I179","v":0},{"$f":"Раздел2!J179","v":0},{"$f":"Раздел2!K179","v":0},{"$f":"Раздел2!L179","v":0}]
["Служебно-боевая стрельба ","172",0,null,null,null,null,null,null,null,null,null,null,null,null,null,null,null,null,null,null,0,null,null,null,null,0,null,null,null,null,{"$f":"Раздел2!C180","v":0},{"$f":"Раздел2!I180","v":0},{"$f":"Раздел2!J180","v":0},{"$f":"Раздел2!K180","v":0},{"$f":"Раздел2!L180","v":0}]
["Служебно-прикладной спорт","173",0,null,null,null,null,null,null,null,null,null,null,null,null,null,null,null,null,null,null,0,null,null,null,null,0,null,null,null,null,{"$f":"Раздел2!C181","v":0},{"$f":"Раздел2!I181","v":0},{"$f":"Раздел2!J181","v":0},{"$f":"Раздел2!K181","v":0},{"$f":"Раздел2!L181","v":0}]
["Служебно-прикладной спорт ФСО России","174",0,null,null,null,null,null,null,null,null,null,null,null,null,null,null,null,null,null,null,0,null,null,null,null,0,null,null,null,null,{"$f":"Раздел2!C182","v":0},{"$f":"Раздел2!I182","v":0},{"$f":"Раздел2!J182","v":0},{"$f":"Раздел2!K182","v":0},{"$f":"Раздел2!L182","v":0}]
["Служебно-прикладной спорт ФТС России","175",0,null,null,null,null,null,null,null,null,null,null,null,null,null,null,null,null,null,null,0,null,null,null,null,0,null,null,null,null,{"$f":"Раздел2!C183","v":0},{"$f":"Раздел2!I183","v":0},{"$f":"Раздел2!J183","v":0},{"$f":"Раздел2!K183","v":0},{"$f":"Раздел2!L183","v":0}]
["Служебное двоеборье","176",0,null,null,null,null,null,null,null,null,null,null,null,null,null,null,null,null,null,null,0,null,null,null,null,0,null,null,null,null,{"$f":"Раздел2!C184","v":0},{"$f":"Раздел2!I184","v":0},{"$f":"Раздел2!J184","v":0},{"$f":"Раздел2!K184","v":0},{"$f":"Раздел2!L184","v":0}]
["Служебное единоборство","177",0,null,null,null,null,null,null,null,null,null,null,null,null,null,null,null,null,null,null,0,null,null,null,null,0,null,null,null,null,{"$f":"Раздел2!C185","v":0},{"$f":"Раздел2!I185","v":0},{"$f":"Раздел2!J185","v":0},{"$f":"Раздел2!K185","v":0},{"$f":"Раздел2!L185","v":0}]
["Служебное многоборье","178",0,null,null,null,null,null,null,null,null,null,null,null,null,null,null,null,null,null,null,0,null,null,null,null,0,null,null,null,null,{"$f":"Раздел2!C186","v":0},{"$f":"Раздел2!I186","v":0},{"$f":"Раздел2!J186","v":0},{"$f":"Раздел2!K186","v":0},{"$f":"Раздел2!L186","v":0}]
["Служебный биатлон","179",0,null,null,null,null,null,null,null,null,null,null,null,null,null,null,null,null,null,null,0,null,null,null,null,0,null,null,null,null,{"$f":"Раздел2!C187","v":0},{"$f":"Раздел2!I187","v":0},{"$f":"Раздел2!J187","v":0},{"$f":"Раздел2!K187","v":0},{"$f":"Раздел2!L187","v":0}]
["Спасательный спорт","180",0,null,null,null,null,null,null,null,null,null,null,null,null,null,null,null,null,null,null,0,null,null,null,null,0,null,null,null,null,{"$f":"Раздел2!C188","v":0},{"$f":"Раздел2!I188","v":0},{"$f":"Раздел2!J188","v":0},{"$f":"Раздел2!K188","v":0},{"$f":"Раздел2!L188","v":0}]
["Стрельба из боевого ручного стрелкового оружия","181",0,null,null,null,null,null,null,null,null,null,null,null,null,null,null,null,null,null,null,0,null,null,null,null,0,null,null,null,null,{"$f":"Раздел2!C189","v":0},{"$f":"Раздел2!I189","v":0},{"$f":"Раздел2!J189","v":0},{"$f":"Раздел2!K189","v":0},{"$f":"Раздел2!L189","v":0}]
["Стрельба из штатного или табельного оружия","182",0,null,null,null,null,null,null,null,null,null,null,null,null,null,null,null,null,null,null,0,null,null,null,null,0,null,null,null,null,{"$f":"Раздел2!C190","v":0},{"$f":"Раздел2!I190","v":0},{"$f":"Раздел2!J190","v":0},{"$f":"Раздел2!K190","v":0},{"$f":"Раздел2!L190","v":0}]
["Стрельба на дальние дистанции","183",0,null,null,null,null,null,null,null,null,null,null,null,null,null,null,null,null,null,null,0,null,null,null,null,0,null,null,null,null,{"$f":"Раздел2!C191","v":0},{"$f":"Раздел2!I191","v":0},{"$f":"Раздел2!J191","v":0},{"$f":"Раздел2!K191","v":0},{"$f":"Раздел2!L191","v":0}]
["Смешанное боевое единоборство (ММА)","184",0,null,null,null,null,null,null,null,null,null,null,null,null,null,null,null,null,null,null,0,null,null,null,null,0,null,null,null,null,{"$f":"Раздел2!C192","v":0},{"$f":"Раздел2!I192","v":0},{"$f":"Раздел2!J192","v":0},{"$f":"Раздел2!K192","v":0},{"$f":"Раздел2!L192","v":0}]
["Сноуборд","185",0,null,null,null,null,null,null,null,null,null,null,null,null,null,null,null,null,null,null,0,null,null,null,null,0,null,null,null,null,{"$f":"Раздел2!C193","v":0},{"$f":"Раздел2!I193","v":0},{"$f":"Раздел2!J193","v":0},{"$f":"Раздел2!K193","v":0},{"$f":"Раздел2!L193","v":0}]
["Современное пятиборье","186",0,null,null,null,null,null,null,null,null,null,null,null,null,null,null,null,null,null,null,0,null,null,null,null,0,null,null,null,null,{"$f":"Раздел2!C194","v":0},{"$f":"Раздел2!I194","v":0},{"$f":"Раздел2!J194","v":0},{"$f":"Раздел2!K194","v":0},{"$f":"Раздел2!L194","v":0}]
["Софтбол","187",0,null,null,null,null,null,null,null,null,null,null,null,null,null,null,null,null,null,null,0,null,null,null,null,0,null,null,null,null,{"$f":"Раздел2!C195","v":0},{"$f":"Раздел2!I195","v":0},{"$f":"Раздел2!J195","v":0},{"$f":"Раздел2!K195","v":0},{"$f":"Раздел2!L195","v":0}]
["Спорт сверхлегкой авиации","188",0,null,null,null,null,null,null,null,null,null,null,null,null,null,null,null,null,null,null,0,null,null,null,null,0,null,null,null,null,{"$f":"Раздел2!C196","v":0},{"$f":"Раздел2!I196","v":0},{"$f":"Раздел2!J196","v":0},{"$f":"Раздел2!K196","v":0},{"$f":"Раздел2!L196","v":0}]
["Спортивная акробатика","189",0,null,null,null,null,null,null,null,null,null,null,null,null,null,null,null,null,null,null,0,null,null,null,null,0,null,null,null,null,{"$f":"Раздел2!C197","v":0},{"$f":"Раздел2!I197","v":0},{"$f":"Раздел2!J197","v":0},{"$f":"Раздел2!K197","v":0},{"$f":"Раздел2!L197","v":0}]
["Спортивная аэробика","190",0,null,null,null,null,null,null,null,null,null,null,null,null,null,null,null,null,null,null,0,null,null,null,null,0,null,null,null,null,{"$f":"Раздел2!C198","v":0},{"$f":"Раздел2!I198","v":0},{"$f":"Раздел2!J198","v":0},{"$f":"Раздел2!K198","v":0},{"$f":"Раздел2!L198","v":0}]
["Спортивная борьба - всего","191",0,{"$f":"SUM(D199:D203)","v":0},{"$f":"SUM(E199:E203)","v":0},0,0,0,0,0,0,0,0,0,0,0,0,0,0,0,0,0,0,0,0,0,0,0,0,0,0,{"$f":"Раздел2!C199","v":0},{"$f":"Раздел2!I199","v":0},{"$f":"Раздел2!J199","v":0},{"$f":"Раздел2!K199","v":0},{"$f":"Раздел2!L199","v":0}]
["в том числе:\nВольная борьба","192",0,null,null,null,null,null,null,null,null,null,null,null,null,null,null,null,null,null,null,0,null,null,null,null,0,null,null,null,null,{"$f":"Раздел2!C200","v":0},{"$f":"Раздел2!I200","v":0},{"$f":"Раздел2!J200","v":0},{"$f":"Раздел2!K200","v":0},{"$f":"Раздел2!L200","v":0}]
["Греко-римская борьба","193",0,null,null,null,null,null,null,null,null,null,null,null,null,null,null,null,null,null,null,0,null,null,null,null,0,null,null,null,null,{"$f":"Раздел2!C201","v":0},{"$f":"Раздел2!I201","v":0},{"$f":"Раздел2!J201","v":0},{"$f":"Раздел2!K201","v":0},{"$f":"Раздел2!L201","v":0}]
["Грэпплинг","194",{"$f":"SUM(D201:U201)","v":0},null,null,null,null,null,null,null,null,null,null,null,null,null,null,null,null,null,null,{"$f":"SUM(W201:Z201)","v":0},null,null,null,null,{"$f":"SUM(AB201:AE201)","v":0},null,null,null,null,{"$f":"Раздел2!C202","v":0},{"$f":"Раздел2!I202","v":0},{"$f":"Раздел2!J202","v":0},{"$f":"Раздел2!K202","v":0},{"$f":"Раздел2!L202","v":0}]
["Грэпплинг-ги","195",0,null,null,null,null,null,null,null,null,null,null,null,null,null,null,null,null,null,null,0,null,null,null,null,0,null,null,null,null,{"$f":"Раздел2!C203","v":0},{"$f":"Раздел2!I203","v":0},{"$f":"Раздел2!J203","v":0},{"$f":"Раздел2!K203","v":0},{"$f":"Раздел2!L203","v":0}]
["Панкратион","196",0,null,null,null,null,null,null,null,null,null,null,null,null,null,null,null,null,null,null,0,null,null,null,null,0,null,null,null,null,{"$f":"Раздел2!C204","v":0},{"$f":"Раздел2!I204","v":0},{"$f":"Раздел2!J204","v":0},{"$f":"Раздел2!K204","v":0},{"$f":"Раздел2!L204","v":0}]
["Спортивная гимнастика","197",0,null,null,null,null,null,null,null,null,null,null,null,null,null,null,null,null,null,null,0,null,null,null,null,0,null,null,null,null,{"$f":"Раздел2!C205","v":0},{"$f":"Раздел2!I205","v":0},{"$f":"Раздел2!J205","v":0},{"$f":"Раздел2!K205","v":0},{"$f":"Раздел2!L205","v":0}]
["Спортивная йога","198",0,null,null,null,null,null,null,null,null,null,null,null,null,null,null,null,null,null,null,0,null,null,null,null,0,null,null,null,null,{"$f":"Раздел2!C206","v":0},{"$f":"Раздел2!I206","v":0},{"$f":"Раздел2!J206","v":0},{"$f":"Раздел2!K206","v":0},{"$f":"Раздел2!L206","v":0}]
["Спортивно-прикладное собаководство","199",0,null,null,null,null,null,null,null,null,null,null,null,null,null,null,null,null,null,null,0,null,null,null,null,0,null,null,null,null,{"$f":"Раздел2!C207","v":0},{"$f":"Раздел2!I207","v":0},{"$f":"Раздел2!J207","v":0},{"$f":"Раздел2!K207","v":0},{"$f":"Раздел2!L207","v":0}]
["Спортивное программирование","200",0,null,null,null,null,null,null,null,null,null,null,null,null,null,null,null,null,null,null,0,null,null,null,null,0,null,null,null,null,{"$f":"Раздел2!C208","v":0},{"$f":"Раздел2!I208","v":0},{"$f":"Раздел2!J208","v":0},{"$f":"Раздел2!K208","v":0},{"$f":"Раздел2!L208","v":0}]
["Спортивное метание ножа","201",0,null,null,null,null,null,null,null,null,null,null,null,null,null,null,null,null,null,null,0,null,null,null,null,0,null,null,null,null,{"$f":"Раздел2!C209","v":0},{"$f":"Раздел2!I209","v":0},{"$f":"Раздел2!J209","v":0},{"$f":"Раздел2!K209","v":0},{"$f":"Раздел2!L209","v":0}]
["Спортивное ориентирование","202",0,null,null,null,null,null,null,null,null,null,null,null,null,null,null,null,null,null,null,0,null,null,null,null,0,null,null,null,null,{"$f":"Раздел2!C210","v":0},{"$f":"Раздел2!I210","v":0},{"$f":"Раздел2!J210","v":0},{"$f":"Раздел2!K210","v":0},{"$f":"Раздел2!L210","v":0}]
["Спортивный бридж","203",0,null,null,null,null,null,null,null,null,null,null,null,null,null,null,null,null,null,null,0,null,null,null,null,0,null,null,null,null,{"$f":"Раздел2!C211","v":0},{"$f":"Раздел2!I211","v":0},{"$f":"Раздел2!J211","v":0},{"$f":"Раздел2!K211","v":0},{"$f":"Раздел2!L211","v":0}]
["Спортивный туризм","204",0,null,null,null,null,null,null,null,null,null,null,null,null,null,null,null,null,null,null,0,null,null,null,null,0,null,null,null,null,{"$f":"Раздел2!C212","v":0},{"$f":"Раздел2!I212","v":0},{"$f":"Раздел2!J212","v":0},{"$f":"Раздел2!K212","v":0},{"$f":"Раздел2!L212","v":0}]
["Стендовая стрельба - всего","205",0,{"$f":"SUM(D213:D216)","v":0},{"$f":"SUM(E213:E216)","v":0},0,0,0,0,0,0,0,0,0,0,0,0,0,0,0,0,0,0,0,0,0,0,0,0,0,0,{"$f":"Раздел2!C213","v":0},{"$f":"Раздел2!I213","v":0},{"$f":"Раздел2!J213","v":0},{"$f":"Раздел2!K213","v":0},{"$f":"Раздел2!L213","v":0}]
["в том числе:\nТрап","206",0,null,null,null,null,null,null,null,null,null,null,null,null,null,null,null,null,null,null,0,null,null,null,null,0,null,null,null,null,{"$f":"Раздел2!C214","v":0},{"$f":"Раздел2!I214","v":0},{"$f":"Раздел2!J214","v":0},{"$f":"Раздел2!K214","v":0},{"$f":"Раздел2!L214","v":0}]
["Скит","207",0,null,null,null,null,null,null,null,null,null,null,null,null,null,null,null,null,null,null,0,null,null,null,null,0,null,null,null,null,{"$f":"Раздел2!C215","v":0},{"$f":"Раздел2!I215","v":0},{"$f":"Раздел2!J215","v":0},{"$f":"Раздел2!K215","v":0},{"$f":"Раздел2!L215","v":0}]
["Дубль-трап","208",0,null,null,null,null,null,null,null,null,null,null,null,null,null,null,null,null,null,null,0,null,null,null,null,0,null,null,null,null,{"$f":"Раздел2!C216","v":0},{"$f":"Раздел2!I216","v":0},{"$f":"Раздел2!J216","v":0},{"$f":"Раздел2!K216","v":0},{"$f":"Раздел2!L216","v":0}]
["Спортинг","209",0,null,null,null,null,null,null,null,null,null,null,null,null,null,null,null,null,null,null,0,null,null,null,null,0,null,null,null,null,{"$f":"Раздел2!C217","v":0},{"$f":"Раздел2!I217","v":0},{"$f":"Раздел2!J217","v":0},{"$f":"Раздел2!K217","v":0},{"$f":"Раздел2!L217","v":0}]
["Страйкбол","210",0,null,null,null,null,null,null,null,null,null,null,null,null,null,null,null,null,null,null,0,null,null,null,null,0,null,null,null,null,{"$f":"Раздел2!C218","v":0},{"$f":"Раздел2!I218","v":0},{"$f":"Раздел2!J218","v":0},{"$f":"Раздел2!K218","v":0},{"$f":"Раздел2!L218","v":0}]
["Стрельба из арбалета","211",0,null,null,null,null,null,null,null,null,null,null,null,null,null,null,null,null,null,null,0,null,null,null,null,0,null,null,null,null,{"$f":"Раздел2!C219","v":0},{"$f":"Раздел2!I219","v":0},{"$f":"Раздел2!J219","v":0},{"$f":"Раздел2!K219","v":0},{"$f":"Раздел2!L219","v":0}]
["Стрельба из лука - всего","212",0,{"$f":"SUM(D220:D222)","v":0},{"$f":"SUM(E220:E222)","v":0},0,0,0,0,0,0,0,0,0,0,0,0,0,0,0,0,0,0,0,0,0,0,0,0,0,0,{"$f":"Раздел2!C220","v":0},{"$f":"Раздел2!I220","v":0},{"$f":"Раздел2!J220","v":0},{"$f":"Раздел2!K220","v":0},{"$f":"Раздел2!L220","v":0}]
["в том числе:\nКлассический лук","213",0,null,null,null,null,null,null,null,null,null,null,null,null,null,null,null,null,null,null,0,null,null,null,null,0,null,null,null,null,{"$f":"Раздел2!C221","v":0},{"$f":"Раздел2!I221","v":0},{"$f":"Раздел2!J221","v":0},{"$f":"Раздел2!K221","v":0},{"$f":"Раздел2!L221","v":0}]
["   Блочный лук","214",0,null,null,null,null,null,null,null,null,null,null,null,null,null,null,null,null,null,null,0,null,null,null,null,0,null,null,null,null,{"$f":"Раздел2!C222","v":0},{"$f":"Раздел2!I222","v":0},{"$f":"Раздел2!J222","v":0},{"$f":"Раздел2!K222","v":0},{"$f":"Раздел2!L222","v":0}]
["   Ачери ","215",0,null,null,null,null,null,null,null,null,null,null,null,null,null,null,null,null,null,null,0,null,null,null,null,0,null,null,null,null,{"$f":"Раздел2!C223","v":0},{"$f":"Раздел2!I223","v":0},{"$f":"Раздел2!J223","v":0},{"$f":"Раздел2!K223","v":0},{"$f":"Раздел2!L223","v":0}]
["Судомодельный спорт","216",0,null,null,null,null,null,null,null,null,null,null,null,null,null,null,null,null,null,null,0,null,null,null,null,0,null,null,null,null,{"$f":"Раздел2!C224","v":0},{"$f":"Раздел2!I224","v":0},{"$f":"Раздел2!J224","v":0},{"$f":"Раздел2!K224","v":0},{"$f":"Раздел2!L224","v":0}]
["Сумо","217",0,null,null,null,null,null,null,null,null,null,null,null,null,null,null,null,null,null,null,0,null,null,null,null,0,null,null,null,null,{"$f":"Раздел2!C225","v":0},{"$f":"Раздел2!I225","v":0},{"$f":"Раздел2!J225","v":0},{"$f":"Раздел2!K225","v":0},{"$f":"Раздел2!L225","v":0}]
["Таврели","218",0,null,null,null,null,null,null,null,null,null,null,null,null,null,null,null,null,null,null,0,null,null,null,null,0,null,null,null,null,{"$f":"Раздел2!C226","v":0},{"$f":"Раздел2!I226","v":0},{"$f":"Раздел2!J226","v":0},{"$f":"Раздел2!K226","v":0},{"$f":"Раздел2!L226","v":0}]
["Тайский бокс","219",0,null,null,null,null,null,null,null,null,null,null,null,null,null,null,null,null,null,null,0,null,null,null,null,0,null,null,null,null,{"$f":"Раздел2!C227","v":0},{"$f":"Раздел2!I227","v":0},{"$f":"Раздел2!J227","v":0},{"$f":"Раздел2!K227","v":0},{"$f":"Раздел2!L227","v":0}]
["Танцевальный спорт - всего","220",0,{"$f":"SUM(D228:D229)","v":0},{"$f":"SUM(E228:E229)","v":0},0,0,0,0,0,0,0,0,0,0,0,0,0,0,0,0,0,0,0,0,0,0,0,0,0,0,{"$f":"Раздел2!C228","v":0},{"$f":"Раздел2!I228","v":0},{"$f":"Раздел2!J228","v":0},{"$f":"Раздел2!K228","v":0},{"$f":"Раздел2!L228","v":0}]
["в том числе:\nТанцевальный спорт","221",0,null,null,null,null,null,null,null,null,null,null,null,null,null,null,null,null,null,null,0,null,null,null,null,0,null,null,null,null,{"$f":"Раздел2!C229","v":0},{"$f":"Раздел2!I229","v":0},{"$f":"Раздел2!J229","v":0},{"$f":"Раздел2!K229","v":0},{"$f":"Раздел2!L229","v":0}]
["Брейкинг","222",0,null,null,null,null,null,null,null,null,null,null,null,null,null,null,null,null,null,null,0,null,null,null,null,0,null,null,null,null,{"$f":"Раздел2!C230","v":0},{"$f":"Раздел2!I230","v":0},{"$f":"Раздел2!J230","v":0},{"$f":"Раздел2!K230","v":0},{"$f":"Раздел2!L230","v":0}]
["Теннис","223",0,null,null,null,null,null,null,null,null,null,null,null,null,null,null,null,null,null,null,0,null,null,null,null,0,null,null,null,null,{"$f":"Раздел2!C231","v":0},{"$f":"Раздел2!I231","v":0},{"$f":"Раздел2!J231","v":0},{"$f":"Раздел2!K231","v":0},{"$f":"Раздел2!L231","v":0}]
["Триатлон","224",0,null,null,null,null,null,null,null,null,null,null,null,null,null,null,null,null,null,null,0,null,null,null,null,0,null,null,null,null,{"$f":"Раздел2!C232","v":0},{"$f":"Раздел2!I232","v":0},{"$f":"Раздел2!J232","v":0},{"$f":"Раздел2!K232","v":0},{"$f":"Раздел2!L232","v":0}]
["Тхэквондо (ВТФ)","225",0,null,null,null,null,null,null,null,null,null,null,null,null,null,null,null,null,null,null,0,null,null,null,null,0,null,null,null,null,{"$f":"Раздел2!C233","v":0},{"$f":"Раздел2!I233","v":0},{"$f":"Раздел2!J233","v":0},{"$f":"Раздел2!K233","v":0},{"$f":"Раздел2!L233","v":0}]
["Тхэквондо ГТФ","226",0,null,null,null,null,null,null,null,null,null,null,null,null,null,null,null,null,null,null,0,null,null,null,null,0,null,null,null,null,{"$f":"Раздел2!C234","v":0},{"$f":"Раздел2!I234","v":0},{"$f":"Раздел2!J234","v":0},{"$f":"Раздел2!K234","v":0},{"$f":"Раздел2!L234","v":0}]
["Тхэквондо ИТФ","227",0,null,null,null,null,null,null,null,null,null,null,null,null,null,null,null,null,null,null,0,null,null,null,null,0,null,null,null,null,{"$f":"Раздел2!C235","v":0},{"$f":"Раздел2!I235","v":0},{"$f":"Раздел2!J235","v":0},{"$f":"Раздел2!K235","v":0},{"$f":"Раздел2!L235","v":0}]
["Тхэквондо МФТ","228",0,null,null,null,null,null,null,null,null,null,null,null,null,null,null,null,null,null,null,0,null,null,null,null,0,null,null,null,null,{"$f":"Раздел2!C236","v":0},{"$f":"Раздел2!I236","v":0},{"$f":"Раздел2!J236","v":0},{"$f":"Раздел2!K236","v":0},{"$f":"Раздел2!L236","v":0}]
["Тяжелая атлетика","229",0,null,null,null,null,null,null,null,null,null,null,null,null,null,null,null,null,null,null,0,null,null,null,null,0,null,null,null,null,{"$f":"Раздел2!C237","v":0},{"$f":"Раздел2!I237","v":0},{"$f":"Раздел2!J237","v":0},{"$f":"Раздел2!K237","v":0},{"$f":"Раздел2!L237","v":0}]
["Универсальный бой","230",0,null,null,null,null,null,null,null,null,null,null,null,null,null,null,null,null,null,null,0,null,null,null,null,0,null,null,null,null,{"$f":"Раздел2!C238","v":0},{"$f":"Раздел2!I238","v":0},{"$f":"Раздел2!J238","v":0},{"$f":"Раздел2!K238","v":0},{"$f":"Раздел2!L238","v":0}]
["Ушу","231",0,null,null,null,null,null,null,null,null,null,null,null,null,null,null,null,null,null,null,0,null,null,null,null,0,null,null,null,null,{"$f":"Раздел2!C239","v":0},{"$f":"Раздел2!I239","v":0},{"$f":"Раздел2!J239","v":0},{"$f":"Раздел2!K239","v":0},{"$f":"Раздел2!L239","v":0}]
["Фехтование - всего","232",0,{"$f":"SUM(D240:D243)","v":0},{"$f":"SUM(E240:E243)","v":0},0,0,0,0,0,0,0,0,0,0,0,0,0,0,0,0,0,0,0,0,0,0,0,0,0,0,{"$f":"Раздел2!C240","v":0},{"$f":"Раздел2!I240","v":0},{"$f":"Раздел2!J240","v":0},{"$f":"Раздел2!K240","v":0},{"$f":"Раздел2!L240","v":0}]
["в том числе:\nРапира","233",0,null,null,null,null,null,null,null,null,null,null,null,null,null,null,null,null,null,null,0,null,null,null,null,0,null,null,null,null,{"$f":"Раздел2!C241","v":0},{"$f":"Раздел2!I241","v":0},{"$f":"Раздел2!J241","v":0},{"$f":"Раздел2!K241","v":0},{"$f":"Раздел2!L241","v":0}]
["Сабля","234",0,null,null,null,null,null,null,null,null,null,null,null,null,null,null,null,null,null,null,0,null,null,null,null,0,null,null,null,null,{"$f":"Раздел2!C242","v":0},{"$f":"Раздел2!I242","v":0},{"$f":"Раздел2!J242","v":0},{"$f":"Раздел2!K242","v":0},{"$f":"Раздел2!L242","v":0}]
["Шпага","235",0,null,null,null,null,null,null,null,null,null,null,null,null,null,null,null,null,null,null,0,null,null,null,null,0,null,null,null,null,{"$f":"Раздел2!C243","v":0},{"$f":"Раздел2!I243","v":0},{"$f":"Раздел2!J243","v":0},{"$f":"Раздел2!K243","v":0},{"$f":"Раздел2!L243","v":0}]
["Арт-фехтование","236",0,null,null,null,null,null,null,null,null,null,null,null,null,null,null,null,null,null,null,0,null,null,null,null,0,null,null,null,null,{"$f":"Раздел2!C244","v":0},{"$f":"Раздел2!I244","v":0},{"$f":"Раздел2!J244","v":0},{"$f":"Раздел2!K244","v":0},{"$f":"Раздел2!L244","v":0}]
["Фигурное катание на коньках","237",0,null,null,null,null,null,null,null,null,null,null,null,null,null,null,null,null,null,null,0,null,null,null,null,0,null,null,null,null,{"$f":"Раздел2!C245","v":0},{"$f":"Раздел2!I245","v":0},{"$f":"Раздел2!J245","v":0},{"$f":"Раздел2!K245","v":0},{"$f":"Раздел2!L245","v":0}]
["Фитнес-аэробика","238",0,null,null,null,null,null,null,null,null,null,null,null,null,null,null,null,null,null,null,0,null,null,null,null,0,null,null,null,null,{"$f":"Раздел2!C246","v":0},{"$f":"Раздел2!I246","v":0},{"$f":"Раздел2!J246","v":0},{"$f":"Раздел2!K246","v":0},{"$f":"Раздел2!L246","v":0}]
["Флаинг диск","239",0,null,null,null,null,null,null,null,null,null,null,null,null,null,null,null,null,null,null,0,null,null,null,null,0,null,null,null,null,{"$f":"Раздел2!C247","v":0},{"$f":"Раздел2!I247","v":0},{"$f":"Раздел2!J247","v":0},{"$f":"Раздел2!K247","v":0},{"$f":"Раздел2!L247","v":0}]
["Флорбол","240",0,null,null,null,null,null,null,null,null,null,null,null,null,null,null,null,null,null,null,0,null,null,null,null,0,null,null,null,null,{"$f":"Раздел2!C248","v":0},{"$f":"Раздел2!I248","v":0},{"$f":"Раздел2!J248","v":0},{"$f":"Раздел2!K248","v":0},{"$f":"Раздел2!L248","v":0}]
["Фристайл - всего","241",0,{"$f":"SUM(D249:D254)","v":0},{"$f":"SUM(E249:E254)","v":0},0,0,0,0,0,0,0,0,0,0,0,0,0,0,0,0,0,0,0,0,0,0,0,0,0,0,{"$f":"Раздел2!C249","v":0},{"$f":"Раздел2!I249","v":0},{"$f":"Раздел2!J249","v":0},{"$f":"Раздел2!K249","v":0},{"$f":"Раздел2!L249","v":0}]
["в том числе:\nАкробатика","242",0,null,null,null,null,null,null,null,null,null,null,null,null,null,null,null,null,null,null,0,null,null,null,null,0,null,null,null,null,{"$f":"Раздел2!C250","v":0},{"$f":"Раздел2!I250","v":0},{"$f":"Раздел2!J250","v":0},{"$f":"Раздел2!K250","v":0},{"$f":"Раздел2!L250","v":0}]
["Биг-эйр","243",0,null,null,null,null,null,null,null,null,null,null,null,null,null,null,null,null,null,null,0,null,null,null,null,0,null,null,null,null,{"$f":"Раздел2!C251","v":0},{"$f":"Раздел2!I251","v":0},{"$f":"Раздел2!J251","v":0},{"$f":"Раздел2!K251","v":0},{"$f":"Раздел2!L251","v":0}]
["Могул","244",0,null,null,null,null,null,null,null,null,null,null,null,null,null,null,null,null,null,null,0,null,null,null,null,0,null,null,null,null,{"$f":"Раздел2!C252","v":0},{"$f":"Раздел2!I252","v":0},{"$f":"Раздел2!J252","v":0},{"$f":"Раздел2!K252","v":0},{"$f":"Раздел2!L252","v":0}]
["Ски-кросс","245",0,null,null,null,null,null,null,null,null,null,null,null,null,null,null,null,null,null,null,0,null,null,null,null,0,null,null,null,null,{"$f":"Раздел2!C253","v":0},{"$f":"Раздел2!I253","v":0},{"$f":"Раздел2!J253","v":0},{"$f":"Раздел2!K253","v":0},{"$f":"Раздел2!L253","v":0}]
["Хаф-пайп","246",0,null,null,null,null,null,null,null,null,null,null,null,null,null,null,null,null,null,null,0,null,null,null,null,0,null,null,null,null,{"$f":"Раздел2!C254","v":0},{"$f":"Раздел2!I254","v":0},{"$f":"Раздел2!J254","v":0},{"$f":"Раздел2!K254","v":0},{"$f":"Раздел2!L254","v":0}]
["Слоуп-стайл","247",0,null,null,null,null,null,null,null,null,null,null,null,null,null,null,null,null,null,null,0,null,null,null,null,0,null,null,null,null,{"$f":"Раздел2!C255","v":0},{"$f":"Раздел2!I255","v":0},{"$f":"Раздел2!J255","v":0},{"$f":"Раздел2!K255","v":0},{"$f":"Раздел2!L255","v":0}]
["Функциональное многоборье","248",0,null,null,null,null,null,null,null,null,null,null,null,null,null,null,null,null,null,null,0,null,null,null,null,0,null,null,null,null,{"$f":"Раздел2!C256","v":0},{"$f":"Раздел2!I256","v":0},{"$f":"Раздел2!J256","v":0},{"$f":"Раздел2!K256","v":0},{"$f":"Раздел2!L256","v":0}]
["Футбол - всего","249",0,{"$f":"SUM(D257:D262)","v":0},{"$f":"SUM(E257:E262)","v":0},0,0,0,0,0,0,0,0,0,0,0,0,0,0,0,0,0,0,0,0,0,0,0,0,0,0,{"$f":"Раздел2!C257","v":0},{"$f":"Раздел2!I257","v":0},{"$f":"Раздел2!J257","v":0},{"$f":"Раздел2!K257","v":0},{"$f":"Раздел2!L257","v":0}]
["в том числе:\nФутбол (муж.)","250",0,null,null,null,null,null,null,null,null,null,null,null,null,null,null,null,null,null,null,0,null,null,null,null,0,null,null,null,null,{"$f":"Раздел2!C258","v":0},{"$f":"Раздел2!I258","v":0},{"$f":"Раздел2!J258","v":0},{"$f":"Раздел2!K258","v":0},{"$f":"Раздел2!L258","v":0}]
["Футбол (жен.)","251",0,null,null,null,null,null,null,null,null,null,null,null,null,null,null,null,null,null,null,0,null,null,null,null,0,null,null,null,null,{"$f":"Раздел2!C259","v":0},{"$f":"Раздел2!I259","v":0},{"$f":"Раздел2!J259","v":0},{"$f":"Раздел2!K259","v":0},{"$f":"Раздел2!L259","v":0}]
["Мини-футбол (футзал)","252",0,null,null,null,null,null,null,null,null,null,null,null,null,null,null,null,null,null,null,0,null,null,null,null,0,null,null,null,null,{"$f":"Раздел2!C260","v":0},{"$f":"Раздел2!I260","v":0},{"$f":"Раздел2!J260","v":0},{"$f":"Раздел2!K260","v":0},{"$f":"Раздел2!L260","v":0}]
["Пляжный футбол","253",0,null,null,null,null,null,null,null,null,null,null,null,null,null,null,null,null,null,null,0,null,null,null,null,0,null,null,null,null,{"$f":"Раздел2!C261","v":0},{"$f":"Раздел2!I261","v":0},{"$f":"Раздел2!J261","v":0},{"$f":"Раздел2!K261","v":0},{"$f":"Раздел2!L261","v":0}]
["Футбол 6х6, 7х7, 8х8","254",0,null,null,null,null,null,null,null,null,null,null,null,null,null,null,null,null,null,null,0,null,null,null,null,0,null,null,null,null,{"$f":"Раздел2!C262","v":0},{"$f":"Раздел2!I262","v":0},{"$f":"Раздел2!J262","v":0},{"$f":"Раздел2!K262","v":0},{"$f":"Раздел2!L262","v":0}]
["Интерактивный футбол","255",0,null,null,null,null,null,null,null,null,null,null,null,null,null,null,null,null,null,null,0,null,null,null,null,0,null,null,null,null,{"$f":"Раздел2!C263","v":0},{"$f":"Раздел2!I263","v":0},{"$f":"Раздел2!J263","v":0},{"$f":"Раздел2!K263","v":0},{"$f":"Раздел2!L263","v":0}]
["Хапкидо","256",0,null,null,null,null,null,null,null,null,null,null,null,null,null,null,null,null,null,null,0,null,null,null,null,0,null,null,null,null,{"$f":"Раздел2!C264","v":0},{"$f":"Раздел2!I264","v":0},{"$f":"Раздел2!J264","v":0},{"$f":"Раздел2!K264","v":0},{"$f":"Раздел2!L264","v":0}]
["Хапсагай","257",0,null,null,null,null,null,null,null,null,null,null,null,null,null,null,null,null,null,null,0,null,null,null,null,0,null,null,null,null,{"$f":"Раздел2!C265","v":0},{"$f":"Раздел2!I265","v":0},{"$f":"Раздел2!J265","v":0},{"$f":"Раздел2!K265","v":0},{"$f":"Раздел2!L265","v":0}]
["Хоккей - всего","258",{"$f":"SUM(D265:U265)","v":0},{"$f":"SUM(D266:D267)","v":0},{"$f":"SUM(E266:E267)","v":0},0,0,0,0,0,0,0,0,0,0,0,0,0,0,0,0,0,0,0,0,0,0,0,0,0,0,{"$f":"Раздел2!C266","v":0},{"$f":"Раздел2!I266","v":0},{"$f":"Раздел2!J266","v":0},{"$f":"Раздел2!K266","v":0},{"$f":"Раздел2!L266","v":0}]
["в том числе:\nХоккей (муж.)","259",0,null,null,null,null,null,null,null,null,null,null,null,null,null,null,null,null,null,null,{"$f":"SUM(W266:Z266)","v":0},null,null,null,null,{"$f":"SUM(AB266:AE266)","v":0},null,null,null,null,{"$f":"Раздел2!C267","v":0},{"$f":"Раздел2!I267","v":0},{"$f":"Раздел2!J267","v":0},{"$f":"Раздел2!K267","v":0},{"$f":"Раздел2!L267","v":0}]
["Хоккей (жен.)","260",0,null,null,null,null,null,null,null,null,null,null,null,null,null,null,null,null,null,null,0,null,null,null,null,0,null,null,null,null,{"$f":"Раздел2!C268","v":0},{"$f":"Раздел2!I268","v":0},{"$f":"Раздел2!J268","v":0},{"$f":"Раздел2!K268","v":0},{"$f":"Раздел2!L268","v":0}]
["Хоккей на траве - всего","261",0,{"$f":"SUM(D269:D271)","v":0},{"$f":"SUM(E269:E271)","v":0},0,0,0,0,0,0,0,0,0,0,0,0,0,0,0,0,0,0,0,0,0,0,0,0,0,0,{"$f":"Раздел2!C269","v":0},{"$f":"Раздел2!I269","v":0},{"$f":"Раздел2!J269","v":0},{"$f":"Раздел2!K269","v":0},{"$f":"Раздел2!L269","v":0}]
["в том числе:\nХоккей на траве (муж.)","262",0,null,null,null,null,null,null,null,null,null,null,null,null,null,null,null,null,null,null,0,null,null,null,null,0,null,null,null,null,{"$f":"Раздел2!C270","v":0},{"$f":"Раздел2!I270","v":0},{"$f":"Раздел2!J270","v":0},{"$f":"Раздел2!K270","v":0},{"$f":"Раздел2!L270","v":0}]
["Хоккей на траве (жен.)","263",0,null,null,null,null,null,null,null,null,null,null,null,null,null,null,null,null,null,null,0,null,null,null,null,0,null,null,null,null,{"$f":"Раздел2!C271","v":0},{"$f":"Раздел2!I271","v":0},{"$f":"Раздел2!J271","v":0},{"$f":"Раздел2!K271","v":0},{"$f":"Раздел2!L271","v":0}]
["Индорхоккей","264",0,null,null,null,null,null,null,null,null,null,null,null,null,null,null,null,null,null,null,0,null,null,null,null,0,null,null,null,null,{"$f":"Раздел2!C272","v":0},{"$f":"Раздел2!I272","v":0},{"$f":"Раздел2!J272","v":0},{"$f":"Раздел2!K272","v":0},{"$f":"Раздел2!L272","v":0}]
["Хоккей с мячом","265",0,null,null,null,null,null,null,null,null,null,null,null,null,null,null,null,null,null,null,0,null,null,null,null,0,null,null,null,null,{"$f":"Раздел2!C273","v":0},{"$f":"Раздел2!I273","v":0},{"$f":"Раздел2!J273","v":0},{"$f":"Раздел2!K273","v":0},{"$f":"Раздел2!L273","v":0}]
["Художественная гимнастика","266",0,null,null,null,null,null,null,null,null,null,null,null,null,null,null,null,null,null,null,0,null,null,null,null,0,null,null,null,null,{"$f":"Раздел2!C274","v":0},{"$f":"Раздел2!I274","v":0},{"$f":"Раздел2!J274","v":0},{"$f":"Раздел2!K274","v":0},{"$f":"Раздел2!L274","v":0}]
["Хуреш","267",0,null,null,null,null,null,null,null,null,null,null,null,null,null,null,null,null,null,null,0,null,null,null,null,0,null,null,null,null,{"$f":"Раздел2!C275","v":0},{"$f":"Раздел2!I275","v":0},{"$f":"Раздел2!J275","v":0},{"$f":"Раздел2!K275","v":0},{"$f":"Раздел2!L275","v":0}]
["Чир спорт","268",0,null,null,null,null,null,null,null,null,null,null,null,null,null,null,null,null,null,null,0,null,null,null,null,0,null,null,null,null,{"$f":"Раздел2!C276","v":0},{"$f":"Раздел2!I276","v":0},{"$f":"Раздел2!J276","v":0},{"$f":"Раздел2!K276","v":0},{"$f":"Раздел2!L276","v":0}]
["Шахматы","269",15,15,null,null,null,null,null,null,null,null,null,null,null,null,null,null,null,null,null,15,15,null,null,null,10,10,null,null,null,{"$f":"Раздел2!C277","v":1},{"$f":"Раздел2!I277","v":15},{"$f":"Раздел2!J277","v":0},{"$f":"Раздел2!K277","v":0},{"$f":"Раздел2!L277","v":0}]
["Шашки","270",0,null,null,null,null,null,null,null,null,null,null,null,null,null,null,null,null,null,null,0,null,null,null,null,0,null,null,null,null,{"$f":"Раздел2!C278","v":0},{"$f":"Раздел2!I278","v":0},{"$f":"Раздел2!J278","v":0},{"$f":"Раздел2!K278","v":0},{"$f":"Раздел2!L278","v":0}]
["Шодсанлат","271",0,null,null,null,null,null,null,null,null,null,null,null,null,null,null,null,null,null,null,0,null,null,null,null,0,null,null,null,null,{"$f":"Раздел2!C279","v":0},{"$f":"Раздел2!I279","v":0},{"$f":"Раздел2!J279","v":0},{"$f":"Раздел2!K279","v":0},{"$f":"Раздел2!L279","v":0}]
["Эстетическая гимнастика","272",0,null,null,null,null,null,null,null,null,null,null,null,null,null,null,null,null,null,null,0,null,null,null,null,0,null,null,null,null,{"$f":"Раздел2!C280","v":0},{"$f":"Раздел2!I280","v":0},{"$f":"Раздел2!J280","v":0},{"$f":"Раздел2!K280","v":0},{"$f":"Раздел2!L280","v":0}]
["Якутские национальные прыжки","273",0,null,null,null,null,null,null,null,null,null,null,null,null,null,null,null,null,null,null,0,null,null,null,null,0,null,null,null,null,{"$f":"Раздел2!C281","v":0},{"$f":"Раздел2!I281","v":0},{"$f":"Раздел2!J281","v":0},{"$f":"Раздел2!K281","v":0},{"$f":"Раздел2!L281","v":0}]
["ИТОГО","274",{"$f":"SUM(C8:C21,C25:C28,C31:C36,C47:C52,C57:C59,C41:C44,C63:C73,C78:C88,C92:C99,C102:C106,C114:C117,C118:C131,C134:C139,C142,C147:C148,C154:C157,C163:C164,C165:C179,C180:C198,C204:C209,C210:C212,C217:C219,C223:C227,C230:C239,C244:C248,C255:C256,C263:C265,C268,C272:C280)","v":798},{"$f":"SUM(D8:D21,D25:D28,D31:D36,D47:D52,D57:D59,D41:D44,D63:D73,D78:D88,D92:D99,D102:D106,D114:D117,D118:D131,D134:D139,D142,D147:D148,D154:D157,D163:D164,D165:D179,D180:D198,D204:D209,D210:D212,D217:D219,D223:D227,D230:D239,D244:D248,D255:D256,D263:D265,D268,D272:D280)","v":255},257,97,56,43,{"$f":"SUM(I8:I21,I25:I28,I31:I36,I47:I52,I57:I59,I41:I44,I63:I73,I78:I88,I92:I99,I102:I106,I114:I117,I118:I131,I134:I139,I142,I147:I148,I154:I157,I163:I164,I165:I179,I180:I198,I204:I209,I210:I212,I217:I219,I223:I227,I230:I239,I244:I248,I255:I256,I263:I265,I268,I272:I280)","v":48},25,17,0,0,0,0,0,0,0,0,0,0,798,609,189,0,0,259,200,59,0,0,{"$f":"Раздел2!C282","v":7},{"$f":"Раздел2!I282","v":609},{"$f":"Раздел2!J282","v":189},{"$f":"Раздел2!K282","v":0},{"$f":"Раздел2!L282","v":0}]

{"sheet":"Раздел4","index":4,"n_rows":13,"n_cols":22,"rows_kept":13,"cut":false,"hidden":false,"merged":[[1,18,1,20],[4,8,5,8],[0,0,0,19],[2,0,5,0],[2,1,5,1],[2,2,5,2],[2,3,2,15],[2,16,2,20],[3,3,3,15],[3,16,3,18],[3,19,5,19],[3,20,5,20],[4,3,5,3],[4,4,5,4],[4,5,5,5],[4,6,5,6],[4,7,5,7],[4,15,5,15],[4,16,5,16],[4,17,5,17],[4,18,5,18],[4,9,5,9],[4,10,5,10],[4,11,5,11],[4,12,5,12],[4,13,5,13],[4,14,5,14]]}
["Раздел IV. Численность занимающихся спортивной подготовкой в возрасте 5 -17 лет"]
[null,null,null,null,null,null,null,null,null,null,null,null,null,null,null,null,null,null,"Код по ОКЕИ: человек - 792"]
["Наименование показателя","№ строки","Всего","Возрастной состав занимающихся (число полных лет по состоянию на 31 декабря отчетного года)",null,null,null,null,null,null,null,null,null,null,null,null,"Распределение численности занимающихся по источникам финансирования (из гр. 8-12 раздела II)"]
[null,null,null,"(из гр. 8-12 раздела II)",null,null,null,null,null,null,null,null,null,null,null,null,"За счет бюджетных ассигнований:",null,null,"По договорам об оказании платных услуг","Из иных внебюджетных источников"]
[null,null,null,5,6,7,8,9,10,11,12,13,14,15,16,17,"федерального бюджета","бюджета субъекта РФ","местного бюджета"]
[]
[1,2,3,4,5,6,7,8,9,10,11,12,13,14,15,16,17,18,19,20,21]
["Численность занимающихся спортивной подготовкой в возрасте  5 - 17 лет","01",{"$f":"SUM(D8:P8)","v":1426},{"$f":"SUM(D9:D13)","v":60},{"$f":"SUM(E9:E13)","v":68},141,146,180,185,168,163,98,85,54,40,38,0,0,1186,240,0,{"$f":"Раздел2!N282","v":1426}]
["в том числе: \nспортивно-оздоровительный","02",{"$f":"SUM(D9:P9)","v":628},60,68,137,127,97,54,38,27,7,5,2,3,3,null,null,388,240,null,{"$f":"Раздел2!H282","v":628}]
["начальной подготовки","03",609,null,null,4,19,83,131,130,108,59,39,20,9,7,null,null,609,null,null,{"$f":"Раздел2!I282","v":609}]
["тренировочный ","04",189,null,null,null,null,null,null,null,28,32,41,32,28,28,null,null,189,null,null,{"$f":"Раздел2!J282","v":189}]
["совершенствования спортивного мастерства","05",0,null,null,null,null,null,null,null,null,null,null,null,null,null,null,null,null,null,null,{"$f":"Раздел2!K282","v":0}]
["высшего спортивного мастерства","06",0,null,null,null,null,null,null,null,null,null,null,null,null,null,null,null,null,null,null,{"$f":"Раздел2!L282","v":0}]

{"sheet":"Раздел5","index":5,"n_rows":281,"n_cols":52,"rows_kept":281,"cut":false,"hidden":false,"merged":[[3,30,3,34],[3,35,3,38],[3,39,3,42],[3,43,3,47],[4,26,5,26],[4,27,4,29],[4,30,5,30],[4,31,4,34],[4,35,5,35],[4,36,4,38],[4,39,5,39],[4,40,4,42],[4,43,5,43],[4,44,4,47],[4,17,5,17],[4,18,4,21],[4,22,5,22],[4,23,4,25],[3,26,3,29],[1,43,1,47],[2,2,2,11],[2,12,2,21],[2,22,2,34],[2,35,2,47],[2,1,5,1],[0,0,0,22],[2,0,5,0],[3,2,5,2],[3,3,3,6],[4,3,5,3],[4,4,4,6],[4,7,5,7],[3,7,3,11],[3,12,5,12],[3,13,3,16],[3,17,3,21],[3,22,3,25],[4,8,4,11],[4,13,5,13],[4,14,4,16]]}
["Раздел V. Спортивные разряды, спортивные звания"]
[null,null,null,null,null,null,null,null,null,null,null,null,null,null,null,null,null,null,null,null,null,null,null,null,null,null,null,null,null,null,null,null,null,null,null,null,null,null,null,null,null,null,null,"Код по ОКЕИ: человек – 792, единица – 642 "]
["Виды спорта","№ строки","Из числа занимающихся и обучающихся (гр. 6 раздела II)\nспортсменов, имеющих разряды, звания, человек",null,null,null,null,null,null,null,null,null,"В том числе занимающихся на этапах спортивной подготовки\n(гр. 7 раздела II)\nспортсменов, имеющих разряды, звания, человек",null,null,null,null,null,null,null,null,null,"Разряды, звания, присвоенные и подтвержденные в отчетном году, единица",null,null,null,null,null,null,null,null,null,null,null,null,"В том числе разряды, звания, присвоенные и подтвержденные в отчетном году занимающихся на этапах спортивной подготовки (гр. 7 раздела II), единица"]
[null,null,"Итого","спортивные разряды",null,null,null,"спортивные звания",null,null,null,null,"Итого","спортивные разряды",null,null,null,"спортивные звания",null,null,null,null,"спортивные разряды присвоенные",null,null,null,"спортивные разряды подтвержденные",null,null,null,"спортивные звания присвоенные",null,null,null,null,"спортивные разряды присвоенные",null,null,null,"спортивные разряды подтвержденные",null,null,null,"спортивные звания присвоенные"]
[null,null,null,"Всего","в том числе:",null,null,"Всего","в том числе:",null,null,null,null,"Всего","в том числе:",null,null,"Всего","в том числе:",null,null,null,"Всего","в том числе:",null,null,"Всего","в том числе:",null,null,"Всего","в том числе:",null,null,null,"Всего","в том числе:",null,null,"Всего","в том числе:",null,null,"Всего","в том числе:"]
[null,null,null,null,"КМС","1 разряд","другие разряды",null,"ЗМС","МСМК","МС","гроссмейстер",null,null,"КМС","1 разряд","другие разряды",null,"ЗМС","МСМК","МС","гроссмейстер",null,"КМС","1 разряд","другие разряды",null,"КМС","1 разряд","другие разряды",null,"ЗМС","МСМК","МС","гроссмейстер",null,"КМС","1 разряд","другие разряды",null,"КМС","1 разряд","другие разряды",null,"ЗМС","МСМК","МС","гроссмейстер"]
[1,2,3,4,5,6,7,8,9,10,11,12,13,14,15,16,17,18,19,20,21,22,23,24,25,26,27,28,29,30,31,32,33,34,35,36,37,38,39,40,41,42,43,44,45,46,47,48,"2 р - 6","2р-7","2р 3","2р 8-12"]
["Авиамодельный спорт","01",{"$f":"SUM(D8,H8)","v":0},{"$f":"SUM(E8:G8)","v":0},null,null,null,{"$f":"SUM(I8:L8)","v":0},null,null,null,null,{"$f":"SUM(N8,R8)","v":0},{"$f":"SUM(O8:Q8)","v":0},null,null,null,{"$f":"SUM(S8:V8)","v":0},null,null,null,null,{"$f":"SUM(X8:Z8)","v":0},null,null,null,{"$f":"SUM(AB8:AD8)","v":0},null,null,null,{"$f":"SUM(AF8:AI8)","v":0},null,null,null,null,{"$f":"SUM(AK8:AM8)","v":0},null,null,null,{"$f":"SUM(AO8:AQ8)","v":0},null,null,null,{"$f":"SUM(AS8:AV8)","v":0},null,null,null,null,{"$f":"Раздел2!F9","v":0},{"$f":"Раздел2!G9","v":0},{"$f":"Раздел2!C9","v":0},{"$f":"SUM(Раздел2!H9:L9)","v":0}]
["Авиационные гонки","02",{"$f":"SUM(D9,H9)","v":0},{"$f":"SUM(E9:G9)","v":0},null,null,null,{"$f":"SUM(I9:L9)","v":0},null,null,null,null,{"$f":"SUM(N9,R9)","v":0},{"$f":"SUM(O9:Q9)","v":0},null,null,null,{"$f":"SUM(S9:V9)","v":0},null,null,null,null,{"$f":"SUM(X9:Z9)","v":0},null,null,null,{"$f":"SUM(AB9:AD9)","v":0},null,null,null,{"$f":"SUM(AF9:AI9)","v":0},null,null,null,null,{"$f":"SUM(AK9:AM9)","v":0},null,null,null,{"$f":"SUM(AO9:AQ9)","v":0},null,null,null,{"$f":"SUM(AS9:AV9)","v":0},null,null,null,null,{"$f":"Раздел2!F10","v":0},{"$f":"Раздел2!G10","v":0},{"$f":"Раздел2!C10","v":0},{"$f":"SUM(Раздел2!H10:L10)","v":0}]
["Автомобильный спорт","03",0,0,null,null,null,0,null,null,null,null,0,0,null,null,null,0,null,null,null,null,0,null,null,null,0,null,null,null,0,null,null,null,null,0,null,null,null,0,null,null,null,0,null,null,null,null,{"$f":"Раздел2!F11","v":0},{"$f":"Раздел2!G11","v":0},{"$f":"Раздел2!C11","v":0},{"$f":"SUM(Раздел2!H11:L11)","v":0}]
["Автомодельный спорт","04",0,0,null,null,null,0,null,null,null,null,0,0,null,null,null,0,null,null,null,null,0,null,null,null,0,null,null,null,0,null,null,null,null,0,null,null,null,0,null,null,null,0,null,null,null,null,{"$f":"Раздел2!F12","v":0},{"$f":"Раздел2!G12","v":0},{"$f":"Раздел2!C12","v":0},{"$f":"SUM(Раздел2!H12:L12)","v":0}]
["Айкидо","05",0,0,null,null,null,0,null,null,null,null,0,0,null,null,null,0,null,null,null,null,0,null,null,null,0,null,null,null,0,null,null,null,null,0,null,null,null,0,null,null,null,0,null,null,null,null,{"$f":"Раздел2!F13","v":0},{"$f":"Раздел2!G13","v":0},{"$f":"Раздел2!C13","v":0},{"$f":"SUM(Раздел2!H13:L13)","v":0}]
["Айсшток","06",0,0,null,null,null,0,null,null,null,null,0,0,null,null,null,0,null,null,null,null,0,null,null,null,0,null,null,null,0,null,null,null,null,0,null,null,null,0,null,null,null,0,null,null,null,null,{"$f":"Раздел2!F14","v":0},{"$f":"Раздел2!G14","v":0},{"$f":"Раздел2!C14","v":0},{"$f":"SUM(Раздел2!H14:L14)","v":0}]
["Акробатический рок-н-ролл","07",0,0,null,null,null,0,null,null,null,null,0,0,null,null,null,0,null,null,null,null,0,null,null,null,0,null,null,null,0,null,null,null,null,0,null,null,null,0,null,null,null,0,null,null,null,null,{"$f":"Раздел2!F15","v":0},{"$f":"Раздел2!G15","v":0},{"$f":"Раздел2!C15","v":0},{"$f":"SUM(Раздел2!H15:L15)","v":0}]
["Альпинизм","08",0,0,null,null,null,0,null,null,null,null,0,0,null,null,null,0,null,null,null,null,0,null,null,null,0,null,null,null,0,null,null,null,null,0,null,null,null,0,null,null,null,0,null,null,null,null,{"$f":"Раздел2!F16","v":0},{"$f":"Раздел2!G16","v":0},{"$f":"Раздел2!C16","v":0},{"$f":"SUM(Раздел2!H16:L16)","v":0}]
["Американский футбол","09",0,0,null,null,null,0,null,null,null,null,0,0,null,null,null,0,null,null,null,null,0,null,null,null,0,null,null,null,0,null,null,null,null,0,null,null,null,0,null,null,null,0,null,null,null,null,{"$f":"Раздел2!F17","v":0},{"$f":"Раздел2!G17","v":0},{"$f":"Раздел2!C17","v":0},{"$f":"SUM(Раздел2!H17:L17)","v":0}]
["Армейский рукопашный бой","10",0,0,null,null,null,0,null,null,null,null,0,0,null,null,null,0,null,null,null,null,0,null,null,null,0,null,null,null,0,null,null,null,null,0,null,null,null,0,null,null,null,0,null,null,null,null,{"$f":"Раздел2!F18","v":0},{"$f":"Раздел2!G18","v":0},{"$f":"Раздел2!C18","v":0},{"$f":"SUM(Раздел2!H18:L18)","v":0}]
["Армейское тактико-стрелковое многоборье","11",0,0,null,null,null,0,null,null,null,null,0,{"$f":"SUM(O18:Q18)","v":0},null,null,null,0,null,null,null,null,0,null,null,null,0,null,null,null,0,null,null,null,null,0,null,null,null,0,null,null,null,0,null,null,null,null,{"$f":"Раздел2!F19","v":0},{"$f":"Раздел2!G19","v":0},{"$f":"Раздел2!C19","v":0},{"$f":"SUM(Раздел2!H19:L19)","v":0}]
["Армрестлинг","12",0,0,null,null,null,0,null,null,null,null,0,0,null,null,null,0,null,null,null,null,0,null,null,null,0,null,null,null,0,null,null,null,null,0,null,null,null,0,null,null,null,0,null,null,null,null,{"$f":"Раздел2!F20","v":0},{"$f":"Раздел2!G20","v":0},{"$f":"Раздел2!C20","v":0},{"$f":"SUM(Раздел2!H20:L20)","v":0}]
["Бадминтон","13",0,0,null,null,null,0,null,null,null,null,0,0,null,null,null,0,null,null,null,null,0,null,null,null,0,null,null,null,0,null,null,null,null,0,null,null,null,0,null,null,null,0,null,null,null,null,{"$f":"Раздел2!F21","v":0},{"$f":"Раздел2!G21","v":0},{"$f":"Раздел2!C21","v":0},{"$f":"SUM(Раздел2!H21:L21)","v":0}]
["Баскетбол - всего","14",81,81,{"$f":"SUM(E22:E24)","v":0},{"$f":"SUM(F22:F24)","v":0},81,0,0,0,0,0,81,81,0,0,81,0,0,0,0,0,57,0,0,57,18,0,0,18,0,0,0,0,0,57,0,0,57,18,0,0,18,0,0,0,0,0,{"$f":"Раздел2!F22","v":256},{"$f":"Раздел2!G22","v":256},{"$f":"Раздел2!C22","v":1},{"$f":"SUM(Раздел2!H22:L22)","v":256}]
["в том числе:\nБаскетбол (муж.)","15",61,61,null,null,61,0,null,null,null,null,61,61,null,null,61,0,null,null,null,null,41,null,null,41,12,null,null,12,0,null,null,null,null,41,null,null,41,12,null,null,12,0,null,null,null,null,{"$f":"Раздел2!F23","v":165},{"$f":"Раздел2!G23","v":165},{"$f":"Раздел2!C23","v":1},{"$f":"SUM(Раздел2!H23:L23)","v":165}]
["Баскетбол (жен.)","16",20,20,null,null,20,0,null,null,null,null,20,20,null,null,20,0,null,null,null,null,16,null,null,16,6,null,null,6,0,null,null,null,null,16,null,null,16,6,null,null,6,0,null,null,null,null,{"$f":"Раздел2!F24","v":91},{"$f":"Раздел2!G24","v":91},{"$f":"Раздел2!C24","v":1},{"$f":"SUM(Раздел2!H24:L24)","v":91}]
["Баскетбол 3х3","17",0,0,null,null,null,0,null,null,null,null,0,0,null,null,null,0,null,null,null,null,0,null,null,null,0,null,null,null,0,null,null,null,null,0,null,null,null,0,null,null,null,0,null,null,null,null,{"$f":"Раздел2!F25","v":0},{"$f":"Раздел2!G25","v":0},{"$f":"Раздел2!C25","v":0},{"$f":"SUM(Раздел2!H25:L25)","v":0}]
["Бейсбол","18",0,0,null,null,null,0,null,null,null,null,0,0,null,null,null,0,null,null,null,null,0,null,null,null,0,null,null,null,0,null,null,null,null,0,null,null,null,0,null,null,null,0,null,null,null,null,{"$f":"Раздел2!F26","v":0},{"$f":"Раздел2!G26","v":0},{"$f":"Раздел2!C26","v":0},{"$f":"SUM(Раздел2!H26:L26)","v":0}]
["Биатлон","19",14,14,null,2,12,0,null,null,null,null,14,14,null,2,12,0,null,null,null,null,10,null,1,9,0,null,null,null,0,null,null,null,null,10,null,1,9,0,null,null,null,0,null,null,null,null,{"$f":"Раздел2!F27","v":73},{"$f":"Раздел2!G27","v":73},{"$f":"Раздел2!C27","v":1},{"$f":"SUM(Раздел2!H27:L27)","v":73}]
["Бильярдный спорт","20",0,0,null,null,null,0,null,null,null,null,0,0,null,null,null,0,null,null,null,null,0,null,null,null,0,null,null,null,0,null,null,null,null,0,null,null,null,0,null,null,null,0,null,null,null,null,{"$f":"Раздел2!F28","v":0},{"$f":"Раздел2!G28","v":0},{"$f":"Раздел2!C28","v":0},{"$f":"SUM(Раздел2!H28:L28)","v":0}]
["Бобслей - всего","21",0,0,{"$f":"SUM(E29:E30)","v":0},{"$f":"SUM(F29:F30)","v":0},0,0,0,0,0,0,0,0,0,0,0,0,0,0,0,0,0,0,0,0,0,0,0,0,0,0,0,0,0,0,0,0,0,0,0,0,0,0,0,0,0,0,{"$f":"Раздел2!F29","v":0},{"$f":"Раздел2!G29","v":0},{"$f":"Раздел2!C29","v":0},{"$f":"SUM(Раздел2!H29:L29)","v":0}]
["в том числе:\nБобслей","22",0,0,null,null,null,0,null,null,null,null,0,0,null,null,null,0,null,null,null,null,0,null,null,null,0,null,null,null,0,null,null,null,null,0,null,null,null,0,null,null,null,0,null,null,null,null,{"$f":"Раздел2!F30","v":0},{"$f":"Раздел2!G30","v":0},{"$f":"Раздел2!C30","v":0},{"$f":"SUM(Раздел2!H30:L30)","v":0}]
["Скелетон","23",0,0,null,null,null,0,null,null,null,null,0,0,null,null,null,0,null,null,null,null,0,null,null,null,0,null,null,null,0,null,null,null,null,0,null,null,null,0,null,null,null,0,null,null,null,null,{"$f":"Раздел2!F31","v":0},{"$f":"Раздел2!G31","v":0},{"$f":"Раздел2!C31","v":0},{"$f":"SUM(Раздел2!H31:L31)","v":0}]
["Бодибилдинг","24",0,0,null,null,null,0,null,null,null,null,0,0,null,null,null,0,null,null,null,null,0,null,null,null,0,null,null,null,0,null,null,null,null,0,null,null,null,0,null,null,null,0,null,null,null,null,{"$f":"Раздел2!F32","v":0},{"$f":"Раздел2!G32","v":0},{"$f":"Раздел2!C32","v":0},{"$f":"SUM(Раздел2!H32:L32)","v":0}]
["Бокс","25",8,8,null,1,7,0,null,null,null,null,8,8,null,1,7,0,null,null,null,null,8,null,1,7,0,null,null,null,0,null,null,null,null,8,null,1,7,0,null,null,null,0,null,null,null,null,{"$f":"Раздел2!F33","v":90},{"$f":"Раздел2!G33","v":90},{"$f":"Раздел2!C33","v":1},{"$f":"SUM(Раздел2!H33:L33)","v":90}]
["Борьба на поясах","26",0,0,null,null,null,0,null,null,null,null,0,0,null,null,null,0,null,null,null,null,0,null,null,null,0,null,null,null,0,null,null,null,null,0,null,null,null,0,null,null,null,0,null,null,null,null,{"$f":"Раздел2!F34","v":0},{"$f":"Раздел2!G34","v":0},{"$f":"Раздел2!C34","v":0},{"$f":"SUM(Раздел2!H34:L34)","v":0}]
["Боулинг","27",0,0,null,null,null,0,null,null,null,null,0,0,null,null,null,0,null,null,null,null,0,null,null,null,0,null,null,null,0,null,null,null,null,0,null,null,null,0,null,null,null,0,null,null,null,null,{"$f":"Раздел2!F35","v":0},{"$f":"Раздел2!G35","v":0},{"$f":"Раздел2!C35","v":0},{"$f":"SUM(Раздел2!H35:L35)","v":0}]
["Боулспорт","28",0,0,null,null,null,0,null,null,null,null,0,0,null,null,null,0,null,null,null,null,0,null,null,null,0,null,null,null,0,null,null,null,null,0,null,null,null,0,null,null,null,0,null,null,null,null,{"$f":"Раздел2!F36","v":0},{"$f":"Раздел2!G36","v":0},{"$f":"Раздел2!C36","v":0},{"$f":"SUM(Раздел2!H36:L36)","v":0}]
["Велосипедный спорт - всего","29",0,0,{"$f":"SUM(E37:E40)","v":0},{"$f":"SUM(F37:F40)","v":0},0,0,0,0,0,0,0,0,0,0,0,0,0,0,0,0,0,0,0,0,0,0,0,0,0,0,0,0,0,0,0,0,0,0,0,0,0,0,0,0,0,0,{"$f":"Раздел2!F37","v":0},{"$f":"Раздел2!G37","v":0},{"$f":"Раздел2!C37","v":0},{"$f":"SUM(Раздел2!H37:L37)","v":0}]
["в том числе:\nBMX","30",0,0,null,null,null,0,null,null,null,null,0,0,null,null,null,0,null,null,null,null,0,null,null,null,0,null,null,null,0,null,null,null,null,0,null,null,null,0,null,null,null,0,null,null,null,null,{"$f":"Раздел2!F38","v":0},{"$f":"Раздел2!G38","v":0},{"$f":"Раздел2!C38","v":0},{"$f":"SUM(Раздел2!H38:L38)","v":0}]
["Маунтинбайк","31",0,0,null,null,null,0,null,null,null,null,0,0,null,null,null,0,null,null,null,null,0,null,null,null,0,null,null,null,0,null,null,null,null,0,null,null,null,0,null,null,null,0,null,null,null,null,{"$f":"Раздел2!F39","v":0},{"$f":"Раздел2!G39","v":0},{"$f":"Раздел2!C39","v":0},{"$f":"SUM(Раздел2!H39:L39)","v":0}]
["Трек","32",0,0,null,null,null,0,null,null,null,null,0,0,null,null,null,0,null,null,null,null,0,null,null,null,0,null,null,null,0,null,null,null,null,0,null,null,null,0,null,null,null,0,null,null,null,null,{"$f":"Раздел2!F40","v":0},{"$f":"Раздел2!G40","v":0},{"$f":"Раздел2!C40","v":0},{"$f":"SUM(Раздел2!H40:L40)","v":0}]
["Шоссе","33",0,0,null,null,null,0,null,null,null,null,0,0,null,null,null,0,null,null,null,null,0,null,null,null,0,null,null,null,0,null,null,null,null,0,null,null,null,0,null,null,null,0,null,null,null,null,{"$f":"Раздел2!F41","v":0},{"$f":"Раздел2!G41","v":0},{"$f":"Раздел2!C41","v":0},{"$f":"SUM(Раздел2!H41:L41)","v":0}]
["Вертолетный спорт","34",0,0,null,null,null,0,null,null,null,null,0,0,null,null,null,0,null,null,null,null,0,null,null,null,0,null,null,null,0,null,null,null,null,0,null,null,null,0,null,null,null,0,null,null,null,null,{"$f":"Раздел2!F42","v":0},{"$f":"Раздел2!G42","v":0},{"$f":"Раздел2!C42","v":0},{"$f":"SUM(Раздел2!H42:L42)","v":0}]
["Водно-моторный спорт","35",0,0,null,null,null,0,null,null,null,null,0,0,null,null,null,0,null,null,null,null,0,null,null,null,0,null,null,null,0,null,null,null,null,0,null,null,null,0,null,null,null,0,null,null,null,null,{"$f":"Раздел2!F43","v":0},{"$f":"Раздел2!G43","v":0},{"$f":"Раздел2!C43","v":0},{"$f":"SUM(Раздел2!H43:L43)","v":0}]
["Водно-спасательное многоборье","36",0,0,null,null,null,0,null,null,null,null,0,0,null,null,null,0,null,null,null,null,0,null,null,null,0,null,null,null,0,null,null,null,null,0,null,null,null,0,null,null,null,0,null,null,null,null,{"$f":"Раздел2!F44","v":0},{"$f":"Раздел2!G44","v":0},{"$f":"Раздел2!C44","v":0},{"$f":"SUM(Раздел2!H44:L44)","v":0}]
["Водное поло - всего ","37",0,0,{"$f":"SUM(E45:E46)","v":0},{"$f":"SUM(F45:F46)","v":0},0,0,0,0,0,0,0,0,0,0,0,0,0,0,0,0,0,0,0,0,0,0,0,0,0,0,0,0,0,0,0,0,0,0,0,0,0,0,0,0,0,0,{"$f":"Раздел2!F45","v":0},{"$f":"Раздел2!G45","v":0},{"$f":"Раздел2!C45","v":0},{"$f":"SUM(Раздел2!H45:L45)","v":0}]
["в том числе:\nВодное поло (муж.)","38",0,0,null,null,null,0,null,null,null,null,0,0,null,null,null,0,null,null,null,null,0,null,null,null,0,null,null,null,0,null,null,null,null,0,null,null,null,0,null,null,null,0,null,null,null,null,{"$f":"Раздел2!F46","v":0},{"$f":"Раздел2!G46","v":0},{"$f":"Раздел2!C46","v":0},{"$f":"SUM(Раздел2!H46:L46)","v":0}]
["Водное поло (жен.)","39",0,0,null,null,null,0,null,null,null,null,0,0,null,null,null,0,null,null,null,null,0,null,null,null,0,null,null,null,0,null,null,null,null,0,null,null,null,0,null,null,null,0,null,null,null,null,{"$f":"Раздел2!F47","v":0},{"$f":"Раздел2!G47","v":0},{"$f":"Раздел2!C47","v":0},{"$f":"SUM(Раздел2!H47:L47)","v":0}]
["Воднолыжный спорт","40",0,0,null,null,null,0,null,null,null,null,0,0,null,null,null,0,null,null,null,null,0,null,null,null,0,null,null,null,0,null,null,null,null,0,null,null,null,0,null,null,null,0,null,null,null,null,{"$f":"Раздел2!F48","v":0},{"$f":"Раздел2!G48","v":0},{"$f":"Раздел2!C48","v":0},{"$f":"SUM(Раздел2!H48:L48)","v":0}]
["Военно-прикладной спорт","41",0,0,null,null,null,0,null,null,null,null,0,0,null,null,null,0,null,null,null,null,0,null,null,null,0,null,null,null,0,null,null,null,null,0,null,null,null,0,null,null,null,0,null,null,null,null,{"$f":"Раздел2!F49","v":0},{"$f":"Раздел2!G49","v":0},{"$f":"Раздел2!C49","v":0},{"$f":"SUM(Раздел2!H49:L49)","v":0}]
["Военно-спортивное многоборье","42",0,0,null,null,null,0,null,null,null,null,0,0,null,null,null,0,null,null,null,null,0,null,null,null,0,null,null,null,0,null,null,null,null,0,null,null,null,0,null,null,null,0,null,null,null,null,{"$f":"Раздел2!F50","v":0},{"$f":"Раздел2!G50","v":0},{"$f":"Раздел2!C50","v":0},{"$f":"SUM(Раздел2!H50:L50)","v":0}]
["Воздухоплавательный спорт","43",0,0,null,null,null,0,null,null,null,null,0,0,null,null,null,0,null,null,null,null,0,null,null,null,0,null,null,null,0,null,null,null,null,0,null,null,null,0,null,null,null,0,null,null,null,null,{"$f":"Раздел2!F51","v":0},{"$f":"Раздел2!G51","v":0},{"$f":"Раздел2!C51","v":0},{"$f":"SUM(Раздел2!H51:L51)","v":0}]
["Воздушно-силовая атлетика","44",0,0,null,null,null,0,null,null,null,null,0,0,null,null,null,0,null,null,null,null,0,null,null,null,0,null,null,null,0,null,null,null,null,0,null,null,null,0,null,null,null,0,null,null,null,null,{"$f":"Раздел2!F52","v":0},{"$f":"Раздел2!G52","v":0},{"$f":"Раздел2!C52","v":0},{"$f":"SUM(Раздел2!H52:L52)","v":0}]
["Волейбол - всего","45",0,0,{"$f":"SUM(E53:E56)","v":0},{"$f":"SUM(F53:F56)","v":0},0,0,0,0,0,0,0,0,0,0,0,0,0,0,0,0,0,0,0,0,0,0,0,0,0,0,0,0,0,0,0,0,0,0,0,0,0,0,0,0,0,0,{"$f":"Раздел2!F53","v":0},{"$f":"Раздел2!G53","v":0},{"$f":"Раздел2!C53","v":0},{"$f":"SUM(Раздел2!H53:L53)","v":0}]
["в том числе:\nВолейбол (муж.)","46",0,0,null,null,null,0,null,null,null,null,0,0,null,null,null,0,null,null,null,null,0,null,null,null,0,null,null,null,0,null,null,null,null,0,null,null,null,0,null,null,null,0,null,null,null,null,{"$f":"Раздел2!F54","v":0},{"$f":"Раздел2!G54","v":0},{"$f":"Раздел2!C54","v":0},{"$f":"SUM(Раздел2!H54:L54)","v":0}]
["Волейбол (жен.)","47",0,0,null,null,null,0,null,null,null,null,0,0,null,null,null,0,null,null,null,null,0,null,null,null,0,null,null,null,0,null,null,null,null,0,null,null,null,0,null,null,null,0,null,null,null,null,{"$f":"Раздел2!F55","v":0},{"$f":"Раздел2!G55","v":0},{"$f":"Раздел2!C55","v":0},{"$f":"SUM(Раздел2!H55:L55)","v":0}]
["Пляжный волейбол (муж.)","48",0,0,null,null,null,0,null,null,null,null,0,0,null,null,null,0,null,null,null,null,0,null,null,null,0,null,null,null,0,null,null,null,null,0,null,null,null,0,null,null,null,0,null,null,null,null,{"$f":"Раздел2!F56","v":0},{"$f":"Раздел2!G56","v":0},{"$f":"Раздел2!C56","v":0},{"$f":"SUM(Раздел2!H56:L56)","v":0}]
["Пляжный волейбол (жен.)","49",0,0,null,null,null,0,null,null,null,null,0,0,null,null,null,0,null,null,null,null,0,null,null,null,0,null,null,null,0,null,null,null,null,0,null,null,null,0,null,null,null,0,null,null,null,null,{"$f":"Раздел2!F57","v":0},{"$f":"Раздел2!G57","v":0},{"$f":"Раздел2!C57","v":0},{"$f":"SUM(Раздел2!H57:L57)","v":0}]
["Восточное боевое единоборство","50",0,0,null,null,null,0,null,null,null,null,0,0,null,null,null,0,null,null,null,null,0,null,null,null,0,null,null,null,0,null,null,null,null,0,null,null,null,0,null,null,null,0,null,null,null,null,{"$f":"Раздел2!F58","v":0},{"$f":"Раздел2!G58","v":0},{"$f":"Раздел2!C58","v":0},{"$f":"SUM(Раздел2!H58:L58)","v":0}]
["Всестилевое каратэ","51",0,0,null,null,null,0,null,null,null,null,0,0,null,null,null,0,null,null,null,null,0,null,null,null,0,null,null,null,0,null,null,null,null,0,null,null,null,0,null,null,null,0,null,null,null,null,{"$f":"Раздел2!F59","v":0},{"$f":"Раздел2!G59","v":0},{"$f":"Раздел2!C59","v":0},{"$f":"SUM(Раздел2!H59:L59)","v":0}]
["Гандбол - всего","52",0,0,{"$f":"SUM(E60:E62)","v":0},{"$f":"SUM(F60:F62)","v":0},0,0,0,0,0,0,0,0,0,0,0,0,0,0,0,0,0,0,0,0,0,0,0,0,0,0,0,0,0,0,0,0,0,0,0,0,0,0,0,0,0,0,{"$f":"Раздел2!F60","v":0},{"$f":"Раздел2!G60","v":0},{"$f":"Раздел2!C60","v":0},{"$f":"SUM(Раздел2!H60:L60)","v":0}]
["в том числе:\nГандбол (муж.)","53",0,0,null,null,null,0,null,null,null,null,0,0,null,null,null,0,null,null,null,null,0,null,null,null,0,null,null,null,0,null,null,null,null,0,null,null,null,0,null,null,null,0,null,null,null,null,{"$f":"Раздел2!F61","v":0},{"$f":"Раздел2!G61","v":0},{"$f":"Раздел2!C61","v":0},{"$f":"SUM(Раздел2!H61:L61)","v":0}]
["Гандбол (жен.)","54",0,0,null,null,null,0,null,null,null,null,0,0,null,null,null,0,null,null,null,null,0,null,null,null,0,null,null,null,0,null,null,null,null,0,null,null,null,0,null,null,null,0,null,null,null,null,{"$f":"Раздел2!F62","v":0},{"$f":"Раздел2!G62","v":0},{"$f":"Раздел2!C62","v":0},{"$f":"SUM(Раздел2!H62:L62)","v":0}]
["Пляжный гандбол","55",0,0,null,null,null,0,null,null,null,null,0,0,null,null,null,0,null,null,null,null,0,null,null,null,0,null,null,null,0,null,null,null,null,0,null,null,null,0,null,null,null,0,null,null,null,null,{"$f":"Раздел2!F63","v":0},{"$f":"Раздел2!G63","v":0},{"$f":"Раздел2!C63","v":0},{"$f":"SUM(Раздел2!H63:L63)","v":0}]
["Гиревой спорт","56",0,0,null,null,null,0,null,null,null,null,0,0,null,null,null,0,null,null,null,null,0,null,null,null,0,null,null,null,0,null,null,null,null,0,null,null,null,0,null,null,null,0,null,null,null,null,{"$f":"Раздел2!F64","v":0},{"$f":"Раздел2!G64","v":0},{"$f":"Раздел2!C64","v":0},{"$f":"SUM(Раздел2!H64:L64)","v":0}]
["Го","57",0,0,null,null,null,0,null,null,null,null,0,0,null,null,null,0,null,null,null,null,0,null,null,null,0,null,null,null,0,null,null,null,null,0,null,null,null,0,null,null,null,0,null,null,null,null,{"$f":"Раздел2!F65","v":0},{"$f":"Раздел2!G65","v":0},{"$f":"Раздел2!C65","v":0},{"$f":"SUM(Раздел2!H65:L65)","v":0}]
["Гольф","58",0,0,null,null,null,0,null,null,null,null,0,0,null,null,null,0,null,null,null,null,0,null,null,null,0,null,null,null,0,null,null,null,null,0,null,null,null,0,null,null,null,0,null,null,null,null,{"$f":"Раздел2!F66","v":0},{"$f":"Раздел2!G66","v":0},{"$f":"Раздел2!C66","v":0},{"$f":"SUM(Раздел2!H66:L66)","v":0}]
["Гонки на охотничьих лыжах","59",0,0,null,null,null,0,null,null,null,null,0,0,null,null,null,0,null,null,null,null,0,null,null,null,0,null,null,null,0,null,null,null,null,0,null,null,null,0,null,null,null,0,null,null,null,null,{"$f":"Раздел2!F67","v":0},{"$f":"Раздел2!G67","v":0},{"$f":"Раздел2!C67","v":0},{"$f":"SUM(Раздел2!H67:L67)","v":0}]
["Гонки с препятствиями","60",0,0,null,null,null,0,null,null,null,null,0,0,null,null,null,0,null,null,null,null,0,null,null,null,0,null,null,null,0,null,null,null,null,0,null,null,null,0,null,null,null,0,null,null,null,null,{"$f":"Раздел2!F68","v":0},{"$f":"Раздел2!G68","v":0},{"$f":"Раздел2!C68","v":0},{"$f":"SUM(Раздел2!H68:L68)","v":0}]
["Горнолыжный спорт","61",0,0,null,null,null,0,null,null,null,null,0,0,null,null,null,0,null,null,null,null,0,null,null,null,0,null,null,null,0,null,null,null,null,0,null,null,null,0,null,null,null,0,null,null,null,null,{"$f":"Раздел2!F69","v":0},{"$f":"Раздел2!G69","v":0},{"$f":"Раздел2!C69","v":0},{"$f":"SUM(Раздел2!H69:L69)","v":0}]
["Городошный спорт","62",0,0,null,null,null,0,null,null,null,null,0,0,null,null,null,0,null,null,null,null,0,null,null,null,0,null,null,null,0,null,null,null,null,0,null,null,null,0,null,null,null,0,null,null,null,null,{"$f":"Раздел2!F70","v":0},{"$f":"Раздел2!G70","v":0},{"$f":"Раздел2!C70","v":0},{"$f":"SUM(Раздел2!H70:L70)","v":0}]
["Гребля на байдарках и каноэ","63",0,0,null,null,null,0,null,null,null,null,0,0,null,null,null,0,null,null,null,null,0,null,null,null,0,null,null,null,0,null,null,null,null,0,null,null,null,0,null,null,null,0,null,null,null,null,{"$f":"Раздел2!F71","v":0},{"$f":"Раздел2!G71","v":0},{"$f":"Раздел2!C71","v":0},{"$f":"SUM(Раздел2!H71:L71)","v":0}]
["Гребля на шлюпках","64",0,0,null,null,null,0,null,null,null,null,0,0,null,null,null,0,null,null,null,null,0,null,null,null,0,null,null,null,0,null,null,null,null,0,null,null,null,0,null,null,null,0,null,null,null,null,{"$f":"Раздел2!F72","v":0},{"$f":"Раздел2!G72","v":0},{"$f":"Раздел2!C72","v":0},{"$f":"SUM(Раздел2!H72:L72)","v":0}]
["Гребной слалом","65",0,0,null,null,null,0,null,null,null,null,0,0,null,null,null,0,null,null,null,null,0,null,null,null,0,null,null,null,0,null,null,null,null,0,null,null,null,0,null,null,null,0,null,null,null,null,{"$f":"Раздел2!F73","v":0},{"$f":"Раздел2!G73","v":0},{"$f":"Раздел2!C73","v":0},{"$f":"SUM(Раздел2!H73:L73)","v":0}]
["Гребной спорт - всего","66",{"$f":"SUM(D73,H73)","v":0},{"$f":"SUM(E73:G73)","v":0},{"$f":"SUM(E74:E77)","v":0},{"$f":"SUM(F74:F77)","v":0},0,0,0,0,0,0,0,0,0,0,0,0,0,0,0,0,0,0,0,0,0,0,0,0,0,0,0,0,0,0,0,0,0,0,0,0,0,0,0,0,0,0,{"$f":"Раздел2!F74","v":0},{"$f":"Раздел2!G74","v":0},{"$f":"Раздел2!C74","v":0},{"$f":"SUM(Раздел2!H74:L74)","v":0}]
["в том числе:\nАкадемическая гребля","67",0,0,null,null,null,{"$f":"SUM(I74:L74)","v":0},null,null,null,null,{"$f":"SUM(N74,R74)","v":0},{"$f":"SUM(O74:Q74)","v":0},null,null,null,{"$f":"SUM(S74:V74)","v":0},null,null,null,null,{"$f":"SUM(X74:Z74)","v":0},null,null,null,{"$f":"SUM(AB74:AD74)","v":0},null,null,null,{"$f":"SUM(AF74:AI74)","v":0},null,null,null,null,{"$f":"SUM(AK74:AM74)","v":0},null,null,null,{"$f":"SUM(AO74:AQ74)","v":0},null,null,null,{"$f":"SUM(AS74:AV74)","v":0},null,null,null,null,{"$f":"Раздел2!F75","v":0},{"$f":"Раздел2!G75","v":0},{"$f":"Раздел2!C75","v":0},{"$f":"SUM(Раздел2!H75:L75)","v":0}]
["Гребля-индор","68",0,0,null,null,null,0,null,null,null,null,0,0,null,null,null,0,null,null,null,null,0,null,null,null,0,null,null,null,0,null,null,null,null,0,null,null,null,0,null,null,null,0,null,null,null,null,{"$f":"Раздел2!F76","v":0},{"$f":"Раздел2!G76","v":0},{"$f":"Раздел2!C76","v":0},{"$f":"SUM(Раздел2!H76:L76)","v":0}]
["Народная гребля","69",0,0,null,null,null,0,null,null,null,null,0,0,null,null,null,0,null,null,null,null,0,null,null,null,0,null,null,null,0,null,null,null,null,0,null,null,null,0,null,null,null,0,null,null,null,null,{"$f":"Раздел2!F77","v":0},{"$f":"Раздел2!G77","v":0},{"$f":"Раздел2!C77","v":0},{"$f":"SUM(Раздел2!H77:L77)","v":0}]
["Прибрежная гребля","70",0,0,null,null,null,0,null,null,null,null,0,0,null,null,null,0,null,null,null,null,0,null,null,null,0,null,null,null,0,null,null,null,null,0,null,null,null,0,null,null,null,0,null,null,null,null,{"$f":"Раздел2!F78","v":0},{"$f":"Раздел2!G78","v":0},{"$f":"Раздел2!C78","v":0},{"$f":"SUM(Раздел2!H78:L78)","v":0}]
["Гребно-парусное двоеборье","71",0,0,null,null,null,0,null,null,null,null,0,0,null,null,null,0,null,null,null,null,0,null,null,null,0,null,null,null,0,null,null,null,null,0,null,null,null,0,null,null,null,0,null,null,null,null,{"$f":"Раздел2!F79","v":0},{"$f":"Раздел2!G79","v":0},{"$f":"Раздел2!C79","v":0},{"$f":"SUM(Раздел2!H79:L79)","v":0}]
["Дартс","72",0,0,null,null,null,0,null,null,null,null,0,0,null,null,null,0,null,null,null,null,0,null,null,null,0,null,null,null,0,null,null,null,null,0,null,null,null,0,null,null,null,0,null,null,null,null,{"$f":"Раздел2!F80","v":0},{"$f":"Раздел2!G80","v":0},{"$f":"Раздел2!C80","v":0},{"$f":"SUM(Раздел2!H80:L80)","v":0}]
["Джиу-джитсу","73",0,0,null,null,null,0,null,null,null,null,0,0,null,null,null,0,null,null,null,null,0,null,null,null,0,null,null,null,0,null,null,null,null,0,null,null,null,0,null,null,null,0,null,null,null,null,{"$f":"Раздел2!F81","v":0},{"$f":"Раздел2!G81","v":0},{"$f":"Раздел2!C81","v":0},{"$f":"SUM(Раздел2!H81:L81)","v":0}]
["Дзюдо","74",139,139,1,1,137,0,null,null,null,null,139,139,1,1,137,0,null,null,null,null,77,1,null,76,0,null,null,null,0,null,null,null,null,77,1,null,76,0,null,null,null,0,null,null,null,null,{"$f":"Раздел2!F82","v":628},{"$f":"Раздел2!G82","v":628},{"$f":"Раздел2!C82","v":1},{"$f":"SUM(Раздел2!H82:L82)","v":628}]
["Ездовой спорт","75",0,0,null,null,null,0,null,null,null,null,0,0,null,null,null,0,null,null,null,null,0,null,null,null,0,null,null,null,0,null,null,null,null,0,null,null,null,0,null,null,null,0,null,null,null,null,{"$f":"Раздел2!F83","v":0},{"$f":"Раздел2!G83","v":0},{"$f":"Раздел2!C83","v":0},{"$f":"SUM(Раздел2!H83:L83)","v":0}]
["Зимнее плавание","76",0,0,null,null,null,0,null,null,null,null,0,0,null,null,null,0,null,null,null,null,0,null,null,null,0,null,null,null,0,null,null,null,null,0,null,null,null,0,null,null,null,0,null,null,null,null,{"$f":"Раздел2!F84","v":0},{"$f":"Раздел2!G84","v":0},{"$f":"Раздел2!C84","v":0},{"$f":"SUM(Раздел2!H84:L84)","v":0}]
["Капоэйра","77",0,0,null,null,null,0,null,null,null,null,0,0,null,null,null,0,null,null,null,null,0,null,null,null,0,null,null,null,0,null,null,null,null,0,null,null,null,0,null,null,null,0,null,null,null,null,{"$f":"Раздел2!F85","v":0},{"$f":"Раздел2!G85","v":0},{"$f":"Раздел2!C85","v":0},{"$f":"SUM(Раздел2!H85:L85)","v":0}]
["Каратэ","78",0,0,null,null,null,0,null,null,null,null,0,0,null,null,null,0,null,null,null,null,0,null,null,null,0,null,null,null,0,null,null,null,null,0,null,null,null,0,null,null,null,0,null,null,null,null,{"$f":"Раздел2!F86","v":0},{"$f":"Раздел2!G86","v":0},{"$f":"Раздел2!C86","v":0},{"$f":"SUM(Раздел2!H86:L86)","v":0}]
["Кендо","79",0,0,null,null,null,0,null,null,null,null,0,0,null,null,null,0,null,null,null,null,0,null,null,null,0,null,null,null,0,null,null,null,null,0,null,null,null,0,null,null,null,0,null,null,null,null,{"$f":"Раздел2!F87","v":0},{"$f":"Раздел2!G87","v":0},{"$f":"Раздел2!C87","v":0},{"$f":"SUM(Раздел2!H87:L87)","v":0}]
["Керешу","80",0,0,null,null,null,0,null,null,null,null,0,0,null,null,null,0,null,null,null,null,0,null,null,null,0,null,null,null,0,null,null,null,null,0,null,null,null,0,null,null,null,0,null,null,null,null,{"$f":"Раздел2!F88","v":0},{"$f":"Раздел2!G88","v":0},{"$f":"Раздел2!C88","v":0},{"$f":"SUM(Раздел2!H88:L88)","v":0}]
["Кёрлинг - всего","81",0,0,{"$f":"SUM(E89:E91)","v":0},{"$f":"SUM(F89:F91)","v":0},0,0,0,0,0,0,0,0,0,0,0,0,0,0,0,0,0,0,0,0,0,0,0,0,0,0,0,0,0,0,0,0,0,0,0,0,0,0,0,0,0,0,{"$f":"Раздел2!F89","v":0},{"$f":"Раздел2!G89","v":0},{"$f":"Раздел2!C89","v":0},{"$f":"SUM(Раздел2!H89:L89)","v":0}]
["в том числе:\nКерлинг (муж.)","82",0,0,null,null,null,0,null,null,null,null,0,0,null,null,null,0,null,null,null,null,0,null,null,null,0,null,null,null,0,null,null,null,null,0,null,null,null,0,null,null,null,0,null,null,null,null,{"$f":"Раздел2!F90","v":0},{"$f":"Раздел2!G90","v":0},{"$f":"Раздел2!C90","v":0},{"$f":"SUM(Раздел2!H90:L90)","v":0}]
["Керлинг (жен.)","83",0,0,null,null,null,0,null,null,null,null,0,0,null,null,null,0,null,null,null,null,0,null,null,null,0,null,null,null,0,null,null,null,null,0,null,null,null,0,null,null,null,0,null,null,null,null,{"$f":"Раздел2!F91","v":0},{"$f":"Раздел2!G91","v":0},{"$f":"Раздел2!C91","v":0},{"$f":"SUM(Раздел2!H91:L91)","v":0}]
["Кёрлинг – смешанные пары","84",0,0,null,null,null,0,null,null,null,null,0,0,null,null,null,0,null,null,null,null,0,null,null,null,0,null,null,null,0,null,null,null,null,0,null,null,null,0,null,null,null,0,null,null,null,null,{"$f":"Раздел2!F92","v":0},{"$f":"Раздел2!G92","v":0},{"$f":"Раздел2!C92","v":0},{"$f":"SUM(Раздел2!H92:L92)","v":0}]
["Кикбоксинг","85",0,0,null,null,null,0,null,null,null,null,0,0,null,null,null,0,null,null,null,null,0,null,null,null,0,null,null,null,0,null,null,null,null,0,null,null,null,0,null,null,null,0,null,null,null,null,{"$f":"Раздел2!F93","v":0},{"$f":"Раздел2!G93","v":0},{"$f":"Раздел2!C93","v":0},{"$f":"SUM(Раздел2!H93:L93)","v":0}]
["Кинологический спорт","86",0,0,null,null,null,0,null,null,null,null,0,0,null,null,null,0,null,null,null,null,0,null,null,null,0,null,null,null,0,null,null,null,null,0,null,null,null,0,null,null,null,0,null,null,null,null,{"$f":"Раздел2!F94","v":0},{"$f":"Раздел2!G94","v":0},{"$f":"Раздел2!C94","v":0},{"$f":"SUM(Раздел2!H94:L94)","v":0}]
["Киокусинкай","87",0,0,null,null,null,0,null,null,null,null,0,0,null,null,null,0,null,null,null,null,0,null,null,null,0,null,null,null,0,null,null,null,null,0,null,null,null,0,null,null,null,0,null,null,null,null,{"$f":"Раздел2!F95","v":0},{"$f":"Раздел2!G95","v":0},{"$f":"Раздел2!C95","v":0},{"$f":"SUM(Раздел2!H95:L95)","v":0}]
["Киокушин","88",0,0,null,null,null,0,null,null,null,null,0,0,null,null,null,0,null,null,null,null,0,null,null,null,0,null,null,null,0,null,null,null,null,0,null,null,null,0,null,null,null,0,null,null,null,null,{"$f":"Раздел2!F96","v":0},{"$f":"Раздел2!G96","v":0},{"$f":"Раздел2!C96","v":0},{"$f":"SUM(Раздел2!H96:L96)","v":0}]
["Комплексное единоборство","89",0,0,null,null,null,0,null,null,null,null,0,0,null,null,null,0,null,null,null,null,0,null,null,null,0,null,null,null,0,null,null,null,null,0,null,null,null,0,null,null,null,0,null,null,null,null,{"$f":"Раздел2!F97","v":0},{"$f":"Раздел2!G97","v":0},{"$f":"Раздел2!C97","v":0},{"$f":"SUM(Раздел2!H97:L97)","v":0}]
["Компьютерный спорт","90",0,0,null,null,null,0,null,null,null,null,0,0,null,null,null,0,null,null,null,null,0,null,null,null,0,null,null,null,0,null,null,null,null,0,null,null,null,0,null,null,null,0,null,null,null,null,{"$f":"Раздел2!F98","v":0},{"$f":"Раздел2!G98","v":0},{"$f":"Раздел2!C98","v":0},{"$f":"SUM(Раздел2!H98:L98)","v":0}]
["Конный спорт","91",0,0,null,null,null,0,null,null,null,null,0,0,null,null,null,0,null,null,null,null,0,null,null,null,0,null,null,null,0,null,null,null,null,0,null,null,null,0,null,null,null,0,null,null,null,null,{"$f":"Раздел2!F99","v":0},{"$f":"Раздел2!G99","v":0},{"$f":"Раздел2!C99","v":0},{"$f":"SUM(Раздел2!H99:L99)","v":0}]
["Конькобежный спорт - всего","92",0,0,{"$f":"SUM(E100:E101)","v":0},{"$f":"SUM(F100:F101)","v":0},0,0,0,0,0,0,0,0,0,0,0,0,0,0,0,0,0,0,0,0,0,0,0,0,0,0,0,0,0,0,0,0,0,0,0,0,0,0,0,0,0,0,{"$f":"Раздел2!F100","v":0},{"$f":"Раздел2!G100","v":0},{"$f":"Раздел2!C100","v":0},{"$f":"SUM(Раздел2!H100:L100)","v":0}]
["в том числе:\nКонькобежный спорт","93",0,0,null,null,null,0,null,null,null,null,0,0,null,null,null,0,null,null,null,null,0,null,null,null,0,null,null,null,0,null,null,null,null,0,null,null,null,0,null,null,null,0,null,null,null,null,{"$f":"Раздел2!F101","v":0},{"$f":"Раздел2!G101","v":0},{"$f":"Раздел2!C101","v":0},{"$f":"SUM(Раздел2!H101:L101)","v":0}]
["Шорт-трек","94",0,0,null,null,null,0,null,null,null,null,0,0,null,null,null,0,null,null,null,null,0,null,null,null,0,null,null,null,0,null,null,null,null,0,null,null,null,0,null,null,null,0,null,null,null,null,{"$f":"Раздел2!F102","v":0},{"$f":"Раздел2!G102","v":0},{"$f":"Раздел2!C102","v":0},{"$f":"SUM(Раздел2!H102:L102)","v":0}]
["Корэш","95",0,0,null,null,null,0,null,null,null,null,0,0,null,null,null,0,null,null,null,null,0,null,null,null,0,null,null,null,0,null,null,null,null,0,null,null,null,0,null,null,null,0,null,null,null,null,{"$f":"Раздел2!F103","v":0},{"$f":"Раздел2!G103","v":0},{"$f":"Раздел2!C103","v":0},{"$f":"SUM(Раздел2!H103:L103)","v":0}]
["Крикет","96",0,0,null,null,null,0,null,null,null,null,0,0,null,null,null,0,null,null,null,null,0,null,null,null,0,null,null,null,0,null,null,null,null,0,null,null,null,0,null,null,null,0,null,null,null,null,{"$f":"Раздел2!F104","v":0},{"$f":"Раздел2!G104","v":0},{"$f":"Раздел2!C104","v":0},{"$f":"SUM(Раздел2!H104:L104)","v":0}]
["Кудо","97",0,0,null,null,null,0,null,null,null,null,0,0,null,null,null,0,null,null,null,null,0,null,null,null,0,null,null,null,0,null,null,null,null,0,null,null,null,0,null,null,null,0,null,null,null,null,{"$f":"Раздел2!F105","v":0},{"$f":"Раздел2!G105","v":0},{"$f":"Раздел2!C105","v":0},{"$f":"SUM(Раздел2!H105:L105)","v":0}]
["Лапта","98",0,0,null,null,null,0,null,null,null,null,0,0,null,null,null,0,null,null,null,null,0,null,null,null,0,null,null,null,0,null,null,null,null,0,null,null,null,0,null,null,null,0,null,null,null,null,{"$f":"Раздел2!F106","v":0},{"$f":"Раздел2!G106","v":0},{"$f":"Раздел2!C106","v":0},{"$f":"SUM(Раздел2!H106:L106)","v":0}]
["Легкая атлетика - всего","99",116,116,{"$f":"SUM(E107:E113)","v":1},{"$f":"SUM(F107:F113)","v":6},109,0,0,0,0,0,116,116,1,6,109,0,0,0,0,0,110,1,6,103,0,0,0,0,0,0,0,0,0,110,1,6,103,0,0,0,0,0,0,0,0,0,{"$f":"Раздел2!F107","v":318},{"$f":"Раздел2!G107","v":318},{"$f":"Раздел2!C107","v":1},{"$f":"SUM(Раздел2!H107:L107)","v":318}]
["в том числе:\nСпринтерский и барьерный бег","100",66,66,1,6,59,0,null,null,null,null,66,66,1,6,59,0,null,null,null,null,68,1,6,61,0,null,null,null,0,null,null,null,null,68,1,6,61,0,null,null,null,0,null,null,null,null,{"$f":"Раздел2!F108","v":67},{"$f":"Раздел2!G108","v":67},{"$f":"Раздел2!C108","v":1},{"$f":"SUM(Раздел2!H108:L108)","v":67}]
["Бег на средние дистанции и бег с препятствиями","101",2,2,null,null,2,0,null,null,null,null,2,2,null,null,2,0,null,null,null,null,0,null,null,null,0,null,null,null,0,null,null,null,null,0,null,null,null,0,null,null,null,0,null,null,null,null,{"$f":"Раздел2!F109","v":10},{"$f":"Раздел2!G109","v":10},{"$f":"Раздел2!C109","v":1},{"$f":"SUM(Раздел2!H109:L109)","v":10}]
["Бег на длинные и сверхдлинные дистанции","102",0,0,null,null,null,0,null,null,null,null,0,0,null,null,null,0,null,null,null,null,0,null,null,null,0,null,null,null,0,null,null,null,null,0,null,null,null,0,null,null,null,0,null,null,null,null,{"$f":"Раздел2!F110","v":0},{"$f":"Раздел2!G110","v":0},{"$f":"Раздел2!C110","v":0},{"$f":"SUM(Раздел2!H110:L110)","v":0}]
["Многоборья","103",42,42,null,null,42,0,null,null,null,null,42,42,null,null,42,0,null,null,null,null,39,null,null,39,0,null,null,null,0,null,null,null,null,39,null,null,39,0,null,null,null,0,null,null,null,null,{"$f":"Раздел2!F111","v":215},{"$f":"Раздел2!G111","v":215},{"$f":"Раздел2!C111","v":1},{"$f":"SUM(Раздел2!H111:L111)","v":215}]
["Прыжки","104",0,0,null,null,null,0,null,null,null,null,0,0,null,null,null,0,null,null,null,null,0,null,null,null,0,null,null,null,0,null,null,null,null,0,null,null,null,0,null,null,null,0,null,null,null,null,{"$f":"Раздел2!F112","v":11},{"$f":"Раздел2!G112","v":11},{"$f":"Раздел2!C112","v":1},{"$f":"SUM(Раздел2!H112:L112)","v":11}]
["Метания","105",6,6,null,null,6,0,null,null,null,null,6,6,null,null,6,0,null,null,null,null,3,null,null,3,0,null,null,null,0,null,null,null,null,3,null,null,3,0,null,null,null,0,null,null,null,null,{"$f":"Раздел2!F113","v":15},{"$f":"Раздел2!G113","v":15},{"$f":"Раздел2!C113","v":1},{"$f":"SUM(Раздел2!H113:L113)","v":15}]
["Спортивная ходьба","106",0,0,null,null,null,0,null,null,null,null,0,0,null,null,null,0,null,null,null,null,0,null,null,null,0,null,null,null,0,null,null,null,null,0,null,null,null,0,null,null,null,0,null,null,null,null,{"$f":"Раздел2!F114","v":0},{"$f":"Раздел2!G114","v":0},{"$f":"Раздел2!C114","v":0},{"$f":"SUM(Раздел2!H114:L114)","v":0}]
["Лыжное двоеборье","107",0,0,null,null,null,0,null,null,null,null,0,0,null,null,null,0,null,null,null,null,0,null,null,null,0,null,null,null,0,null,null,null,null,0,null,null,null,0,null,null,null,0,null,null,null,null,{"$f":"Раздел2!F115","v":0},{"$f":"Раздел2!G115","v":0},{"$f":"Раздел2!C115","v":0},{"$f":"SUM(Раздел2!H115:L115)","v":0}]
["Лыжные гонки","108",26,26,null,6,20,0,null,null,null,null,26,26,null,6,20,0,null,null,null,null,69,null,6,63,0,null,null,null,0,null,null,null,null,69,null,6,63,0,null,null,null,0,null,null,null,null,{"$f":"Раздел2!F116","v":31},{"$f":"Раздел2!G116","v":31},{"$f":"Раздел2!C116","v":1},{"$f":"SUM(Раздел2!H116:L116)","v":31}]
["Мас-рестлинг","109",0,0,null,null,null,0,null,null,null,null,0,0,null,null,null,0,null,null,null,null,0,null,null,null,0,null,null,null,0,null,null,null,null,0,null,null,null,0,null,null,null,0,null,null,null,null,{"$f":"Раздел2!F117","v":0},{"$f":"Раздел2!G117","v":0},{"$f":"Раздел2!C117","v":0},{"$f":"SUM(Раздел2!H117:L117)","v":0}]
["Международное военно-спортивное многоборье","110",0,0,null,null,null,0,null,null,null,null,0,0,null,null,null,0,null,null,null,null,0,null,null,null,0,null,null,null,0,null,null,null,null,0,null,null,null,0,null,null,null,0,null,null,null,null,{"$f":"Раздел2!F118","v":0},{"$f":"Раздел2!G118","v":0},{"$f":"Раздел2!C118","v":0},{"$f":"SUM(Раздел2!H118:L118)","v":0}]
["Микрофутзал","111",0,0,null,null,null,0,null,null,null,null,0,0,null,null,null,0,null,null,null,null,0,null,null,null,0,null,null,null,0,null,null,null,null,0,null,null,null,0,null,null,null,0,null,null,null,null,{"$f":"Раздел2!F119","v":0},{"$f":"Раздел2!G119","v":0},{"$f":"Раздел2!C119","v":0},{"$f":"SUM(Раздел2!H119:L119)","v":0}]
["Многоборье кинологов","112",0,0,null,null,null,0,null,null,null,null,0,0,null,null,null,0,null,null,null,null,0,null,null,null,0,null,null,null,0,null,null,null,null,0,null,null,null,0,null,null,null,0,null,null,null,null,{"$f":"Раздел2!F120","v":0},{"$f":"Раздел2!G120","v":0},{"$f":"Раздел2!C120","v":0},{"$f":"SUM(Раздел2!H120:L120)","v":0}]
["Многоборье спасателей МЧС России","113",0,0,null,null,null,0,null,null,null,null,0,0,null,null,null,0,null,null,null,null,0,null,null,null,0,null,null,null,0,null,null,null,null,0,null,null,null,0,null,null,null,0,null,null,null,null,{"$f":"Раздел2!F121","v":0},{"$f":"Раздел2!G121","v":0},{"$f":"Раздел2!C121","v":0},{"$f":"SUM(Раздел2!H121:L121)","v":0}]
["Морское многоборье","114",0,0,null,null,null,0,null,null,null,null,0,0,null,null,null,0,null,null,null,null,0,null,null,null,0,null,null,null,0,null,null,null,null,0,null,null,null,0,null,null,null,0,null,null,null,null,{"$f":"Раздел2!F122","v":0},{"$f":"Раздел2!G122","v":0},{"$f":"Раздел2!C122","v":0},{"$f":"SUM(Раздел2!H122:L122)","v":0}]
["Мотоциклетный спорт","115",0,0,null,null,null,0,null,null,null,null,0,0,null,null,null,0,null,null,null,null,0,null,null,null,0,null,null,null,0,null,null,null,null,0,null,null,null,0,null,null,null,0,null,null,null,null,{"$f":"Раздел2!F123","v":0},{"$f":"Раздел2!G123","v":0},{"$f":"Раздел2!C123","v":0},{"$f":"SUM(Раздел2!H123:L123)","v":0}]
["Нарды","116",0,0,null,null,null,0,null,null,null,null,0,0,null,null,null,0,null,null,null,null,0,null,null,null,0,null,null,null,0,null,null,null,null,0,null,null,null,0,null,null,null,0,null,null,null,null,{"$f":"Раздел2!F124","v":0},{"$f":"Раздел2!G124","v":0},{"$f":"Раздел2!C124","v":0},{"$f":"SUM(Раздел2!H124:L124)","v":0}]
["Настольный теннис","117",0,0,null,null,null,0,null,null,null,null,0,0,null,null,null,0,null,null,null,null,0,null,null,null,0,null,null,null,0,null,null,null,null,0,null,null,null,0,null,null,null,0,null,null,null,null,{"$f":"Раздел2!F125","v":0},{"$f":"Раздел2!G125","v":0},{"$f":"Раздел2!C125","v":0},{"$f":"SUM(Раздел2!H125:L125)","v":0}]
["Падел","118",0,0,null,null,null,0,null,null,null,null,0,0,null,null,null,0,null,null,null,null,0,null,null,null,0,null,null,null,0,null,null,null,null,0,null,null,null,0,null,null,null,0,null,null,null,null,{"$f":"Раздел2!F126","v":0},{"$f":"Раздел2!G126","v":0},{"$f":"Раздел2!C126","v":0},{"$f":"SUM(Раздел2!H126:L126)","v":0}]
["Парашютный спорт","119",0,0,null,null,null,0,null,null,null,null,0,0,null,null,null,0,null,null,null,null,0,null,null,null,0,null,null,null,0,null,null,null,null,0,null,null,null,0,null,null,null,0,null,null,null,null,{"$f":"Раздел2!F127","v":0},{"$f":"Раздел2!G127","v":0},{"$f":"Раздел2!C127","v":0},{"$f":"SUM(Раздел2!H127:L127)","v":0}]
["Парусный спорт","120",0,0,null,null,null,0,null,null,null,null,0,0,null,null,null,0,null,null,null,null,0,null,null,null,0,null,null,null,0,null,null,null,null,0,null,null,null,0,null,null,null,0,null,null,null,null,{"$f":"Раздел2!F128","v":0},{"$f":"Раздел2!G128","v":0},{"$f":"Раздел2!C128","v":0},{"$f":"SUM(Раздел2!H128:L128)","v":0}]
["Пауэрлифтинг","121",0,0,null,null,null,0,null,null,null,null,0,0,null,null,null,0,null,null,null,null,0,null,null,null,0,null,null,null,0,null,null,null,null,0,null,null,null,0,null,null,null,0,null,null,null,null,{"$f":"Раздел2!F129","v":0},{"$f":"Раздел2!G129","v":0},{"$f":"Раздел2!C129","v":0},{"$f":"SUM(Раздел2!H129:L129)","v":0}]
["Перетягивание каната","122",0,0,null,null,null,0,null,null,null,null,0,0,null,null,null,0,null,null,null,null,0,null,null,null,0,null,null,null,0,null,null,null,null,0,null,null,null,0,null,null,null,0,null,null,null,null,{"$f":"Раздел2!F130","v":0},{"$f":"Раздел2!G130","v":0},{"$f":"Раздел2!C130","v":0},{"$f":"SUM(Раздел2!H130:L130)","v":0}]
["Пилонный спорт","123",0,0,null,null,null,0,null,null,null,null,0,0,null,null,null,0,null,null,null,null,0,null,null,null,0,null,null,null,0,null,null,null,null,0,null,null,null,0,null,null,null,0,null,null,null,null,{"$f":"Раздел2!F131","v":0},{"$f":"Раздел2!G131","v":0},{"$f":"Раздел2!C131","v":0},{"$f":"SUM(Раздел2!H131:L131)","v":0}]
["Плавание - всего","124",0,0,{"$f":"SUM(E132:E133)","v":0},{"$f":"SUM(F132:F133)","v":0},0,0,0,0,0,0,0,0,0,0,0,0,0,0,0,0,0,0,0,0,0,0,0,0,0,0,0,0,0,0,0,0,0,0,0,0,0,0,0,0,0,0,{"$f":"Раздел2!F132","v":0},{"$f":"Раздел2!G132","v":0},{"$f":"Раздел2!C132","v":0},{"$f":"SUM(Раздел2!H132:L132)","v":0}]
["в том числе:\nПлавание ","125",0,0,null,null,null,0,null,null,null,null,0,0,null,null,null,0,null,null,null,null,0,null,null,null,0,null,null,null,0,null,null,null,null,0,null,null,null,0,null,null,null,0,null,null,null,null,{"$f":"Раздел2!F133","v":0},{"$f":"Раздел2!G133","v":0},{"$f":"Раздел2!C133","v":0},{"$f":"SUM(Раздел2!H133:L133)","v":0}]
["Открытая вода","126",0,0,null,null,null,0,null,null,null,null,0,0,null,null,null,0,null,null,null,null,0,null,null,null,0,null,null,null,0,null,null,null,null,0,null,null,null,0,null,null,null,0,null,null,null,null,{"$f":"Раздел2!F134","v":0},{"$f":"Раздел2!G134","v":0},{"$f":"Раздел2!C134","v":0},{"$f":"SUM(Раздел2!H134:L134)","v":0}]
["Планерный спорт","127",0,0,null,null,null,0,null,null,null,null,0,0,null,null,null,0,null,null,null,null,0,null,null,null,0,null,null,null,0,null,null,null,null,0,null,null,null,0,null,null,null,0,null,null,null,null,{"$f":"Раздел2!F135","v":0},{"$f":"Раздел2!G135","v":0},{"$f":"Раздел2!C135","v":0},{"$f":"SUM(Раздел2!H135:L135)","v":0}]
["Подводный спорт","128",0,0,null,null,null,0,null,null,null,null,0,0,null,null,null,0,null,null,null,null,0,null,null,null,0,null,null,null,0,null,null,null,null,0,null,null,null,0,null,null,null,0,null,null,null,null,{"$f":"Раздел2!F136","v":0},{"$f":"Раздел2!G136","v":0},{"$f":"Раздел2!C136","v":0},{"$f":"SUM(Раздел2!H136:L136)","v":0}]
["Пожарно-спасательный спорт","129",0,0,null,null,null,0,null,null,null,null,0,0,null,null,null,0,null,null,null,null,0,null,null,null,0,null,null,null,0,null,null,null,null,0,null,null,null,0,null,null,null,0,null,null,null,null,{"$f":"Раздел2!F137","v":0},{"$f":"Раздел2!G137","v":0},{"$f":"Раздел2!C137","v":0},{"$f":"SUM(Раздел2!H137:L137)","v":0}]
["Полиатлон","130",{"$f":"SUM(D137,H137)","v":0},{"$f":"SUM(E137:G137)","v":0},null,null,null,{"$f":"SUM(I137:L137)","v":0},null,null,null,null,{"$f":"SUM(N137,R137)","v":0},{"$f":"SUM(O137:Q137)","v":0},null,null,null,{"$f":"SUM(S137:V137)","v":0},null,null,null,null,{"$f":"SUM(X137:Z137)","v":0},null,null,null,{"$f":"SUM(AB137:AD137)","v":0},null,null,null,{"$f":"SUM(AF137:AI137)","v":0},null,null,null,null,{"$f":"SUM(AK137:AM137)","v":0},null,null,null,{"$f":"SUM(AO137:AQ137)","v":0},null,null,null,{"$f":"SUM(AS137:AV137)","v":0},null,null,null,null,{"$f":"Раздел2!F138","v":0},{"$f":"Раздел2!G138","v":0},{"$f":"Раздел2!C138","v":0},{"$f":"SUM(Раздел2!H138:L138)","v":0}]
["Практическая стрельба","131",0,0,null,null,null,0,null,null,null,null,0,0,null,null,null,0,null,null,null,null,0,null,null,null,0,null,null,null,0,null,null,null,null,0,null,null,null,0,null,null,null,0,null,null,null,null,{"$f":"Раздел2!F139","v":0},{"$f":"Раздел2!G139","v":0},{"$f":"Раздел2!C139","v":0},{"$f":"SUM(Раздел2!H139:L139)","v":0}]
["Прыжки в воду - всего","132",0,0,{"$f":"SUM(E140:E141)","v":0},{"$f":"SUM(F140:F141)","v":0},0,0,0,0,0,0,0,0,0,0,0,0,0,0,0,0,0,0,0,0,0,0,0,0,0,0,0,0,0,0,0,0,0,0,0,0,0,0,0,0,0,0,{"$f":"Раздел2!F140","v":0},{"$f":"Раздел2!G140","v":0},{"$f":"Раздел2!C140","v":0},{"$f":"SUM(Раздел2!H140:L140)","v":0}]
["в том числе:\nПрыжки в воду","133",0,0,null,null,null,0,null,null,null,null,0,0,null,null,null,0,null,null,null,null,0,null,null,null,0,null,null,null,0,null,null,null,null,0,null,null,null,0,null,null,null,0,null,null,null,null,{"$f":"Раздел2!F141","v":0},{"$f":"Раздел2!G141","v":0},{"$f":"Раздел2!C141","v":0},{"$f":"SUM(Раздел2!H141:L141)","v":0}]
["Прыжки в открытый водоем","134",0,0,null,null,null,0,null,null,null,null,0,0,null,null,null,0,null,null,null,null,0,null,null,null,0,null,null,null,0,null,null,null,null,0,null,null,null,0,null,null,null,0,null,null,null,null,{"$f":"Раздел2!F142","v":0},{"$f":"Раздел2!G142","v":0},{"$f":"Раздел2!C142","v":0},{"$f":"SUM(Раздел2!H142:L142)","v":0}]
["Прыжки на батуте - всего","135",0,0,{"$f":"SUM(E143:E146)","v":0},{"$f":"SUM(F143:F146)","v":0},0,0,0,0,0,0,0,0,0,0,0,0,0,0,0,0,0,0,0,0,0,0,0,0,0,0,0,0,0,0,0,0,0,0,0,0,0,0,0,0,0,0,{"$f":"Раздел2!F143","v":0},{"$f":"Раздел2!G143","v":0},{"$f":"Раздел2!C143","v":0},{"$f":"SUM(Раздел2!H143:L143)","v":0}]
["в том числе:\nАкробатическая дорожка","136",0,0,null,null,null,0,null,null,null,null,0,0,null,null,null,0,null,null,null,null,0,null,null,null,0,null,null,null,0,null,null,null,null,0,null,null,null,0,null,null,null,0,null,null,null,null,{"$f":"Раздел2!F144","v":0},{"$f":"Раздел2!G144","v":0},{"$f":"Раздел2!C144","v":0},{"$f":"SUM(Раздел2!H144:L144)","v":0}]
["Двойной минитрамп","137",0,0,null,null,null,0,null,null,null,null,0,0,null,null,null,0,null,null,null,null,0,null,null,null,0,null,null,null,0,null,null,null,null,0,null,null,null,0,null,null,null,0,null,null,null,null,{"$f":"Раздел2!F145","v":0},{"$f":"Раздел2!G145","v":0},{"$f":"Раздел2!C145","v":0},{"$f":"SUM(Раздел2!H145:L145)","v":0}]
["Индивидуальные прыжки","138",0,0,null,null,null,0,null,null,null,null,0,0,null,null,null,0,null,null,null,null,0,null,null,null,0,null,null,null,0,null,null,null,null,0,null,null,null,0,null,null,null,0,null,null,null,null,{"$f":"Раздел2!F146","v":0},{"$f":"Раздел2!G146","v":0},{"$f":"Раздел2!C146","v":0},{"$f":"SUM(Раздел2!H146:L146)","v":0}]
["Синхронные прыжки","139",0,0,null,null,null,0,null,null,null,null,0,0,null,null,null,0,null,null,null,null,0,null,null,null,0,null,null,null,0,null,null,null,null,0,null,null,null,0,null,null,null,0,null,null,null,null,{"$f":"Раздел2!F147","v":0},{"$f":"Раздел2!G147","v":0},{"$f":"Раздел2!C147","v":0},{"$f":"SUM(Раздел2!H147:L147)","v":0}]
["Прыжки на лыжах с трамплина","140",0,0,null,null,null,0,null,null,null,null,0,0,null,null,null,0,null,null,null,null,0,null,null,null,0,null,null,null,0,null,null,null,null,0,null,null,null,0,null,null,null,0,null,null,null,null,{"$f":"Раздел2!F148","v":0},{"$f":"Раздел2!G148","v":0},{"$f":"Раздел2!C148","v":0},{"$f":"SUM(Раздел2!H148:L148)","v":0}]
["Пулевая стрельба - всего","141",0,0,{"$f":"SUM(E149:E153)","v":0},{"$f":"SUM(F149:F153)","v":0},0,0,0,0,0,0,0,0,0,0,0,0,0,0,0,0,0,0,0,0,0,0,0,0,0,0,0,0,0,0,0,0,0,0,0,0,0,0,0,0,0,0,{"$f":"Раздел2!F149","v":0},{"$f":"Раздел2!G149","v":0},{"$f":"Раздел2!C149","v":0},{"$f":"SUM(Раздел2!H149:L149)","v":0}]
["в том числе:\nПневматическая винтовка","142",0,0,null,null,null,0,null,null,null,null,0,0,null,null,null,0,null,null,null,null,0,null,null,null,0,null,null,null,0,null,null,null,null,0,null,null,null,0,null,null,null,0,null,null,null,null,{"$f":"Раздел2!F150","v":0},{"$f":"Раздел2!G150","v":0},{"$f":"Раздел2!C150","v":0},{"$f":"SUM(Раздел2!H150:L150)","v":0}]
["Пневматический пистолет","143",0,0,null,null,null,0,null,null,null,null,0,0,null,null,null,0,null,null,null,null,0,null,null,null,0,null,null,null,0,null,null,null,null,0,null,null,null,0,null,null,null,0,null,null,null,null,{"$f":"Раздел2!F151","v":0},{"$f":"Раздел2!G151","v":0},{"$f":"Раздел2!C151","v":0},{"$f":"SUM(Раздел2!H151:L151)","v":0}]
["Малокалиберная винтовка","144",0,0,null,null,null,0,null,null,null,null,0,0,null,null,null,0,null,null,null,null,0,null,null,null,0,null,null,null,0,null,null,null,null,0,null,null,null,0,null,null,null,0,null,null,null,null,{"$f":"Раздел2!F152","v":0},{"$f":"Раздел2!G152","v":0},{"$f":"Раздел2!C152","v":0},{"$f":"SUM(Раздел2!H152:L152)","v":0}]
["Малокалиберный пистолет","145",0,0,null,null,null,0,null,null,null,null,0,0,null,null,null,0,null,null,null,null,0,null,null,null,0,null,null,null,0,null,null,null,null,0,null,null,null,0,null,null,null,0,null,null,null,null,{"$f":"Раздел2!F153","v":0},{"$f":"Раздел2!G153","v":0},{"$f":"Раздел2!C153","v":0},{"$f":"SUM(Раздел2!H153:L153)","v":0}]
["Движущаяся мишень","146",0,0,null,null,null,0,null,null,null,null,0,0,null,null,null,0,null,null,null,null,0,null,null,null,0,null,null,null,0,null,null,null,null,0,null,null,null,0,null,null,null,0,null,null,null,null,{"$f":"Раздел2!F154","v":0},{"$f":"Раздел2!G154","v":0},{"$f":"Раздел2!C154","v":0},{"$f":"SUM(Раздел2!H154:L154)","v":0}]
["Пэйнтбол","147",0,0,null,null,null,0,null,null,null,null,0,0,null,null,null,0,null,null,null,null,0,null,null,null,0,null,null,null,0,null,null,null,null,0,null,null,null,0,null,null,null,0,null,null,null,null,{"$f":"Раздел2!F155","v":0},{"$f":"Раздел2!G155","v":0},{"$f":"Раздел2!C155","v":0},{"$f":"SUM(Раздел2!H155:L155)","v":0}]
["Радиоспорт","148",0,0,null,null,null,0,null,null,null,null,0,0,null,null,null,0,null,null,null,null,0,null,null,null,0,null,null,null,0,null,null,null,null,0,null,null,null,0,null,null,null,0,null,null,null,null,{"$f":"Раздел2!F156","v":0},{"$f":"Раздел2!G156","v":0},{"$f":"Раздел2!C156","v":0},{"$f":"SUM(Раздел2!H156:L156)","v":0}]
["Рафтинг","149",0,0,null,null,null,0,null,null,null,null,0,0,null,null,null,0,null,null,null,null,0,null,null,null,0,null,null,null,0,null,null,null,null,0,null,null,null,0,null,null,null,0,null,null,null,null,{"$f":"Раздел2!F157","v":0},{"$f":"Раздел2!G157","v":0},{"$f":"Раздел2!C157","v":0},{"$f":"SUM(Раздел2!H157:L157)","v":0}]
["Регби - всего","150",0,0,{"$f":"SUM(E158:E162)","v":0},{"$f":"SUM(F158:F162)","v":0},0,0,0,0,0,0,0,0,0,0,0,0,0,0,0,0,0,0,0,0,0,0,0,0,0,0,0,0,0,0,0,0,0,0,0,0,0,0,0,0,0,0,{"$f":"Раздел2!F158","v":0},{"$f":"Раздел2!G158","v":0},{"$f":"Раздел2!C158","v":0},{"$f":"SUM(Раздел2!H158:L158)","v":0}]
["в том числе:\nРегби","151",0,0,null,null,null,0,null,null,null,null,0,0,null,null,null,0,null,null,null,null,0,null,null,null,0,null,null,null,0,null,null,null,null,0,null,null,null,0,null,null,null,0,null,null,null,null,{"$f":"Раздел2!F159","v":0},{"$f":"Раздел2!G159","v":0},{"$f":"Раздел2!C159","v":0},{"$f":"SUM(Раздел2!H159:L159)","v":0}]
["Регби 7 (муж.)","152",0,0,null,null,null,0,null,null,null,null,0,0,null,null,null,0,null,null,null,null,0,null,null,null,0,null,null,null,0,null,null,null,null,0,null,null,null,0,null,null,null,0,null,null,null,null,{"$f":"Раздел2!F160","v":0},{"$f":"Раздел2!G160","v":0},{"$f":"Раздел2!C160","v":0},{"$f":"SUM(Раздел2!H160:L160)","v":0}]
["Регби 7 (жен.)","153",0,0,null,null,null,0,null,null,null,null,0,0,null,null,null,0,null,null,null,null,0,null,null,null,0,null,null,null,0,null,null,null,null,0,null,null,null,0,null,null,null,0,null,null,null,null,{"$f":"Раздел2!F161","v":0},{"$f":"Раздел2!G161","v":0},{"$f":"Раздел2!C161","v":0},{"$f":"SUM(Раздел2!H161:L161)","v":0}]
["Регби - пляжное","154",0,0,null,null,null,0,null,null,null,null,0,0,null,null,null,0,null,null,null,null,0,null,null,null,0,null,null,null,0,null,null,null,null,0,null,null,null,0,null,null,null,0,null,null,null,null,{"$f":"Раздел2!F162","v":0},{"$f":"Раздел2!G162","v":0},{"$f":"Раздел2!C162","v":0},{"$f":"SUM(Раздел2!H162:L162)","v":0}]
["Регби на снегу","155",0,0,null,null,null,0,null,null,null,null,0,0,null,null,null,0,null,null,null,null,0,null,null,null,0,null,null,null,0,null,null,null,null,0,null,null,null,0,null,null,null,0,null,null,null,null,{"$f":"Раздел2!F163","v":0},{"$f":"Раздел2!G163","v":0},{"$f":"Раздел2!C163","v":0},{"$f":"SUM(Раздел2!H163:L163)","v":0}]
["Регбол","156",0,0,null,null,null,0,null,null,null,null,0,0,null,null,null,0,null,null,null,null,0,null,null,null,0,null,null,null,0,null,null,null,null,0,null,null,null,0,null,null,null,0,null,null,null,null,{"$f":"Раздел2!F164","v":0},{"$f":"Раздел2!G164","v":0},{"$f":"Раздел2!C164","v":0},{"$f":"SUM(Раздел2!H164:L164)","v":0}]
["Роллер спорт","157",0,0,null,null,null,0,null,null,null,null,0,0,null,null,null,0,null,null,null,null,0,null,null,null,0,null,null,null,0,null,null,null,null,0,null,null,null,0,null,null,null,0,null,null,null,null,{"$f":"Раздел2!F165","v":0},{"$f":"Раздел2!G165","v":0},{"$f":"Раздел2!C165","v":0},{"$f":"SUM(Раздел2!H165:L165)","v":0}]
["Роуп скиппинг (спортивная скакалка)","158",0,0,null,null,null,0,null,null,null,null,0,0,null,null,null,0,null,null,null,null,0,null,null,null,0,null,null,null,0,null,null,null,null,0,null,null,null,0,null,null,null,0,null,null,null,null,{"$f":"Раздел2!F166","v":0},{"$f":"Раздел2!G166","v":0},{"$f":"Раздел2!C166","v":0},{"$f":"SUM(Раздел2!H166:L166)","v":0}]
["Рукопашный бой","159",0,0,null,null,null,0,null,null,null,null,0,0,null,null,null,0,null,null,null,null,0,null,null,null,0,null,null,null,0,null,null,null,null,0,null,null,null,0,null,null,null,0,null,null,null,null,{"$f":"Раздел2!F167","v":0},{"$f":"Раздел2!G167","v":0},{"$f":"Раздел2!C167","v":0},{"$f":"SUM(Раздел2!H167:L167)","v":0}]
["Рыболовный спорт","160",0,0,null,null,null,0,null,null,null,null,0,0,null,null,null,0,null,null,null,null,0,null,null,null,0,null,null,null,0,null,null,null,null,0,null,null,null,0,null,null,null,0,null,null,null,null,{"$f":"Раздел2!F168","v":0},{"$f":"Раздел2!G168","v":0},{"$f":"Раздел2!C168","v":0},{"$f":"SUM(Раздел2!H168:L168)","v":0}]
["Сават","161",0,0,null,null,null,0,null,null,null,null,0,0,null,null,null,0,null,null,null,null,0,null,null,null,0,null,null,null,0,null,null,null,null,0,null,null,null,0,null,null,null,0,null,null,null,null,{"$f":"Раздел2!F169","v":0},{"$f":"Раздел2!G169","v":0},{"$f":"Раздел2!C169","v":0},{"$f":"SUM(Раздел2!H169:L169)","v":0}]
["Самбо","162",0,0,null,null,null,0,null,null,null,null,0,0,null,null,null,0,null,null,null,null,0,null,null,null,0,null,null,null,0,null,null,null,null,0,null,null,null,0,null,null,null,0,null,null,null,null,{"$f":"Раздел2!F170","v":0},{"$f":"Раздел2!G170","v":0},{"$f":"Раздел2!C170","v":0},{"$f":"SUM(Раздел2!H170:L170)","v":0}]
["Самолетный спорт","163",0,0,null,null,null,0,null,null,null,null,0,0,null,null,null,0,null,null,null,null,0,null,null,null,0,null,null,null,0,null,null,null,null,0,null,null,null,0,null,null,null,0,null,null,null,null,{"$f":"Раздел2!F171","v":0},{"$f":"Раздел2!G171","v":0},{"$f":"Раздел2!C171","v":0},{"$f":"SUM(Раздел2!H171:L171)","v":0}]
["Санный спорт","164",0,0,null,null,null,0,null,null,null,null,0,0,null,null,null,0,null,null,null,null,0,null,null,null,0,null,null,null,0,null,null,null,null,0,null,null,null,0,null,null,null,0,null,null,null,null,{"$f":"Раздел2!F172","v":0},{"$f":"Раздел2!G172","v":0},{"$f":"Раздел2!C172","v":0},{"$f":"SUM(Раздел2!H172:L172)","v":0}]
["Северное многоборье","165",0,0,null,null,null,0,null,null,null,null,0,0,null,null,null,0,null,null,null,null,0,null,null,null,0,null,null,null,0,null,null,null,null,0,null,null,null,0,null,null,null,0,null,null,null,null,{"$f":"Раздел2!F173","v":0},{"$f":"Раздел2!G173","v":0},{"$f":"Раздел2!C173","v":0},{"$f":"SUM(Раздел2!H173:L173)","v":0}]
["Серфинг","166",0,0,null,null,null,0,null,null,null,null,0,0,null,null,null,0,null,null,null,null,0,null,null,null,0,null,null,null,0,null,null,null,null,0,null,null,null,0,null,null,null,0,null,null,null,null,{"$f":"Раздел2!F174","v":0},{"$f":"Раздел2!G174","v":0},{"$f":"Раздел2!C174","v":0},{"$f":"SUM(Раздел2!H174:L174)","v":0}]
["Силовой экстрим","167",0,0,null,null,null,0,null,null,null,null,0,0,null,null,null,0,null,null,null,null,0,null,null,null,0,null,null,null,0,null,null,null,null,0,null,null,null,0,null,null,null,0,null,null,null,null,{"$f":"Раздел2!F175","v":0},{"$f":"Раздел2!G175","v":0},{"$f":"Раздел2!C175","v":0},{"$f":"SUM(Раздел2!H175:L175)","v":0}]
["Синхронное плавание","168",0,0,null,null,null,0,null,null,null,null,0,0,null,null,null,0,null,null,null,null,0,null,null,null,0,null,null,null,0,null,null,null,null,0,null,null,null,0,null,null,null,0,null,null,null,null,{"$f":"Раздел2!F176","v":0},{"$f":"Раздел2!G176","v":0},{"$f":"Раздел2!C176","v":0},{"$f":"SUM(Раздел2!H176:L176)","v":0}]
["Скалолазание","169",0,0,null,null,null,0,null,null,null,null,0,0,null,null,null,0,null,null,null,null,0,null,null,null,0,null,null,null,0,null,null,null,null,0,null,null,null,0,null,null,null,0,null,null,null,null,{"$f":"Раздел2!F177","v":0},{"$f":"Раздел2!G177","v":0},{"$f":"Раздел2!C177","v":0},{"$f":"SUM(Раздел2!H177:L177)","v":0}]
["Сквош","170",0,0,null,null,null,0,null,null,null,null,0,0,null,null,null,0,null,null,null,null,0,null,null,null,0,null,null,null,0,null,null,null,null,0,null,null,null,0,null,null,null,0,null,null,null,null,{"$f":"Раздел2!F178","v":0},{"$f":"Раздел2!G178","v":0},{"$f":"Раздел2!C178","v":0},{"$f":"SUM(Раздел2!H178:L178)","v":0}]
["Скейтбординг","171",0,0,null,null,null,0,null,null,null,null,0,0,null,null,null,0,null,null,null,null,0,null,null,null,0,null,null,null,0,null,null,null,null,0,null,null,null,0,null,null,null,0,null,null,null,null,{"$f":"Раздел2!F179","v":0},{"$f":"Раздел2!G179","v":0},{"$f":"Раздел2!C179","v":0},{"$f":"SUM(Раздел2!H179:L179)","v":0}]
["Служебно-боевая стрельба ","172",0,0,null,null,null,0,null,null,null,null,0,0,null,null,null,0,null,null,null,null,0,null,null,null,0,null,null,null,0,null,null,null,null,0,null,null,null,0,null,null,null,0,null,null,null,null,{"$f":"Раздел2!F180","v":0},{"$f":"Раздел2!G180","v":0},{"$f":"Раздел2!C180","v":0},{"$f":"SUM(Раздел2!H180:L180)","v":0}]
["Служебно-прикладной спорт","173",0,0,null,null,null,0,null,null,null,null,0,0,null,null,null,0,null,null,null,null,0,null,null,null,0,null,null,null,0,null,null,null,null,0,null,null,null,0,null,null,null,0,null,null,null,null,{"$f":"Раздел2!F181","v":0},{"$f":"Раздел2!G181","v":0},{"$f":"Раздел2!C181","v":0},{"$f":"SUM(Раздел2!H181:L181)","v":0}]
["Служебно-прикладной спорт ФСО России","174",0,0,null,null,null,0,null,null,null,null,0,0,null,null,null,0,null,null,null,null,0,null,null,null,0,null,null,null,0,null,null,null,null,0,null,null,null,0,null,null,null,0,null,null,null,null,{"$f":"Раздел2!F182","v":0},{"$f":"Раздел2!G182","v":0},{"$f":"Раздел2!C182","v":0},{"$f":"SUM(Раздел2!H182:L182)","v":0}]
["Служебно-прикладной спорт ФТС России","175",0,0,null,null,null,0,null,null,null,null,0,0,null,null,null,0,null,null,null,null,0,null,null,null,0,null,null,null,0,null,null,null,null,0,null,null,null,0,null,null,null,0,null,null,null,null,{"$f":"Раздел2!F183","v":0},{"$f":"Раздел2!G183","v":0},{"$f":"Раздел2!C183","v":0},{"$f":"SUM(Раздел2!H183:L183)","v":0}]
["Служебное двоеборье","176",0,0,null,null,null,0,null,null,null,null,0,0,null,null,null,0,null,null,null,null,0,null,null,null,0,null,null,null,0,null,null,null,null,0,null,null,null,0,null,null,null,0,null,null,null,null,{"$f":"Раздел2!F184","v":0},{"$f":"Раздел2!G184","v":0},{"$f":"Раздел2!C184","v":0},{"$f":"SUM(Раздел2!H184:L184)","v":0}]
["Служебное единоборство","177",0,0,null,null,null,0,null,null,null,null,0,0,null,null,null,0,null,null,null,null,0,null,null,null,0,null,null,null,0,null,null,null,null,0,null,null,null,0,null,null,null,0,null,null,null,null,{"$f":"Раздел2!F185","v":0},{"$f":"Раздел2!G185","v":0},{"$f":"Раздел2!C185","v":0},{"$f":"SUM(Раздел2!H185:L185)","v":0}]
["Служебное многоборье","178",0,0,null,null,null,0,null,null,null,null,0,0,null,null,null,0,null,null,null,null,0,null,null,null,0,null,null,null,0,null,null,null,null,0,null,null,null,0,null,null,null,0,null,null,null,null,{"$f":"Раздел2!F186","v":0},{"$f":"Раздел2!G186","v":0},{"$f":"Раздел2!C186","v":0},{"$f":"SUM(Раздел2!H186:L186)","v":0}]
["Служебный биатлон","179",0,0,null,null,null,0,null,null,null,null,0,0,null,null,null,0,null,null,null,null,0,null,null,null,0,null,null,null,0,null,null,null,null,0,null,null,null,0,null,null,null,0,null,null,null,null,{"$f":"Раздел2!F187","v":0},{"$f":"Раздел2!G187","v":0},{"$f":"Раздел2!C187","v":0},{"$f":"SUM(Раздел2!H187:L187)","v":0}]
["Спасательный спорт","180",0,0,null,null,null,0,null,null,null,null,0,0,null,null,null,0,null,null,null,null,0,null,null,null,0,null,null,null,0,null,null,null,null,0,null,null,null,0,null,null,null,0,null,null,null,null,{"$f":"Раздел2!F188","v":0},{"$f":"Раздел2!G188","v":0},{"$f":"Раздел2!C188","v":0},{"$f":"SUM(Раздел2!H188:L188)","v":0}]
["Стрельба из боевого ручного стрелкового оружия","181",0,0,null,null,null,0,null,null,null,null,0,0,null,null,null,0,null,null,null,null,0,null,null,null,0,null,null,null,0,null,null,null,null,0,null,null,null,0,null,null,null,0,null,null,null,null,{"$f":"Раздел2!F189","v":0},{"$f":"Раздел2!G189","v":0},{"$f":"Раздел2!C189","v":0},{"$f":"SUM(Раздел2!H189:L189)","v":0}]
["Стрельба из штатного или табельного оружия","182",0,0,null,null,null,0,null,null,null,null,0,0,null,null,null,0,null,null,null,null,0,null,null,null,0,null,null,null,0,null,null,null,null,0,null,null,null,0,null,null,null,0,null,null,null,null,{"$f":"Раздел2!F190","v":0},{"$f":"Раздел2!G190","v":0},{"$f":"Раздел2!C190","v":0},{"$f":"SUM(Раздел2!H190:L190)","v":0}]
["Стрельба на дальние дистанции","183",0,0,null,null,null,0,null,null,null,null,0,0,null,null,null,0,null,null,null,null,0,null,null,null,0,null,null,null,0,null,null,null,null,0,null,null,null,0,null,null,null,0,null,null,null,null,{"$f":"Раздел2!F191","v":0},{"$f":"Раздел2!G191","v":0},{"$f":"Раздел2!C191","v":0},{"$f":"SUM(Раздел2!H191:L191)","v":0}]
["Смешанное боевое единоборство (ММА)","184",0,0,null,null,null,0,null,null,null,null,0,0,null,null,null,0,null,null,null,null,0,null,null,null,0,null,null,null,0,null,null,null,null,0,null,null,null,0,null,null,null,0,null,null,null,null,{"$f":"Раздел2!F192","v":0},{"$f":"Раздел2!G192","v":0},{"$f":"Раздел2!C192","v":0},{"$f":"SUM(Раздел2!H192:L192)","v":0}]
["Сноуборд","185",0,0,null,null,null,0,null,null,null,null,0,0,null,null,null,0,null,null,null,null,0,null,null,null,0,null,null,null,0,null,null,null,null,0,null,null,null,0,null,null,null,0,null,null,null,null,{"$f":"Раздел2!F193","v":0},{"$f":"Раздел2!G193","v":0},{"$f":"Раздел2!C193","v":0},{"$f":"SUM(Раздел2!H193:L193)","v":0}]
["Современное пятиборье","186",0,0,null,null,null,0,null,null,null,null,0,0,null,null,null,0,null,null,null,null,0,null,null,null,0,null,null,null,0,null,null,null,null,0,null,null,null,0,null,null,null,0,null,null,null,null,{"$f":"Раздел2!F194","v":0},{"$f":"Раздел2!G194","v":0},{"$f":"Раздел2!C194","v":0},{"$f":"SUM(Раздел2!H194:L194)","v":0}]
["Софтбол","187",0,0,null,null,null,0,null,null,null,null,0,0,null,null,null,0,null,null,null,null,0,null,null,null,0,null,null,null,0,null,null,null,null,0,null,null,null,0,null,null,null,0,null,null,null,null,{"$f":"Раздел2!F195","v":0},{"$f":"Раздел2!G195","v":0},{"$f":"Раздел2!C195","v":0},{"$f":"SUM(Раздел2!H195:L195)","v":0}]
["Спорт сверхлегкой авиации","188",0,0,null,null,null,0,null,null,null,null,0,0,null,null,null,0,null,null,null,null,0,null,null,null,0,null,null,null,0,null,null,null,null,0,null,null,null,0,null,null,null,0,null,null,null,null,{"$f":"Раздел2!F196","v":0},{"$f":"Раздел2!G196","v":0},{"$f":"Раздел2!C196","v":0},{"$f":"SUM(Раздел2!H196:L196)","v":0}]
["Спортивная акробатика","189",0,0,null,null,null,0,null,null,null,null,0,0,null,null,null,0,null,null,null,null,0,null,null,null,0,null,null,null,0,null,null,null,null,0,null,null,null,0,null,null,null,0,null,null,null,null,{"$f":"Раздел2!F197","v":0},{"$f":"Раздел2!G197","v":0},{"$f":"Раздел2!C197","v":0},{"$f":"SUM(Раздел2!H197:L197)","v":0}]
["Спортивная аэробика","190",0,0,null,null,null,0,null,null,null,null,0,0,null,null,null,0,null,null,null,null,0,null,null,null,0,null,null,null,0,null,null,null,null,0,null,null,null,0,null,null,null,0,null,null,null,null,{"$f":"Раздел2!F198","v":0},{"$f":"Раздел2!G198","v":0},{"$f":"Раздел2!C198","v":0},{"$f":"SUM(Раздел2!H198:L198)","v":0}]
["Спортивная борьба - всего","191",0,0,{"$f":"SUM(E199:E203)","v":0},{"$f":"SUM(F199:F203)","v":0},0,0,0,0,0,0,0,0,0,0,0,0,0,0,0,0,0,0,0,0,0,0,0,0,0,0,0,0,0,0,0,0,0,0,0,0,0,0,0,0,0,0,{"$f":"Раздел2!F199","v":0},{"$f":"Раздел2!G199","v":0},{"$f":"Раздел2!C199","v":0},{"$f":"SUM(Раздел2!H199:L199)","v":0}]
["в том числе:\nВольная борьба","192",0,0,null,null,null,0,null,null,null,null,0,0,null,null,null,0,null,null,null,null,0,null,null,null,0,null,null,null,0,null,null,null,null,0,null,null,null,0,null,null,null,0,null,null,null,null,{"$f":"Раздел2!F200","v":0},{"$f":"Раздел2!G200","v":0},{"$f":"Раздел2!C200","v":0},{"$f":"SUM(Раздел2!H200:L200)","v":0}]
["Греко-римская борьба","193",0,0,null,null,null,0,null,null,null,null,0,0,null,null,null,0,null,null,null,null,0,null,null,null,0,null,null,null,0,null,null,null,null,0,null,null,null,0,null,null,null,0,null,null,null,null,{"$f":"Раздел2!F201","v":0},{"$f":"Раздел2!G201","v":0},{"$f":"Раздел2!C201","v":0},{"$f":"SUM(Раздел2!H201:L201)","v":0}]
["Грэпплинг","194",{"$f":"SUM(D201,H201)","v":0},{"$f":"SUM(E201:G201)","v":0},null,null,null,{"$f":"SUM(I201:L201)","v":0},null,null,null,null,{"$f":"SUM(N201,R201)","v":0},{"$f":"SUM(O201:Q201)","v":0},null,null,null,{"$f":"SUM(S201:V201)","v":0},null,null,null,null,{"$f":"SUM(X201:Z201)","v":0},null,null,null,{"$f":"SUM(AB201:AD201)","v":0},null,null,null,{"$f":"SUM(AF201:AI201)","v":0},null,null,null,null,{"$f":"SUM(AK201:AM201)","v":0},null,null,null,{"$f":"SUM(AO201:AQ201)","v":0},null,null,null,{"$f":"SUM(AS201:AV201)","v":0},null,null,null,null,{"$f":"Раздел2!F202","v":0},{"$f":"Раздел2!G202","v":0},{"$f":"Раздел2!C202","v":0},{"$f":"SUM(Раздел2!H202:L202)","v":0}]
["Грэпплинг-ги","195",0,0,null,null,null,0,null,null,null,null,0,0,null,null,null,0,null,null,null,null,0,null,null,null,0,null,null,null,0,null,null,null,null,0,null,null,null,0,null,null,null,0,null,null,null,null,{"$f":"Раздел2!F203","v":0},{"$f":"Раздел2!G203","v":0},{"$f":"Раздел2!C203","v":0},{"$f":"SUM(Раздел2!H203:L203)","v":0}]
["Панкратион","196",0,0,null,null,null,0,null,null,null,null,0,0,null,null,null,0,null,null,null,null,0,null,null,null,0,null,null,null,0,null,null,null,null,0,null,null,null,0,null,null,null,0,null,null,null,null,{"$f":"Раздел2!F204","v":0},{"$f":"Раздел2!G204","v":0},{"$f":"Раздел2!C204","v":0},{"$f":"SUM(Раздел2!H204:L204)","v":0}]
["Спортивная гимнастика","197",0,0,null,null,null,0,null,null,null,null,0,0,null,null,null,0,null,null,null,null,0,null,null,null,0,null,null,null,0,null,null,null,null,0,null,null,null,0,null,null,null,0,null,null,null,null,{"$f":"Раздел2!F205","v":0},{"$f":"Раздел2!G205","v":0},{"$f":"Раздел2!C205","v":0},{"$f":"SUM(Раздел2!H205:L205)","v":0}]
["Спортивная йога","198",0,0,null,null,null,0,null,null,null,null,0,0,null,null,null,0,null,null,null,null,0,null,null,null,0,null,null,null,0,null,null,null,null,0,null,null,null,0,null,null,null,0,null,null,null,null,{"$f":"Раздел2!F206","v":0},{"$f":"Раздел2!G206","v":0},{"$f":"Раздел2!C206","v":0},{"$f":"SUM(Раздел2!H206:L206)","v":0}]
["Спортивно-прикладное собаководство","199",0,0,null,null,null,0,null,null,null,null,0,0,null,null,null,0,null,null,null,null,0,null,null,null,0,null,null,null,0,null,null,null,null,0,null,null,null,0,null,null,null,0,null,null,null,null,{"$f":"Раздел2!F207","v":0},{"$f":"Раздел2!G207","v":0},{"$f":"Раздел2!C207","v":0},{"$f":"SUM(Раздел2!H207:L207)","v":0}]
["Спортивное программирование","200",0,0,null,null,null,0,null,null,null,null,0,0,null,null,null,0,null,null,null,null,0,null,null,null,0,null,null,null,0,null,null,null,null,0,null,null,null,0,null,null,null,0,null,null,null,null,{"$f":"Раздел2!F208","v":0},{"$f":"Раздел2!G208","v":0},{"$f":"Раздел2!C208","v":0},{"$f":"SUM(Раздел2!H208:L208)","v":0}]
["Спортивное метание ножа","201",0,0,null,null,null,0,null,null,null,null,0,0,null,null,null,0,null,null,null,null,0,null,null,null,0,null,null,null,0,null,null,null,null,0,null,null,null,0,null,null,null,0,null,null,null,null,{"$f":"Раздел2!F209","v":0},{"$f":"Раздел2!G209","v":0},{"$f":"Раздел2!C209","v":0},{"$f":"SUM(Раздел2!H209:L209)","v":0}]
["Спортивное ориентирование","202",0,0,null,null,null,0,null,null,null,null,0,0,null,null,null,0,null,null,null,null,0,null,null,null,0,null,null,null,0,null,null,null,null,0,null,null,null,0,null,null,null,0,null,null,null,null,{"$f":"Раздел2!F210","v":0},{"$f":"Раздел2!G210","v":0},{"$f":"Раздел2!C210","v":0},{"$f":"SUM(Раздел2!H210:L210)","v":0}]
["Спортивный бридж","203",0,0,null,null,null,0,null,null,null,null,0,0,null,null,null,0,null,null,null,null,0,null,null,null,0,null,null,null,0,null,null,null,null,0,null,null,null,0,null,null,null,0,null,null,null,null,{"$f":"Раздел2!F211","v":0},{"$f":"Раздел2!G211","v":0},{"$f":"Раздел2!C211","v":0},{"$f":"SUM(Раздел2!H211:L211)","v":0}]
["Спортивный туризм","204",0,0,null,null,null,0,null,null,null,null,0,0,null,null,null,0,null,null,null,null,0,null,null,null,0,null,null,null,0,null,null,null,null,0,null,null,null,0,null,null,null,0,null,null,null,null,{"$f":"Раздел2!F212","v":0},{"$f":"Раздел2!G212","v":0},{"$f":"Раздел2!C212","v":0},{"$f":"SUM(Раздел2!H212:L212)","v":0}]
["Стендовая стрельба - всего","205",0,0,{"$f":"SUM(E213:E216)","v":0},{"$f":"SUM(F213:F216)","v":0},0,0,0,0,0,0,0,0,0,0,0,0,0,0,0,0,0,0,0,0,0,0,0,0,0,0,0,0,0,0,0,0,0,0,0,0,0,0,0,0,0,0,{"$f":"Раздел2!F213","v":0},{"$f":"Раздел2!G213","v":0},{"$f":"Раздел2!C213","v":0},{"$f":"SUM(Раздел2!H213:L213)","v":0}]
["в том числе:\nТрап","206",0,0,null,null,null,0,null,null,null,null,0,0,null,null,null,0,null,null,null,null,0,null,null,null,0,null,null,null,0,null,null,null,null,0,null,null,null,0,null,null,null,0,null,null,null,null,{"$f":"Раздел2!F214","v":0},{"$f":"Раздел2!G214","v":0},{"$f":"Раздел2!C214","v":0},{"$f":"SUM(Раздел2!H214:L214)","v":0}]
["Скит","207",0,0,null,null,null,0,null,null,null,null,0,0,null,null,null,0,null,null,null,null,0,null,null,null,0,null,null,null,0,null,null,null,null,0,null,null,null,0,null,null,null,0,null,null,null,null,{"$f":"Раздел2!F215","v":0},{"$f":"Раздел2!G215","v":0},{"$f":"Раздел2!C215","v":0},{"$f":"SUM(Раздел2!H215:L215)","v":0}]
["Дубль-трап","208",0,0,null,null,null,0,null,null,null,null,0,0,null,null,null,0,null,null,null,null,0,null,null,null,0,null,null,null,0,null,null,null,null,0,null,null,null,0,null,null,null,0,null,null,null,null,{"$f":"Раздел2!F216","v":0},{"$f":"Раздел2!G216","v":0},{"$f":"Раздел2!C216","v":0},{"$f":"SUM(Раздел2!H216:L216)","v":0}]
["Спортинг","209",0,0,null,null,null,0,null,null,null,null,0,0,null,null,null,0,null,null,null,null,0,null,null,null,0,null,null,null,0,null,null,null,null,0,null,null,null,0,null,null,null,0,null,null,null,null,{"$f":"Раздел2!F217","v":0},{"$f":"Раздел2!G217","v":0},{"$f":"Раздел2!C217","v":0},{"$f":"SUM(Раздел2!H217:L217)","v":0}]
["Страйкбол","210",0,0,null,null,null,0,null,null,null,null,0,0,null,null,null,0,null,null,null,null,0,null,null,null,0,null,null,null,0,null,null,null,null,0,null,null,null,0,null,null,null,0,null,null,null,null,{"$f":"Раздел2!F218","v":0},{"$f":"Раздел2!G218","v":0},{"$f":"Раздел2!C218","v":0},{"$f":"SUM(Раздел2!H218:L218)","v":0}]
["Стрельба из арбалета","211",0,0,null,null,null,0,null,null,null,null,0,0,null,null,null,0,null,null,null,null,0,null,null,null,0,null,null,null,0,null,null,null,null,0,null,null,null,0,null,null,null,0,null,null,null,null,{"$f":"Раздел2!F219","v":0},{"$f":"Раздел2!G219","v":0},{"$f":"Раздел2!C219","v":0},{"$f":"SUM(Раздел2!H219:L219)","v":0}]
["Стрельба из лука - всего","212",0,0,{"$f":"SUM(E220:E222)","v":0},{"$f":"SUM(F220:F222)","v":0},0,0,0,0,0,0,0,0,0,0,0,0,0,0,0,0,0,0,0,0,0,0,0,0,0,0,0,0,0,0,0,0,0,0,0,0,0,0,0,0,0,0,{"$f":"Раздел2!F220","v":0},{"$f":"Раздел2!G220","v":0},{"$f":"Раздел2!C220","v":0},{"$f":"SUM(Раздел2!H220:L220)","v":0}]
["в том числе:\nКлассический лук","213",0,0,null,null,null,0,null,null,null,null,0,0,null,null,null,0,null,null,null,null,0,null,null,null,0,null,null,null,0,null,null,null,null,0,null,null,null,0,null,null,null,0,null,null,null,null,{"$f":"Раздел2!F221","v":0},{"$f":"Раздел2!G221","v":0},{"$f":"Раздел2!C221","v":0},{"$f":"SUM(Раздел2!H221:L221)","v":0}]
["   Блочный лук","214",0,0,null,null,null,0,null,null,null,null,0,0,null,null,null,0,null,null,null,null,0,null,null,null,0,null,null,null,0,null,null,null,null,0,null,null,null,0,null,null,null,0,null,null,null,null,{"$f":"Раздел2!F222","v":0},{"$f":"Раздел2!G222","v":0},{"$f":"Раздел2!C222","v":0},{"$f":"SUM(Раздел2!H222:L222)","v":0}]
["   Ачери ","215",0,0,null,null,null,0,null,null,null,null,0,0,null,null,null,0,null,null,null,null,0,null,null,null,0,null,null,null,0,null,null,null,null,0,null,null,null,0,null,null,null,0,null,null,null,null,{"$f":"Раздел2!F223","v":0},{"$f":"Раздел2!G223","v":0},{"$f":"Раздел2!C223","v":0},{"$f":"SUM(Раздел2!H223:L223)","v":0}]
["Судомодельный спорт","216",0,0,null,null,null,0,null,null,null,null,0,0,null,null,null,0,null,null,null,null,0,null,null,null,0,null,null,null,0,null,null,null,null,0,null,null,null,0,null,null,null,0,null,null,null,null,{"$f":"Раздел2!F224","v":0},{"$f":"Раздел2!G224","v":0},{"$f":"Раздел2!C224","v":0},{"$f":"SUM(Раздел2!H224:L224)","v":0}]
["Сумо","217",0,0,null,null,null,0,null,null,null,null,0,0,null,null,null,0,null,null,null,null,0,null,null,null,0,null,null,null,0,null,null,null,null,0,null,null,null,0,null,null,null,0,null,null,null,null,{"$f":"Раздел2!F225","v":0},{"$f":"Раздел2!G225","v":0},{"$f":"Раздел2!C225","v":0},{"$f":"SUM(Раздел2!H225:L225)","v":0}]
["Таврели","218",0,0,null,null,null,0,null,null,null,null,0,0,null,null,null,0,null,null,null,null,0,null,null,null,0,null,null,null,0,null,null,null,null,0,null,null,null,0,null,null,null,0,null,null,null,null,{"$f":"Раздел2!F226","v":0},{"$f":"Раздел2!G226","v":0},{"$f":"Раздел2!C226","v":0},{"$f":"SUM(Раздел2!H226:L226)","v":0}]
["Тайский бокс","219",0,0,null,null,null,0,null,null,null,null,0,0,null,null,null,0,null,null,null,null,0,null,null,null,0,null,null,null,0,null,null,null,null,0,null,null,null,0,null,null,null,0,null,null,null,null,{"$f":"Раздел2!F227","v":0},{"$f":"Раздел2!G227","v":0},{"$f":"Раздел2!C227","v":0},{"$f":"SUM(Раздел2!H227:L227)","v":0}]
["Танцевальный спорт - всего","220",0,0,{"$f":"SUM(E228:E229)","v":0},{"$f":"SUM(F228:F229)","v":0},0,0,0,0,0,0,0,0,0,0,0,0,0,0,0,0,0,0,0,0,0,0,0,0,0,0,0,0,0,0,0,0,0,0,0,0,0,0,0,0,0,0,{"$f":"Раздел2!F228","v":0},{"$f":"Раздел2!G228","v":0},{"$f":"Раздел2!C228","v":0},{"$f":"SUM(Раздел2!H228:L228)","v":0}]
["в том числе:\nТанцевальный спорт","221",0,0,null,null,null,0,null,null,null,null,0,0,null,null,null,0,null,null,null,null,0,null,null,null,0,null,null,null,0,null,null,null,null,0,null,null,null,0,null,null,null,0,null,null,null,null,{"$f":"Раздел2!F229","v":0},{"$f":"Раздел2!G229","v":0},{"$f":"Раздел2!C229","v":0},{"$f":"SUM(Раздел2!H229:L229)","v":0}]
["Брейкинг","222",0,0,null,null,null,0,null,null,null,null,0,0,null,null,null,0,null,null,null,null,0,null,null,null,0,null,null,null,0,null,null,null,null,0,null,null,null,0,null,null,null,0,null,null,null,null,{"$f":"Раздел2!F230","v":0},{"$f":"Раздел2!G230","v":0},{"$f":"Раздел2!C230","v":0},{"$f":"SUM(Раздел2!H230:L230)","v":0}]
["Теннис","223",0,0,null,null,null,0,null,null,null,null,0,0,null,null,null,0,null,null,null,null,0,null,null,null,0,null,null,null,0,null,null,null,null,0,null,null,null,0,null,null,null,0,null,null,null,null,{"$f":"Раздел2!F231","v":0},{"$f":"Раздел2!G231","v":0},{"$f":"Раздел2!C231","v":0},{"$f":"SUM(Раздел2!H231:L231)","v":0}]
["Триатлон","224",0,0,null,null,null,0,null,null,null,null,0,0,null,null,null,0,null,null,null,null,0,null,null,null,0,null,null,null,0,null,null,null,null,0,null,null,null,0,null,null,null,0,null,null,null,null,{"$f":"Раздел2!F232","v":0},{"$f":"Раздел2!G232","v":0},{"$f":"Раздел2!C232","v":0},{"$f":"SUM(Раздел2!H232:L232)","v":0}]
["Тхэквондо (ВТФ)","225",0,0,null,null,null,0,null,null,null,null,0,0,null,null,null,0,null,null,null,null,0,null,null,null,0,null,null,null,0,null,null,null,null,0,null,null,null,0,null,null,null,0,null,null,null,null,{"$f":"Раздел2!F233","v":0},{"$f":"Раздел2!G233","v":0},{"$f":"Раздел2!C233","v":0},{"$f":"SUM(Раздел2!H233:L233)","v":0}]
["Тхэквондо ГТФ","226",0,0,null,null,null,0,null,null,null,null,0,0,null,null,null,0,null,null,null,null,0,null,null,null,0,null,null,null,0,null,null,null,null,0,null,null,null,0,null,null,null,0,null,null,null,null,{"$f":"Раздел2!F234","v":0},{"$f":"Раздел2!G234","v":0},{"$f":"Раздел2!C234","v":0},{"$f":"SUM(Раздел2!H234:L234)","v":0}]
["Тхэквондо ИТФ","227",0,0,null,null,null,0,null,null,null,null,0,0,null,null,null,0,null,null,null,null,0,null,null,null,0,null,null,null,0,null,null,null,null,0,null,null,null,0,null,null,null,0,null,null,null,null,{"$f":"Раздел2!F235","v":0},{"$f":"Раздел2!G235","v":0},{"$f":"Раздел2!C235","v":0},{"$f":"SUM(Раздел2!H235:L235)","v":0}]
["Тхэквондо МФТ","228",0,0,null,null,null,0,null,null,null,null,0,0,null,null,null,0,null,null,null,null,0,null,null,null,0,null,null,null,0,null,null,null,null,0,null,null,null,0,null,null,null,0,null,null,null,null,{"$f":"Раздел2!F236","v":0},{"$f":"Раздел2!G236","v":0},{"$f":"Раздел2!C236","v":0},{"$f":"SUM(Раздел2!H236:L236)","v":0}]
["Тяжелая атлетика","229",0,0,null,null,null,0,null,null,null,null,0,0,null,null,null,0,null,null,null,null,0,null,null,null,0,null,null,null,0,null,null,null,null,0,null,null,null,0,null,null,null,0,null,null,null,null,{"$f":"Раздел2!F237","v":0},{"$f":"Раздел2!G237","v":0},{"$f":"Раздел2!C237","v":0},{"$f":"SUM(Раздел2!H237:L237)","v":0}]
["Универсальный бой","230",0,0,null,null,null,0,null,null,null,null,0,0,null,null,null,0,null,null,null,null,0,null,null,null,0,null,null,null,0,null,null,null,null,0,null,null,null,0,null,null,null,0,null,null,null,null,{"$f":"Раздел2!F238","v":0},{"$f":"Раздел2!G238","v":0},{"$f":"Раздел2!C238","v":0},{"$f":"SUM(Раздел2!H238:L238)","v":0}]
["Ушу","231",0,0,null,null,null,0,null,null,null,null,0,0,null,null,null,0,null,null,null,null,0,null,null,null,0,null,null,null,0,null,null,null,null,0,null,null,null,0,null,null,null,0,null,null,null,null,{"$f":"Раздел2!F239","v":0},{"$f":"Раздел2!G239","v":0},{"$f":"Раздел2!C239","v":0},{"$f":"SUM(Раздел2!H239:L239)","v":0}]
["Фехтование - всего","232",0,0,{"$f":"SUM(E240:E243)","v":0},{"$f":"SUM(F240:F243)","v":0},0,0,0,0,0,0,0,0,0,0,0,0,0,0,0,0,0,0,0,0,0,0,0,0,0,0,0,0,0,0,0,0,0,0,0,0,0,0,0,0,0,0,{"$f":"Раздел2!F240","v":0},{"$f":"Раздел2!G240","v":0},{"$f":"Раздел2!C240","v":0},{"$f":"SUM(Раздел2!H240:L240)","v":0}]
["в том числе:\nРапира","233",0,0,null,null,null,0,null,null,null,null,0,0,null,null,null,0,null,null,null,null,0,null,null,null,0,null,null,null,0,null,null,null,null,0,null,null,null,0,null,null,null,0,null,null,null,null,{"$f":"Раздел2!F241","v":0},{"$f":"Раздел2!G241","v":0},{"$f":"Раздел2!C241","v":0},{"$f":"SUM(Раздел2!H241:L241)","v":0}]
["Сабля","234",0,0,null,null,null,0,null,null,null,null,0,0,null,null,null,0,null,null,null,null,0,null,null,null,0,null,null,null,0,null,null,null,null,0,null,null,null,0,null,null,null,0,null,null,null,null,{"$f":"Раздел2!F242","v":0},{"$f":"Раздел2!G242","v":0},{"$f":"Раздел2!C242","v":0},{"$f":"SUM(Раздел2!H242:L242)","v":0}]
["Шпага","235",0,0,null,null,null,0,null,null,null,null,0,0,null,null,null,0,null,null,null,null,0,null,null,null,0,null,null,null,0,null,null,null,null,0,null,null,null,0,null,null,null,0,null,null,null,null,{"$f":"Раздел2!F243","v":0},{"$f":"Раздел2!G243","v":0},{"$f":"Раздел2!C243","v":0},{"$f":"SUM(Раздел2!H243:L243)","v":0}]
["Арт-фехтование","236",0,0,null,null,null,0,null,null,null,null,0,0,null,null,null,0,null,null,null,null,0,null,null,null,0,null,null,null,0,null,null,null,null,0,null,null,null,0,null,null,null,0,null,null,null,null,{"$f":"Раздел2!F244","v":0},{"$f":"Раздел2!G244","v":0},{"$f":"Раздел2!C244","v":0},{"$f":"SUM(Раздел2!H244:L244)","v":0}]
["Фигурное катание на коньках","237",0,0,null,null,null,0,null,null,null,null,0,0,null,null,null,0,null,null,null,null,0,null,null,null,0,null,null,null,0,null,null,null,null,0,null,null,null,0,null,null,null,0,null,null,null,null,{"$f":"Раздел2!F245","v":0},{"$f":"Раздел2!G245","v":0},{"$f":"Раздел2!C245","v":0},{"$f":"SUM(Раздел2!H245:L245)","v":0}]
["Фитнес-аэробика","238",0,0,null,null,null,0,null,null,null,null,0,0,null,null,null,0,null,null,null,null,0,null,null,null,0,null,null,null,0,null,null,null,null,0,null,null,null,0,null,null,null,0,null,null,null,null,{"$f":"Раздел2!F246","v":0},{"$f":"Раздел2!G246","v":0},{"$f":"Раздел2!C246","v":0},{"$f":"SUM(Раздел2!H246:L246)","v":0}]
["Флаинг диск","239",0,0,null,null,null,0,null,null,null,null,0,0,null,null,null,0,null,null,null,null,0,null,null,null,0,null,null,null,0,null,null,null,null,0,null,null,null,0,null,null,null,0,null,null,null,null,{"$f":"Раздел2!F247","v":0},{"$f":"Раздел2!G247","v":0},{"$f":"Раздел2!C247","v":0},{"$f":"SUM(Раздел2!H247:L247)","v":0}]
["Флорбол","240",0,0,null,null,null,0,null,null,null,null,0,0,null,null,null,0,null,null,null,null,0,null,null,null,0,null,null,null,0,null,null,null,null,0,null,null,null,0,null,null,null,0,null,null,null,null,{"$f":"Раздел2!F248","v":0},{"$f":"Раздел2!G248","v":0},{"$f":"Раздел2!C248","v":0},{"$f":"SUM(Раздел2!H248:L248)","v":0}]
["Фристайл - всего","241",0,0,{"$f":"SUM(E249:E254)","v":0},{"$f":"SUM(F249:F254)","v":0},0,0,0,0,0,0,0,0,0,0,0,0,0,0,0,0,0,0,0,0,0,0,0,0,0,0,0,0,0,0,0,0,0,0,0,0,0,0,0,0,0,0,{"$f":"Раздел2!F249","v":0},{"$f":"Раздел2!G249","v":0},{"$f":"Раздел2!C249","v":0},{"$f":"SUM(Раздел2!H249:L249)","v":0}]
["в том числе:\nАкробатика","242",0,0,null,null,null,0,null,null,null,null,0,0,null,null,null,0,null,null,null,null,0,null,null,null,0,null,null,null,0,null,null,null,null,0,null,null,null,0,null,null,null,0,null,null,null,null,{"$f":"Раздел2!F250","v":0},{"$f":"Раздел2!G250","v":0},{"$f":"Раздел2!C250","v":0},{"$f":"SUM(Раздел2!H250:L250)","v":0}]
["Биг-эйр","243",0,0,null,null,null,0,null,null,null,null,0,0,null,null,null,0,null,null,null,null,0,null,null,null,0,null,null,null,0,null,null,null,null,0,null,null,null,0,null,null,null,0,null,null,null,null,{"$f":"Раздел2!F251","v":0},{"$f":"Раздел2!G251","v":0},{"$f":"Раздел2!C251","v":0},{"$f":"SUM(Раздел2!H251:L251)","v":0}]
["Могул","244",0,0,null,null,null,0,null,null,null,null,0,0,null,null,null,0,null,null,null,null,0,null,null,null,0,null,null,null,0,null,null,null,null,0,null,null,null,0,null,null,null,0,null,null,null,null,{"$f":"Раздел2!F252","v":0},{"$f":"Раздел2!G252","v":0},{"$f":"Раздел2!C252","v":0},{"$f":"SUM(Раздел2!H252:L252)","v":0}]
["Ски-кросс","245",0,0,null,null,null,0,null,null,null,null,0,0,null,null,null,0,null,null,null,null,0,null,null,null,0,null,null,null,0,null,null,null,null,0,null,null,null,0,null,null,null,0,null,null,null,null,{"$f":"Раздел2!F253","v":0},{"$f":"Раздел2!G253","v":0},{"$f":"Раздел2!C253","v":0},{"$f":"SUM(Раздел2!H253:L253)","v":0}]
["Хаф-пайп","246",0,0,null,null,null,0,null,null,null,null,0,0,null,null,null,0,null,null,null,null,0,null,null,null,0,null,null,null,0,null,null,null,null,0,null,null,null,0,null,null,null,0,null,null,null,null,{"$f":"Раздел2!F254","v":0},{"$f":"Раздел2!G254","v":0},{"$f":"Раздел2!C254","v":0},{"$f":"SUM(Раздел2!H254:L254)","v":0}]
["Слоуп-стайл","247",0,0,null,null,null,0,null,null,null,null,0,0,null,null,null,0,null,null,null,null,0,null,null,null,0,null,null,null,0,null,null,null,null,0,null,null,null,0,null,null,null,0,null,null,null,null,{"$f":"Раздел2!F255","v":0},{"$f":"Раздел2!G255","v":0},{"$f":"Раздел2!C255","v":0},{"$f":"SUM(Раздел2!H255:L255)","v":0}]
["Функциональное многоборье","248",0,0,null,null,null,0,null,null,null,null,0,0,null,null,null,0,null,null,null,null,0,null,null,null,0,null,null,null,0,null,null,null,null,0,null,null,null,0,null,null,null,0,null,null,null,null,{"$f":"Раздел2!F256","v":0},{"$f":"Раздел2!G256","v":0},{"$f":"Раздел2!C256","v":0},{"$f":"SUM(Раздел2!H256:L256)","v":0}]
["Футбол - всего","249",0,0,{"$f":"SUM(E257:E262)","v":0},{"$f":"SUM(F257:F262)","v":0},0,0,0,0,0,0,0,0,0,0,0,0,0,0,0,0,0,0,0,0,0,0,0,0,0,0,0,0,0,0,0,0,0,0,0,0,0,0,0,0,0,0,{"$f":"Раздел2!F257","v":0},{"$f":"Раздел2!G257","v":0},{"$f":"Раздел2!C257","v":0},{"$f":"SUM(Раздел2!H257:L257)","v":0}]
["в том числе:\nФутбол (муж.)","250",0,0,null,null,null,0,null,null,null,null,0,0,null,null,null,0,null,null,null,null,0,null,null,null,0,null,null,null,0,null,null,null,null,0,null,null,null,0,null,null,null,0,null,null,null,null,{"$f":"Раздел2!F258","v":0},{"$f":"Раздел2!G258","v":0},{"$f":"Раздел2!C258","v":0},{"$f":"SUM(Раздел2!H258:L258)","v":0}]
["Футбол (жен.)","251",0,0,null,null,null,0,null,null,null,null,0,0,null,null,null,0,null,null,null,null,0,null,null,null,0,null,null,null,0,null,null,null,null,0,null,null,null,0,null,null,null,0,null,null,null,null,{"$f":"Раздел2!F259","v":0},{"$f":"Раздел2!G259","v":0},{"$f":"Раздел2!C259","v":0},{"$f":"SUM(Раздел2!H259:L259)","v":0}]
["Мини-футбол (футзал)","252",0,0,null,null,null,0,null,null,null,null,0,0,null,null,null,0,null,null,null,null,0,null,null,null,0,null,null,null,0,null,null,null,null,0,null,null,null,0,null,null,null,0,null,null,null,null,{"$f":"Раздел2!F260","v":0},{"$f":"Раздел2!G260","v":0},{"$f":"Раздел2!C260","v":0},{"$f":"SUM(Раздел2!H260:L260)","v":0}]
["Пляжный футбол","253",0,0,null,null,null,0,null,null,null,null,0,0,null,null,null,0,null,null,null,null,0,null,null,null,0,null,null,null,0,null,null,null,null,0,null,null,null,0,null,null,null,0,null,null,null,null,{"$f":"Раздел2!F261","v":0},{"$f":"Раздел2!G261","v":0},{"$f":"Раздел2!C261","v":0},{"$f":"SUM(Раздел2!H261:L261)","v":0}]
["Футбол 6х6, 7х7, 8х8","254",0,0,null,null,null,0,null,null,null,null,0,0,null,null,null,0,null,null,null,null,0,null,null,null,0,null,null,null,0,null,null,null,null,0,null,null,null,0,null,null,null,0,null,null,null,null,{"$f":"Раздел2!F262","v":0},{"$f":"Раздел2!G262","v":0},{"$f":"Раздел2!C262","v":0},{"$f":"SUM(Раздел2!H262:L262)","v":0}]
["Интерактивный футбол","255",0,0,null,null,null,0,null,null,null,null,0,0,null,null,null,0,null,null,null,null,0,null,null,null,0,null,null,null,0,null,null,null,null,0,null,null,null,0,null,null,null,0,null,null,null,null,{"$f":"Раздел2!F263","v":0},{"$f":"Раздел2!G263","v":0},{"$f":"Раздел2!C263","v":0},{"$f":"SUM(Раздел2!H263:L263)","v":0}]
["Хапкидо","256",0,0,null,null,null,0,null,null,null,null,0,0,null,null,null,0,null,null,null,null,0,null,null,null,0,null,null,null,0,null,null,null,null,0,null,null,null,0,null,null,null,0,null,null,null,null,{"$f":"Раздел2!F264","v":0},{"$f":"Раздел2!G264","v":0},{"$f":"Раздел2!C264","v":0},{"$f":"SUM(Раздел2!H264:L264)","v":0}]
["Хапсагай","257",0,0,null,null,null,0,null,null,null,null,0,0,null,null,null,0,null,null,null,null,0,null,null,null,0,null,null,null,0,null,null,null,null,0,null,null,null,0,null,null,null,0,null,null,null,null,{"$f":"Раздел2!F265","v":0},{"$f":"Раздел2!G265","v":0},{"$f":"Раздел2!C265","v":0},{"$f":"SUM(Раздел2!H265:L265)","v":0}]
["Хоккей - всего","258",{"$f":"SUM(D265,H265)","v":0},{"$f":"SUM(E265:G265)","v":0},{"$f":"SUM(E266:E267)","v":0},{"$f":"SUM(F266:F267)","v":0},0,0,0,0,0,0,0,0,0,0,0,0,0,0,0,0,0,0,0,0,0,0,0,0,0,0,0,0,0,0,0,0,0,0,0,0,0,0,0,0,0,0,{"$f":"Раздел2!F266","v":0},{"$f":"Раздел2!G266","v":0},{"$f":"Раздел2!C266","v":0},{"$f":"SUM(Раздел2!H266:L266)","v":0}]
["в том числе:\nХоккей (муж.)","259",0,0,null,null,null,{"$f":"SUM(I266:L266)","v":0},null,null,null,null,{"$f":"SUM(N266,R266)","v":0},{"$f":"SUM(O266:Q266)","v":0},null,null,null,{"$f":"SUM(S266:V266)","v":0},null,null,null,null,{"$f":"SUM(X266:Z266)","v":0},null,null,null,{"$f":"SUM(AB266:AD266)","v":0},null,null,null,{"$f":"SUM(AF266:AI266)","v":0},null,null,null,null,{"$f":"SUM(AK266:AM266)","v":0},null,null,null,{"$f":"SUM(AO266:AQ266)","v":0},null,null,null,{"$f":"SUM(AS266:AV266)","v":0},null,null,null,null,{"$f":"Раздел2!F267","v":0},{"$f":"Раздел2!G267","v":0},{"$f":"Раздел2!C267","v":0},{"$f":"SUM(Раздел2!H267:L267)","v":0}]
["Хоккей (жен.)","260",0,0,null,null,null,0,null,null,null,null,0,0,null,null,null,0,null,null,null,null,0,null,null,null,0,null,null,null,0,null,null,null,null,0,null,null,null,0,null,null,null,0,null,null,null,null,{"$f":"Раздел2!F268","v":0},{"$f":"Раздел2!G268","v":0},{"$f":"Раздел2!C268","v":0},{"$f":"SUM(Раздел2!H268:L268)","v":0}]
["Хоккей на траве - всего","261",0,0,{"$f":"SUM(E269:E271)","v":0},{"$f":"SUM(F269:F271)","v":0},0,0,0,0,0,0,0,0,0,0,0,0,0,0,0,0,0,0,0,0,0,0,0,0,0,0,0,0,0,0,0,0,0,0,0,0,0,0,0,0,0,0,{"$f":"Раздел2!F269","v":0},{"$f":"Раздел2!G269","v":0},{"$f":"Раздел2!C269","v":0},{"$f":"SUM(Раздел2!H269:L269)","v":0}]
["в том числе:\nХоккей на траве (муж.)","262",0,0,null,null,null,0,null,null,null,null,0,0,null,null,null,0,null,null,null,null,0,null,null,null,0,null,null,null,0,null,null,null,null,0,null,null,null,0,null,null,null,0,null,null,null,null,{"$f":"Раздел2!F270","v":0},{"$f":"Раздел2!G270","v":0},{"$f":"Раздел2!C270","v":0},{"$f":"SUM(Раздел2!H270:L270)","v":0}]
["Хоккей на траве (жен.)","263",0,0,null,null,null,0,null,null,null,null,0,0,null,null,null,0,null,null,null,null,0,null,null,null,0,null,null,null,0,null,null,null,null,0,null,null,null,0,null,null,null,0,null,null,null,null,{"$f":"Раздел2!F271","v":0},{"$f":"Раздел2!G271","v":0},{"$f":"Раздел2!C271","v":0},{"$f":"SUM(Раздел2!H271:L271)","v":0}]
["Индорхоккей","264",0,0,null,null,null,0,null,null,null,null,0,0,null,null,null,0,null,null,null,null,0,null,null,null,0,null,null,null,0,null,null,null,null,0,null,null,null,0,null,null,null,0,null,null,null,null,{"$f":"Раздел2!F272","v":0},{"$f":"Раздел2!G272","v":0},{"$f":"Раздел2!C272","v":0},{"$f":"SUM(Раздел2!H272:L272)","v":0}]
["Хоккей с мячом","265",0,0,null,null,null,0,null,null,null,null,0,0,null,null,null,0,null,null,null,null,0,null,null,null,0,null,null,null,0,null,null,null,null,0,null,null,null,0,null,null,null,0,null,null,null,null,{"$f":"Раздел2!F273","v":0},{"$f":"Раздел2!G273","v":0},{"$f":"Раздел2!C273","v":0},{"$f":"SUM(Раздел2!H273:L273)","v":0}]
["Художественная гимнастика","266",0,0,null,null,null,0,null,null,null,null,0,0,null,null,null,0,null,null,null,null,0,null,null,null,0,null,null,null,0,null,null,null,null,0,null,null,null,0,null,null,null,0,null,null,null,null,{"$f":"Раздел2!F274","v":0},{"$f":"Раздел2!G274","v":0},{"$f":"Раздел2!C274","v":0},{"$f":"SUM(Раздел2!H274:L274)","v":0}]
["Хуреш","267",0,0,null,null,null,0,null,null,null,null,0,0,null,null,null,0,null,null,null,null,0,null,null,null,0,null,null,null,0,null,null,null,null,0,null,null,null,0,null,null,null,0,null,null,null,null,{"$f":"Раздел2!F275","v":0},{"$f":"Раздел2!G275","v":0},{"$f":"Раздел2!C275","v":0},{"$f":"SUM(Раздел2!H275:L275)","v":0}]
["Чир спорт","268",0,0,null,null,null,0,null,null,null,null,0,0,null,null,null,0,null,null,null,null,0,null,null,null,0,null,null,null,0,null,null,null,null,0,null,null,null,0,null,null,null,0,null,null,null,null,{"$f":"Раздел2!F276","v":0},{"$f":"Раздел2!G276","v":0},{"$f":"Раздел2!C276","v":0},{"$f":"SUM(Раздел2!H276:L276)","v":0}]
["Шахматы","269",17,17,null,null,17,0,null,null,null,null,17,17,null,null,17,0,null,null,null,null,0,null,null,null,0,null,null,null,0,null,null,null,null,0,null,null,null,0,null,null,null,0,null,null,null,null,{"$f":"Раздел2!F277","v":30},{"$f":"Раздел2!G277","v":30},{"$f":"Раздел2!C277","v":1},{"$f":"SUM(Раздел2!H277:L277)","v":30}]
["Шашки","270",0,0,null,null,null,0,null,null,null,null,0,0,null,null,null,0,null,null,null,null,0,null,null,null,0,null,null,null,0,null,null,null,null,0,null,null,null,0,null,null,null,0,null,null,null,null,{"$f":"Раздел2!F278","v":0},{"$f":"Раздел2!G278","v":0},{"$f":"Раздел2!C278","v":0},{"$f":"SUM(Раздел2!H278:L278)","v":0}]
["Шодсанлат","271",0,0,null,null,null,0,null,null,null,null,0,0,null,null,null,0,null,null,null,null,0,null,null,null,0,null,null,null,0,null,null,null,null,0,null,null,null,0,null,null,null,0,null,null,null,null,{"$f":"Раздел2!F279","v":0},{"$f":"Раздел2!G279","v":0},{"$f":"Раздел2!C279","v":0},{"$f":"SUM(Раздел2!H279:L279)","v":0}]
["Эстетическая гимнастика","272",0,0,null,null,null,0,null,null,null,null,0,{"$f":"SUM(O279:Q279)","v":0},null,null,null,0,null,null,null,null,0,null,null,null,0,null,null,null,0,null,null,null,null,0,null,null,null,0,null,null,null,0,null,null,null,null,{"$f":"Раздел2!F280","v":0},{"$f":"Раздел2!G280","v":0},{"$f":"Раздел2!C280","v":0},{"$f":"SUM(Раздел2!H280:L280)","v":0}]
["Якутские национальные прыжки","273",0,0,null,null,null,0,null,null,null,null,0,0,null,null,null,0,null,null,null,null,0,null,null,null,0,null,null,null,0,null,null,null,null,0,null,null,null,0,null,null,null,0,null,null,null,null,{"$f":"Раздел2!F281","v":0},{"$f":"Раздел2!G281","v":0},{"$f":"Раздел2!C281","v":0},{"$f":"SUM(Раздел2!H281:L281)","v":0}]
["ИТОГО","274",{"$f":"SUM(C8:C21,C25:C28,C31:C36,C47:C52,C57:C59,C41:C44,C63:C73,C78:C88,C92:C99,C102:C106,C114:C117,C118:C131,C134:C139,C142,C147:C148,C154:C157,C163:C164,C165:C179,C180:C198,C204:C209,C210:C212,C217:C219,C223:C227,C230:C239,C244:C248,C255:C256,C263:C265,C268,C272:C280)","v":401},{"$f":"SUM(D8:D21,D25:D28,D31:D36,D47:D52,D57:D59,D41:D44,D63:D73,D78:D88,D92:D99,D102:D106,D114:D117,D118:D131,D134:D139,D142,D147:D148,D154:D157,D163:D164,D165:D179,D180:D198,D204:D209,D210:D212,D217:D219,D223:D227,D230:D239,D244:D248,D255:D256,D263:D265,D268,D272:D280)","v":401},2,{"$f":"SUM(F8:F21,F25:F28,F31:F36,F47:F52,F57:F59,F41:F44,F63:F73,F78:F88,F92:F99,F102:F106,F114:F117,F118:F131,F134:F139,F142,F147:F148,F154:F157,F163:F164,F165:F179,F180:F198,F204:F209,F210:F212,F217:F219,F223:F227,F230:F239,F244:F248,F255:F256,F263:F265,F268,F272:F280)","v":16},383,0,0,{"$f":"SUM(J8:J21,J25:J28,J31:J36,J47:J52,J57:J59,J41:J44,J63:J73,J78:J88,J92:J99,J102:J106,J114:J117,J118:J131,J134:J139,J142,J147:J148,J154:J157,J163:J164,J165:J179,J180:J198,J204:J209,J210:J212,J217:J219,J223:J227,J230:J239,J244:J248,J255:J256,J263:J265,J268,J272:J280)","v":0},0,0,401,401,2,16,383,0,0,0,0,0,331,2,14,315,18,0,0,18,0,0,0,0,0,331,2,14,315,18,0,0,18,0,0,0,0,0,{"$f":"Раздел2!F282","v":1426},{"$f":"Раздел2!G282","v":1426},{"$f":"Раздел2!C282","v":7},{"$f":"SUM(Раздел2!H282:L282)","v":1426}]

{"sheet":"Раздел6","index":6,"n_rows":282,"n_cols":18,"rows_kept":282,"cut":false,"hidden":false,"merged":[[0,0,7,0],[0,1,0,15],[1,1,1,15],[2,1,6,1],[2,2,6,2],[2,4,2,9],[2,10,2,15],[2,3,6,3],[3,4,5,5],[3,6,5,7],[3,8,5,9],[3,10,5,11],[3,12,5,13],[3,14,5,15]]}
[null,"                                                                        Раздел VI. Занимающиеся – кандидаты в спортивные сборные команды России"]
[null,"Код по ОКЕИ: человек 792"]
[null,"Виды спорта","№ строки","Всего кандидатов из числа занимающихся","Из числа занимающихся (гр. 6 раздела II) кандидаты, состоящие в списках спортивных сборных команд",null,null,null,null,null,"Кандидаты, подготовленные в отчетном году"]
[null,null,null,null,"Юношеский состав",null,"Юниорский состав",null,"Основной состав",null,"Юношеский состав",null,"Юниорский состав",null,"Основной состав"]
[]
[]
[null,null,null,null,"основной","резерв","основной","резерв","основной","резерв","основной","резерв","основной","резерв","основной","резерв"]
[null,1,2,3,4,5,6,7,8,9,10,11,12,13,14,15,"2р - 7","2р 3"]
[null,"Авиамодельный спорт","01",{"$f":"SUM(E9:J9)","v":0},null,null,null,null,null,null,null,null,null,null,null,null,{"$f":"Раздел2!G9","v":0},{"$f":"Раздел2!C9","v":0}]
[null,"Авиационные гонки","02",{"$f":"SUM(E10:J10)","v":0},null,null,null,null,null,null,null,null,null,null,null,null,{"$f":"Раздел2!G10","v":0},{"$f":"Раздел2!C10","v":0}]
[null,"Автомобильный спорт","03",0,null,null,null,null,null,null,null,null,null,null,null,null,{"$f":"Раздел2!G11","v":0},{"$f":"Раздел2!C11","v":0}]
[null,"Автомодельный спорт","04",0,null,null,null,null,null,null,null,null,null,null,null,null,{"$f":"Раздел2!G12","v":0},{"$f":"Раздел2!C12","v":0}]
[null,"Айкидо","05",0,null,null,null,null,null,null,null,null,null,null,null,null,{"$f":"Раздел2!G13","v":0},{"$f":"Раздел2!C13","v":0}]
[null,"Айсшток","06",0,null,null,null,null,null,null,null,null,null,null,null,null,{"$f":"Раздел2!G14","v":0},{"$f":"Раздел2!C14","v":0}]
[null,"Акробатический рок-н-ролл","07",0,null,null,null,null,null,null,null,null,null,null,null,null,{"$f":"Раздел2!G15","v":0},{"$f":"Раздел2!C15","v":0}]
[null,"Альпинизм","08",0,null,null,null,null,null,null,null,null,null,null,null,null,{"$f":"Раздел2!G16","v":0},{"$f":"Раздел2!C16","v":0}]
[null,"Американский футбол","09",0,null,null,null,null,null,null,null,null,null,null,null,null,{"$f":"Раздел2!G17","v":0},{"$f":"Раздел2!C17","v":0}]
[null,"Армейский рукопашный бой","10",0,null,null,null,null,null,null,null,null,null,null,null,null,{"$f":"Раздел2!G18","v":0},{"$f":"Раздел2!C18","v":0}]
[null,"Армейское тактико-стрелковое многоборье","11",0,null,null,null,null,null,null,null,null,null,null,null,null,{"$f":"Раздел2!G19","v":0},{"$f":"Раздел2!C19","v":0}]
[null,"Армрестлинг","12",0,null,null,null,null,null,null,null,null,null,null,null,null,{"$f":"Раздел2!G20","v":0},{"$f":"Раздел2!C20","v":0}]
[null,"Бадминтон","13",0,null,null,null,null,null,null,null,null,null,null,null,null,{"$f":"Раздел2!G21","v":0},{"$f":"Раздел2!C21","v":0}]
[null,"Баскетбол - всего","14",0,{"$f":"SUM(E23:E25)","v":0},{"$f":"SUM(F23:F25)","v":0},0,0,0,0,0,0,0,0,0,0,{"$f":"Раздел2!G22","v":256},{"$f":"Раздел2!C22","v":1}]
[null,"в том числе:\nБаскетбол (муж.)","15",0,null,null,null,null,null,null,null,null,null,null,null,null,{"$f":"Раздел2!G23","v":165},{"$f":"Раздел2!C23","v":1}]
[null,"Баскетбол (жен.)","16",0,null,null,null,null,null,null,null,null,null,null,null,null,{"$f":"Раздел2!G24","v":91},{"$f":"Раздел2!C24","v":1}]
[null,"Баскетбол 3х3","17",0,null,null,null,null,null,null,null,null,null,null,null,null,{"$f":"Раздел2!G25","v":0},{"$f":"Раздел2!C25","v":0}]
[null,"Бейсбол","18",0,null,null,null,null,null,null,null,null,null,null,null,null,{"$f":"Раздел2!G26","v":0},{"$f":"Раздел2!C26","v":0}]
[null,"Биатлон","19",0,null,null,null,null,null,null,null,null,null,null,null,null,{"$f":"Раздел2!G27","v":73},{"$f":"Раздел2!C27","v":1}]
[null,"Бильярдный спорт","20",0,null,null,null,null,null,null,null,null,null,null,null,null,{"$f":"Раздел2!G28","v":0},{"$f":"Раздел2!C28","v":0}]
[null,"Бобслей - всего","21",0,{"$f":"SUM(E30:E31)","v":0},{"$f":"SUM(F30:F31)","v":0},0,0,0,0,0,0,0,0,0,0,{"$f":"Раздел2!G29","v":0},{"$f":"Раздел2!C29","v":0}]
[null,"в том числе:\nБобслей","22",0,null,null,null,null,null,null,null,null,null,null,null,null,{"$f":"Раздел2!G30","v":0},{"$f":"Раздел2!C30","v":0}]
[null,"Скелетон","23",0,null,null,null,null,null,null,null,null,null,null,null,null,{"$f":"Раздел2!G31","v":0},{"$f":"Раздел2!C31","v":0}]
[null,"Бодибилдинг","24",0,null,null,null,null,null,null,null,null,null,null,null,null,{"$f":"Раздел2!G32","v":0},{"$f":"Раздел2!C32","v":0}]
[null,"Бокс","25",0,null,null,null,null,null,null,null,null,null,null,null,null,{"$f":"Раздел2!G33","v":90},{"$f":"Раздел2!C33","v":1}]
[null,"Борьба на поясах","26",0,null,null,null,null,null,null,null,null,null,null,null,null,{"$f":"Раздел2!G34","v":0},{"$f":"Раздел2!C34","v":0}]
[null,"Боулинг","27",0,null,null,null,null,null,null,null,null,null,null,null,null,{"$f":"Раздел2!G35","v":0},{"$f":"Раздел2!C35","v":0}]
[null,"Боулспорт","28",0,null,null,null,null,null,null,null,null,null,null,null,null,{"$f":"Раздел2!G36","v":0},{"$f":"Раздел2!C36","v":0}]
[null,"Велосипедный спорт - всего","29",0,{"$f":"SUM(E38:E41)","v":0},{"$f":"SUM(F38:F41)","v":0},0,0,0,0,0,0,0,0,0,0,{"$f":"Раздел2!G37","v":0},{"$f":"Раздел2!C37","v":0}]
[null,"в том числе:\nBMX","30",0,null,null,null,null,null,null,null,null,null,null,null,null,{"$f":"Раздел2!G38","v":0},{"$f":"Раздел2!C38","v":0}]
[null,"Маунтинбайк","31",0,null,null,null,null,null,null,null,null,null,null,null,null,{"$f":"Раздел2!G39","v":0},{"$f":"Раздел2!C39","v":0}]
[null,"Трек","32",0,null,null,null,null,null,null,null,null,null,null,null,null,{"$f":"Раздел2!G40","v":0},{"$f":"Раздел2!C40","v":0}]
[null,"Шоссе","33",0,null,null,null,null,null,null,null,null,null,null,null,null,{"$f":"Раздел2!G41","v":0},{"$f":"Раздел2!C41","v":0}]
[null,"Вертолетный спорт","34",0,null,null,null,null,null,null,null,null,null,null,null,null,{"$f":"Раздел2!G42","v":0},{"$f":"Раздел2!C42","v":0}]
[null,"Водно-моторный спорт","35",0,null,null,null,null,null,null,null,null,null,null,null,null,{"$f":"Раздел2!G43","v":0},{"$f":"Раздел2!C43","v":0}]
[null,"Водно-спасательное многоборье","36",0,null,null,null,null,null,null,null,null,null,null,null,null,{"$f":"Раздел2!G44","v":0},{"$f":"Раздел2!C44","v":0}]
[null,"Водное поло - всего ","37",0,{"$f":"SUM(E46:E47)","v":0},{"$f":"SUM(F46:F47)","v":0},0,0,0,0,0,0,0,0,0,0,{"$f":"Раздел2!G45","v":0},{"$f":"Раздел2!C45","v":0}]
[null,"в том числе:\nВодное поло (муж.)","38",0,null,null,null,null,null,null,null,null,null,null,null,null,{"$f":"Раздел2!G46","v":0},{"$f":"Раздел2!C46","v":0}]
[null,"Водное поло (жен.)","39",0,null,null,null,null,null,null,null,null,null,null,null,null,{"$f":"Раздел2!G47","v":0},{"$f":"Раздел2!C47","v":0}]
[null,"Воднолыжный спорт","40",0,null,null,null,null,null,null,null,null,null,null,null,null,{"$f":"Раздел2!G48","v":0},{"$f":"Раздел2!C48","v":0}]
[null,"Военно-прикладной спорт","41",0,null,null,null,null,null,null,null,null,null,null,null,null,{"$f":"Раздел2!G49","v":0},{"$f":"Раздел2!C49","v":0}]
[null,"Военно-спортивное многоборье","42",0,null,null,null,null,null,null,null,null,null,null,null,null,{"$f":"Раздел2!G50","v":0},{"$f":"Раздел2!C50","v":0}]
[null,"Воздухоплавательный спорт","43",0,null,null,null,null,null,null,null,null,null,null,null,null,{"$f":"Раздел2!G51","v":0},{"$f":"Раздел2!C51","v":0}]
[null,"Воздушно-силовая атлетика","44",0,null,null,null,null,null,null,null,null,null,null,null,null,{"$f":"Раздел2!G52","v":0},{"$f":"Раздел2!C52","v":0}]
[null,"Волейбол - всего","45",0,{"$f":"SUM(E54:E57)","v":0},{"$f":"SUM(F54:F57)","v":0},0,0,0,0,0,0,0,0,0,0,{"$f":"Раздел2!G53","v":0},{"$f":"Раздел2!C53","v":0}]
[null,"в том числе:\nВолейбол (муж.)","46",0,null,null,null,null,null,null,null,null,null,null,null,null,{"$f":"Раздел2!G54","v":0},{"$f":"Раздел2!C54","v":0}]
[null,"Волейбол (жен.)","47",0,null,null,null,null,null,null,null,null,null,null,null,null,{"$f":"Раздел2!G55","v":0},{"$f":"Раздел2!C55","v":0}]
[null,"Пляжный волейбол (муж.)","48",0,null,null,null,null,null,null,null,null,null,null,null,null,{"$f":"Раздел2!G56","v":0},{"$f":"Раздел2!C56","v":0}]
[null,"Пляжный волейбол (жен.)","49",0,null,null,null,null,null,null,null,null,null,null,null,null,{"$f":"Раздел2!G57","v":0},{"$f":"Раздел2!C57","v":0}]
[null,"Восточное боевое единоборство","50",0,null,null,null,null,null,null,null,null,null,null,null,null,{"$f":"Раздел2!G58","v":0},{"$f":"Раздел2!C58","v":0}]
[null,"Всестилевое каратэ","51",0,null,null,null,null,null,null,null,null,null,null,null,null,{"$f":"Раздел2!G59","v":0},{"$f":"Раздел2!C59","v":0}]
[null,"Гандбол - всего","52",0,{"$f":"SUM(E61:E63)","v":0},{"$f":"SUM(F61:F63)","v":0},0,0,0,0,0,0,0,0,0,0,{"$f":"Раздел2!G60","v":0},{"$f":"Раздел2!C60","v":0}]
[null,"в том числе:\nГандбол (муж.)","53",0,null,null,null,null,null,null,null,null,null,null,null,null,{"$f":"Раздел2!G61","v":0},{"$f":"Раздел2!C61","v":0}]
[null,"Гандбол (жен.)","54",0,null,null,null,null,null,null,null,null,null,null,null,null,{"$f":"Раздел2!G62","v":0},{"$f":"Раздел2!C62","v":0}]
[null,"Пляжный гандбол","55",0,null,null,null,null,null,null,null,null,null,null,null,null,{"$f":"Раздел2!G63","v":0},{"$f":"Раздел2!C63","v":0}]
[null,"Гиревой спорт","56",0,null,null,null,null,null,null,null,null,null,null,null,null,{"$f":"Раздел2!G64","v":0},{"$f":"Раздел2!C64","v":0}]
[null,"Го","57",0,null,null,null,null,null,null,null,null,null,null,null,null,{"$f":"Раздел2!G65","v":0},{"$f":"Раздел2!C65","v":0}]
[null,"Гольф","58",0,null,null,null,null,null,null,null,null,null,null,null,null,{"$f":"Раздел2!G66","v":0},{"$f":"Раздел2!C66","v":0}]
[null,"Гонки на охотничьих лыжах","59",0,null,null,null,null,null,null,null,null,null,null,null,null,{"$f":"Раздел2!G67","v":0},{"$f":"Раздел2!C67","v":0}]
[null,"Гонки с препятствиями","60",0,null,null,null,null,null,null,null,null,null,null,null,null,{"$f":"Раздел2!G68","v":0},{"$f":"Раздел2!C68","v":0}]
[null,"Горнолыжный спорт","61",0,null,null,null,null,null,null,null,null,null,null,null,null,{"$f":"Раздел2!G69","v":0},{"$f":"Раздел2!C69","v":0}]
[null,"Городошный спорт","62",0,null,null,null,null,null,null,null,null,null,null,null,null,{"$f":"Раздел2!G70","v":0},{"$f":"Раздел2!C70","v":0}]
[null,"Гребля на байдарках и каноэ","63",0,null,null,null,null,null,null,null,null,null,null,null,null,{"$f":"Раздел2!G71","v":0},{"$f":"Раздел2!C71","v":0}]
[null,"Гребля на шлюпках","64",0,null,null,null,null,null,null,null,null,null,null,null,null,{"$f":"Раздел2!G72","v":0},{"$f":"Раздел2!C72","v":0}]
[null,"Гребной слалом","65",0,null,null,null,null,null,null,null,null,null,null,null,null,{"$f":"Раздел2!G73","v":0},{"$f":"Раздел2!C73","v":0}]
[null,"Гребной спорт - всего","66",{"$f":"SUM(E74:J74)","v":0},{"$f":"SUM(E75:E78)","v":0},{"$f":"SUM(F75:F78)","v":0},0,0,0,0,0,0,0,0,0,0,{"$f":"Раздел2!G74","v":0},{"$f":"Раздел2!C74","v":0}]
[null,"в том числе:\nАкадемическая гребля","67",0,null,null,null,null,null,null,null,null,null,null,null,null,{"$f":"Раздел2!G75","v":0},{"$f":"Раздел2!C75","v":0}]
[null,"Гребля-индор","68",0,null,null,null,null,null,null,null,null,null,null,null,null,{"$f":"Раздел2!G76","v":0},{"$f":"Раздел2!C76","v":0}]
[null,"Народная гребля","69",0,null,null,null,null,null,null,null,null,null,null,null,null,{"$f":"Раздел2!G77","v":0},{"$f":"Раздел2!C77","v":0}]
[null,"Прибрежная гребля","70",0,null,null,null,null,null,null,null,null,null,null,null,null,{"$f":"Раздел2!G78","v":0},{"$f":"Раздел2!C78","v":0}]
[null,"Гребно-парусное двоеборье","71",0,null,null,null,null,null,null,null,null,null,null,null,null,{"$f":"Раздел2!G79","v":0},{"$f":"Раздел2!C79","v":0}]
[null,"Дартс","72",0,null,null,null,null,null,null,null,null,null,null,null,null,{"$f":"Раздел2!G80","v":0},{"$f":"Раздел2!C80","v":0}]
[null,"Джиу-джитсу","73",0,null,null,null,null,null,null,null,null,null,null,null,null,{"$f":"Раздел2!G81","v":0},{"$f":"Раздел2!C81","v":0}]
[null,"Дзюдо","74",0,null,null,null,null,null,null,null,null,null,null,null,null,{"$f":"Раздел2!G82","v":628},{"$f":"Раздел2!C82","v":1}]
[null,"Ездовой спорт","75",0,null,null,null,null,null,null,null,null,null,null,null,null,{"$f":"Раздел2!G83","v":0},{"$f":"Раздел2!C83","v":0}]
[null,"Зимнее плавание","76",0,null,null,null,null,null,null,null,null,null,null,null,null,{"$f":"Раздел2!G84","v":0},{"$f":"Раздел2!C84","v":0}]
[null,"Капоэйра","77",0,null,null,null,null,null,null,null,null,null,null,null,null,{"$f":"Раздел2!G85","v":0},{"$f":"Раздел2!C85","v":0}]
[null,"Каратэ","78",0,null,null,null,null,null,null,null,null,null,null,null,null,{"$f":"Раздел2!G86","v":0},{"$f":"Раздел2!C86","v":0}]
[null,"Кендо","79",0,null,null,null,null,null,null,null,null,null,null,null,null,{"$f":"Раздел2!G87","v":0},{"$f":"Раздел2!C87","v":0}]
[null,"Керешу","80",0,null,null,null,null,null,null,null,null,null,null,null,null,{"$f":"Раздел2!G88","v":0},{"$f":"Раздел2!C88","v":0}]
[null,"Кёрлинг - всего","81",0,{"$f":"SUM(E90:E92)","v":0},{"$f":"SUM(F90:F92)","v":0},0,0,0,0,0,0,0,0,0,0,{"$f":"Раздел2!G89","v":0},{"$f":"Раздел2!C89","v":0}]
[null,"в том числе:\nКерлинг (муж.)","82",0,null,null,null,null,null,null,null,null,null,null,null,null,{"$f":"Раздел2!G90","v":0},{"$f":"Раздел2!C90","v":0}]
[null,"Керлинг (жен.)","83",0,null,null,null,null,null,null,null,null,null,null,null,null,{"$f":"Раздел2!G91","v":0},{"$f":"Раздел2!C91","v":0}]
[null,"Кёрлинг – смешанные пары","84",0,null,null,null,null,null,null,null,null,null,null,null,null,{"$f":"Раздел2!G92","v":0},{"$f":"Раздел2!C92","v":0}]
[null,"Кикбоксинг","85",0,null,null,null,null,null,null,null,null,null,null,null,null,{"$f":"Раздел2!G93","v":0},{"$f":"Раздел2!C93","v":0}]
[null,"Кинологический спорт","86",0,null,null,null,null,null,null,null,null,null,null,null,null,{"$f":"Раздел2!G94","v":0},{"$f":"Раздел2!C94","v":0}]
[null,"Киокусинкай","87",0,null,null,null,null,null,null,null,null,null,null,null,null,{"$f":"Раздел2!G95","v":0},{"$f":"Раздел2!C95","v":0}]
[null,"Киокушин","88",0,null,null,null,null,null,null,null,null,null,null,null,null,{"$f":"Раздел2!G96","v":0},{"$f":"Раздел2!C96","v":0}]
[null,"Комплексное единоборство","89",0,null,null,null,null,null,null,null,null,null,null,null,null,{"$f":"Раздел2!G97","v":0},{"$f":"Раздел2!C97","v":0}]
[null,"Компьютерный спорт","90",0,null,null,null,null,null,null,null,null,null,null,null,null,{"$f":"Раздел2!G98","v":0},{"$f":"Раздел2!C98","v":0}]
[null,"Конный спорт","91",0,null,null,null,null,null,null,null,null,null,null,null,null,{"$f":"Раздел2!G99","v":0},{"$f":"Раздел2!C99","v":0}]
[null,"Конькобежный спорт - всего","92",0,{"$f":"SUM(E101:E102)","v":0},{"$f":"SUM(F101:F102)","v":0},0,0,0,0,0,0,0,0,0,0,{"$f":"Раздел2!G100","v":0},{"$f":"Раздел2!C100","v":0}]
[null,"в том числе:\nКонькобежный спорт","93",0,null,null,null,null,null,null,null,null,null,null,null,null,{"$f":"Раздел2!G101","v":0},{"$f":"Раздел2!C101","v":0}]
[null,"Шорт-трек","94",0,null,null,null,null,null,null,null,null,null,null,null,null,{"$f":"Раздел2!G102","v":0},{"$f":"Раздел2!C102","v":0}]
[null,"Корэш","95",0,null,null,null,null,null,null,null,null,null,null,null,null,{"$f":"Раздел2!G103","v":0},{"$f":"Раздел2!C103","v":0}]
[null,"Крикет","96",0,null,null,null,null,null,null,null,null,null,null,null,null,{"$f":"Раздел2!G104","v":0},{"$f":"Раздел2!C104","v":0}]
[null,"Кудо","97",0,null,null,null,null,null,null,null,null,null,null,null,null,{"$f":"Раздел2!G105","v":0},{"$f":"Раздел2!C105","v":0}]
[null,"Лапта","98",0,null,null,null,null,null,null,null,null,null,null,null,null,{"$f":"Раздел2!G106","v":0},{"$f":"Раздел2!C106","v":0}]
[null,"Легкая атлетика - всего","99",0,{"$f":"SUM(E108:E114)","v":0},{"$f":"SUM(F108:F114)","v":0},0,0,0,0,0,0,0,0,0,0,{"$f":"Раздел2!G107","v":318},{"$f":"Раздел2!C107","v":1}]
[null,"в том числе:\nСпринтерский и барьерный бег","100",0,null,null,null,null,null,null,null,null,null,null,null,null,{"$f":"Раздел2!G108","v":67},{"$f":"Раздел2!C108","v":1}]
[null,"Бег на средние дистанции и бег с препятствиями","101",0,null,null,null,null,null,null,null,null,null,null,null,null,{"$f":"Раздел2!G109","v":10},{"$f":"Раздел2!C109","v":1}]
[null,"Бег на длинные и сверхдлинные дистанции","102",0,null,null,null,null,null,null,null,null,null,null,null,null,{"$f":"Раздел2!G110","v":0},{"$f":"Раздел2!C110","v":0}]
[null,"Многоборья","103",0,null,null,null,null,null,null,null,null,null,null,null,null,{"$f":"Раздел2!G111","v":215},{"$f":"Раздел2!C111","v":1}]
[null,"Прыжки","104",0,null,null,null,null,null,null,null,null,null,null,null,null,{"$f":"Раздел2!G112","v":11},{"$f":"Раздел2!C112","v":1}]
[null,"Метания","105",0,null,null,null,null,null,null,null,null,null,null,null,null,{"$f":"Раздел2!G113","v":15},{"$f":"Раздел2!C113","v":1}]
[null,"Спортивная ходьба","106",0,null,null,null,null,null,null,null,null,null,null,null,null,{"$f":"Раздел2!G114","v":0},{"$f":"Раздел2!C114","v":0}]
[null,"Лыжное двоеборье","107",0,null,null,null,null,null,null,null,null,null,null,null,null,{"$f":"Раздел2!G115","v":0},{"$f":"Раздел2!C115","v":0}]
[null,"Лыжные гонки","108",0,null,null,null,null,null,null,null,null,null,null,null,null,{"$f":"Раздел2!G116","v":31},{"$f":"Раздел2!C116","v":1}]
[null,"Мас-рестлинг","109",0,null,null,null,null,null,null,null,null,null,null,null,null,{"$f":"Раздел2!G117","v":0},{"$f":"Раздел2!C117","v":0}]
[null,"Международное военно-спортивное многоборье","110",0,null,null,null,null,null,null,null,null,null,null,null,null,{"$f":"Раздел2!G118","v":0},{"$f":"Раздел2!C118","v":0}]
[null,"Микрофутзал","111",0,null,null,null,null,null,null,null,null,null,null,null,null,{"$f":"Раздел2!G119","v":0},{"$f":"Раздел2!C119","v":0}]
[null,"Многоборье кинологов","112",0,null,null,null,null,null,null,null,null,null,null,null,null,{"$f":"Раздел2!G120","v":0},{"$f":"Раздел2!C120","v":0}]
[null,"Многоборье спасателей МЧС России","113",0,null,null,null,null,null,null,null,null,null,null,null,null,{"$f":"Раздел2!G121","v":0},{"$f":"Раздел2!C121","v":0}]
[null,"Морское многоборье","114",0,null,null,null,null,null,null,null,null,null,null,null,null,{"$f":"Раздел2!G122","v":0},{"$f":"Раздел2!C122","v":0}]
[null,"Мотоциклетный спорт","115",0,null,null,null,null,null,null,null,null,null,null,null,null,{"$f":"Раздел2!G123","v":0},{"$f":"Раздел2!C123","v":0}]
[null,"Нарды","116",0,null,null,null,null,null,null,null,null,null,null,null,null,{"$f":"Раздел2!G124","v":0},{"$f":"Раздел2!C124","v":0}]
[null,"Настольный теннис","117",0,null,null,null,null,null,null,null,null,null,null,null,null,{"$f":"Раздел2!G125","v":0},{"$f":"Раздел2!C125","v":0}]
[null,"Падел","118",0,null,null,null,null,null,null,null,null,null,null,null,null,{"$f":"Раздел2!G126","v":0},{"$f":"Раздел2!C126","v":0}]
[null,"Парашютный спорт","119",0,null,null,null,null,null,null,null,null,null,null,null,null,{"$f":"Раздел2!G127","v":0},{"$f":"Раздел2!C127","v":0}]
[null,"Парусный спорт","120",0,null,null,null,null,null,null,null,null,null,null,null,null,{"$f":"Раздел2!G128","v":0},{"$f":"Раздел2!C128","v":0}]
[null,"Пауэрлифтинг","121",0,null,null,null,null,null,null,null,null,null,null,null,null,{"$f":"Раздел2!G129","v":0},{"$f":"Раздел2!C129","v":0}]
[null,"Перетягивание каната","122",0,null,null,null,null,null,null,null,null,null,null,null,null,{"$f":"Раздел2!G130","v":0},{"$f":"Раздел2!C130","v":0}]
[null,"Пилонный спорт","123",0,null,null,null,null,null,null,null,null,null,null,null,null,{"$f":"Раздел2!G131","v":0},{"$f":"Раздел2!C131","v":0}]
[null,"Плавание - всего","124",0,{"$f":"SUM(E133:E134)","v":0},{"$f":"SUM(F133:F134)","v":0},0,0,0,0,0,0,0,0,0,0,{"$f":"Раздел2!G132","v":0},{"$f":"Раздел2!C132","v":0}]
[null,"в том числе:\nПлавание ","125",0,null,null,null,null,null,null,null,null,null,null,null,null,{"$f":"Раздел2!G133","v":0},{"$f":"Раздел2!C133","v":0}]
[null,"Открытая вода","126",0,null,null,null,null,null,null,null,null,null,null,null,null,{"$f":"Раздел2!G134","v":0},{"$f":"Раздел2!C134","v":0}]
[null,"Планерный спорт","127",0,null,null,null,null,null,null,null,null,null,null,null,null,{"$f":"Раздел2!G135","v":0},{"$f":"Раздел2!C135","v":0}]
[null,"Подводный спорт","128",0,null,null,null,null,null,null,null,null,null,null,null,null,{"$f":"Раздел2!G136","v":0},{"$f":"Раздел2!C136","v":0}]
[null,"Пожарно-спасательный спорт","129",0,null,null,null,null,null,null,null,null,null,null,null,null,{"$f":"Раздел2!G137","v":0},{"$f":"Раздел2!C137","v":0}]
[null,"Полиатлон","130",{"$f":"SUM(E138:J138)","v":0},null,null,null,null,null,null,null,null,null,null,null,null,{"$f":"Раздел2!G138","v":0},{"$f":"Раздел2!C138","v":0}]
[null,"Практическая стрельба","131",0,null,null,null,null,null,null,null,null,null,null,null,null,{"$f":"Раздел2!G139","v":0},{"$f":"Раздел2!C139","v":0}]
[null,"Прыжки в воду - всего","132",0,{"$f":"SUM(E141:E142)","v":0},{"$f":"SUM(F141:F142)","v":0},0,0,0,0,0,0,0,0,0,0,{"$f":"Раздел2!G140","v":0},{"$f":"Раздел2!C140","v":0}]
[null,"в том числе:\nПрыжки в воду","133",0,null,null,null,null,null,null,null,null,null,null,null,null,{"$f":"Раздел2!G141","v":0},{"$f":"Раздел2!C141","v":0}]
[null,"Прыжки в открытый водоем","134",0,null,null,null,null,null,null,null,null,null,null,null,null,{"$f":"Раздел2!G142","v":0},{"$f":"Раздел2!C142","v":0}]
[null,"Прыжки на батуте - всего","135",0,{"$f":"SUM(E144:E147)","v":0},{"$f":"SUM(F144:F147)","v":0},0,0,0,0,0,0,0,0,0,0,{"$f":"Раздел2!G143","v":0},{"$f":"Раздел2!C143","v":0}]
[null,"в том числе:\nАкробатическая дорожка","136",0,null,null,null,null,null,null,null,null,null,null,null,null,{"$f":"Раздел2!G144","v":0},{"$f":"Раздел2!C144","v":0}]
[null,"Двойной минитрамп","137",0,null,null,null,null,null,null,null,null,null,null,null,null,{"$f":"Раздел2!G145","v":0},{"$f":"Раздел2!C145","v":0}]
[null,"Индивидуальные прыжки","138",0,null,null,null,null,null,null,null,null,null,null,null,null,{"$f":"Раздел2!G146","v":0},{"$f":"Раздел2!C146","v":0}]
[null,"Синхронные прыжки","139",0,null,null,null,null,null,null,null,null,null,null,null,null,{"$f":"Раздел2!G147","v":0},{"$f":"Раздел2!C147","v":0}]
[null,"Прыжки на лыжах с трамплина","140",0,null,null,null,null,null,null,null,null,null,null,null,null,{"$f":"Раздел2!G148","v":0},{"$f":"Раздел2!C148","v":0}]
[null,"Пулевая стрельба - всего","141",0,{"$f":"SUM(E150:E154)","v":0},{"$f":"SUM(F150:F154)","v":0},0,0,0,0,0,0,0,0,0,0,{"$f":"Раздел2!G149","v":0},{"$f":"Раздел2!C149","v":0}]
[null,"в том числе:\nПневматическая винтовка","142",0,null,null,null,null,null,null,null,null,null,null,null,null,{"$f":"Раздел2!G150","v":0},{"$f":"Раздел2!C150","v":0}]
[null,"Пневматический пистолет","143",0,null,null,null,null,null,null,null,null,null,null,null,null,{"$f":"Раздел2!G151","v":0},{"$f":"Раздел2!C151","v":0}]
[null,"Малокалиберная винтовка","144",0,null,null,null,null,null,null,null,null,null,null,null,null,{"$f":"Раздел2!G152","v":0},{"$f":"Раздел2!C152","v":0}]
[null,"Малокалиберный пистолет","145",0,null,null,null,null,null,null,null,null,null,null,null,null,{"$f":"Раздел2!G153","v":0},{"$f":"Раздел2!C153","v":0}]
[null,"Движущаяся мишень","146",0,null,null,null,null,null,null,null,null,null,null,null,null,{"$f":"Раздел2!G154","v":0},{"$f":"Раздел2!C154","v":0}]
[null,"Пэйнтбол","147",0,null,null,null,null,null,null,null,null,null,null,null,null,{"$f":"Раздел2!G155","v":0},{"$f":"Раздел2!C155","v":0}]
[null,"Радиоспорт","148",0,null,null,null,null,null,null,null,null,null,null,null,null,{"$f":"Раздел2!G156","v":0},{"$f":"Раздел2!C156","v":0}]
[null,"Рафтинг","149",0,null,null,null,null,null,null,null,null,null,null,null,null,{"$f":"Раздел2!G157","v":0},{"$f":"Раздел2!C157","v":0}]
[null,"Регби - всего","150",0,{"$f":"SUM(E159:E163)","v":0},{"$f":"SUM(F159:F163)","v":0},0,0,0,0,0,0,0,0,0,0,{"$f":"Раздел2!G158","v":0},{"$f":"Раздел2!C158","v":0}]
[null,"в том числе:\nРегби","151",0,null,null,null,null,null,null,null,null,null,null,null,null,{"$f":"Раздел2!G159","v":0},{"$f":"Раздел2!C159","v":0}]
[null,"Регби 7 (муж.)","152",0,null,null,null,null,null,null,null,null,null,null,null,null,{"$f":"Раздел2!G160","v":0},{"$f":"Раздел2!C160","v":0}]
[null,"Регби 7 (жен.)","153",0,null,null,null,null,null,null,null,null,null,null,null,null,{"$f":"Раздел2!G161","v":0},{"$f":"Раздел2!C161","v":0}]
[null,"Регби - пляжное","154",0,null,null,null,null,null,null,null,null,null,null,null,null,{"$f":"Раздел2!G162","v":0},{"$f":"Раздел2!C162","v":0}]
[null,"Регби на снегу","155",0,null,null,null,null,null,null,null,null,null,null,null,null,{"$f":"Раздел2!G163","v":0},{"$f":"Раздел2!C163","v":0}]
[null,"Регбол","156",0,null,null,null,null,null,null,null,null,null,null,null,null,{"$f":"Раздел2!G164","v":0},{"$f":"Раздел2!C164","v":0}]
[null,"Роллер спорт","157",0,null,null,null,null,null,null,null,null,null,null,null,null,{"$f":"Раздел2!G165","v":0},{"$f":"Раздел2!C165","v":0}]
[null,"Роуп скиппинг (спортивная скакалка)","158",0,null,null,null,null,null,null,null,null,null,null,null,null,{"$f":"Раздел2!G166","v":0},{"$f":"Раздел2!C166","v":0}]
[null,"Рукопашный бой","159",0,null,null,null,null,null,null,null,null,null,null,null,null,{"$f":"Раздел2!G167","v":0},{"$f":"Раздел2!C167","v":0}]
[null,"Рыболовный спорт","160",0,null,null,null,null,null,null,null,null,null,null,null,null,{"$f":"Раздел2!G168","v":0},{"$f":"Раздел2!C168","v":0}]
[null,"Сават","161",0,null,null,null,null,null,null,null,null,null,null,null,null,{"$f":"Раздел2!G169","v":0},{"$f":"Раздел2!C169","v":0}]
[null,"Самбо","162",0,null,null,null,null,null,null,null,null,null,null,null,null,{"$f":"Раздел2!G170","v":0},{"$f":"Раздел2!C170","v":0}]
[null,"Самолетный спорт","163",0,null,null,null,null,null,null,null,null,null,null,null,null,{"$f":"Раздел2!G171","v":0},{"$f":"Раздел2!C171","v":0}]
[null,"Санный спорт","164",0,null,null,null,null,null,null,null,null,null,null,null,null,{"$f":"Раздел2!G172","v":0},{"$f":"Раздел2!C172","v":0}]
[null,"Северное многоборье","165",0,null,null,null,null,null,null,null,null,null,null,null,null,{"$f":"Раздел2!G173","v":0},{"$f":"Раздел2!C173","v":0}]
[null,"Серфинг","166",0,null,null,null,null,null,null,null,null,null,null,null,null,{"$f":"Раздел2!G174","v":0},{"$f":"Раздел2!C174","v":0}]
[null,"Силовой экстрим","167",0,null,null,null,null,null,null,null,null,null,null,null,null,{"$f":"Раздел2!G175","v":0},{"$f":"Раздел2!C175","v":0}]
[null,"Синхронное плавание","168",0,null,null,null,null,null,null,null,null,null,null,null,null,{"$f":"Раздел2!G176","v":0},{"$f":"Раздел2!C176","v":0}]
[null,"Скалолазание","169",0,null,null,null,null,null,null,null,null,null,null,null,null,{"$f":"Раздел2!G177","v":0},{"$f":"Раздел2!C177","v":0}]
[null,"Сквош","170",0,null,null,null,null,null,null,null,null,null,null,null,null,{"$f":"Раздел2!G178","v":0},{"$f":"Раздел2!C178","v":0}]
[null,"Скейтбординг","171",0,null,null,null,null,null,null,null,null,null,null,null,null,{"$f":"Раздел2!G179","v":0},{"$f":"Раздел2!C179","v":0}]
[null,"Служебно-боевая стрельба ","172",0,null,null,null,null,null,null,null,null,null,null,null,null,{"$f":"Раздел2!G180","v":0},{"$f":"Раздел2!C180","v":0}]
[null,"Служебно-прикладной спорт","173",0,null,null,null,null,null,null,null,null,null,null,null,null,{"$f":"Раздел2!G181","v":0},{"$f":"Раздел2!C181","v":0}]
[null,"Служебно-прикладной спорт ФСО России","174",0,null,null,null,null,null,null,null,null,null,null,null,null,{"$f":"Раздел2!G182","v":0},{"$f":"Раздел2!C182","v":0}]
[null,"Служебно-прикладной спорт ФТС России","175",0,null,null,null,null,null,null,null,null,null,null,null,null,{"$f":"Раздел2!G183","v":0},{"$f":"Раздел2!C183","v":0}]
[null,"Служебное двоеборье","176",0,null,null,null,null,null,null,null,null,null,null,null,null,{"$f":"Раздел2!G184","v":0},{"$f":"Раздел2!C184","v":0}]
[null,"Служебное единоборство","177",0,null,null,null,null,null,null,null,null,null,null,null,null,{"$f":"Раздел2!G185","v":0},{"$f":"Раздел2!C185","v":0}]
[null,"Служебное многоборье","178",0,null,null,null,null,null,null,null,null,null,null,null,null,{"$f":"Раздел2!G186","v":0},{"$f":"Раздел2!C186","v":0}]
[null,"Служебный биатлон","179",0,null,null,null,null,null,null,null,null,null,null,null,null,{"$f":"Раздел2!G187","v":0},{"$f":"Раздел2!C187","v":0}]
[null,"Спасательный спорт","180",0,null,null,null,null,null,null,null,null,null,null,null,null,{"$f":"Раздел2!G188","v":0},{"$f":"Раздел2!C188","v":0}]
[null,"Стрельба из боевого ручного стрелкового оружия","181",0,null,null,null,null,null,null,null,null,null,null,null,null,{"$f":"Раздел2!G189","v":0},{"$f":"Раздел2!C189","v":0}]
[null,"Стрельба из штатного или табельного оружия","182",0,null,null,null,null,null,null,null,null,null,null,null,null,{"$f":"Раздел2!G190","v":0},{"$f":"Раздел2!C190","v":0}]
[null,"Стрельба на дальние дистанции","183",0,null,null,null,null,null,null,null,null,null,null,null,null,{"$f":"Раздел2!G191","v":0},{"$f":"Раздел2!C191","v":0}]
[null,"Смешанное боевое единоборство (ММА)","184",0,null,null,null,null,null,null,null,null,null,null,null,null,{"$f":"Раздел2!G192","v":0},{"$f":"Раздел2!C192","v":0}]
[null,"Сноуборд","185",0,null,null,null,null,null,null,null,null,null,null,null,null,{"$f":"Раздел2!G193","v":0},{"$f":"Раздел2!C193","v":0}]
[null,"Современное пятиборье","186",0,null,null,null,null,null,null,null,null,null,null,null,null,{"$f":"Раздел2!G194","v":0},{"$f":"Раздел2!C194","v":0}]
[null,"Софтбол","187",0,null,null,null,null,null,null,null,null,null,null,null,null,{"$f":"Раздел2!G195","v":0},{"$f":"Раздел2!C195","v":0}]
[null,"Спорт сверхлегкой авиации","188",0,null,null,null,null,null,null,null,null,null,null,null,null,{"$f":"Раздел2!G196","v":0},{"$f":"Раздел2!C196","v":0}]
[null,"Спортивная акробатика","189",0,null,null,null,null,null,null,null,null,null,null,null,null,{"$f":"Раздел2!G197","v":0},{"$f":"Раздел2!C197","v":0}]
[null,"Спортивная аэробика","190",0,null,null,null,null,null,null,null,null,null,null,null,null,{"$f":"Раздел2!G198","v":0},{"$f":"Раздел2!C198","v":0}]
[null,"Спортивная борьба - всего","191",0,{"$f":"SUM(E200:E204)","v":0},{"$f":"SUM(F200:F204)","v":0},0,0,0,0,0,0,0,0,0,0,{"$f":"Раздел2!G199","v":0},{"$f":"Раздел2!C199","v":0}]
[null,"в том числе:\nВольная борьба","192",0,null,null,null,null,null,null,null,null,null,null,null,null,{"$f":"Раздел2!G200","v":0},{"$f":"Раздел2!C200","v":0}]
[null,"Греко-римская борьба","193",0,null,null,null,null,null,null,null,null,null,null,null,null,{"$f":"Раздел2!G201","v":0},{"$f":"Раздел2!C201","v":0}]
[null,"Грэпплинг","194",{"$f":"SUM(E202:J202)","v":0},null,null,null,null,null,null,null,null,null,null,null,null,{"$f":"Раздел2!G202","v":0},{"$f":"Раздел2!C202","v":0}]
[null,"Грэпплинг-ги","195",0,null,null,null,null,null,null,null,null,null,null,null,null,{"$f":"Раздел2!G203","v":0},{"$f":"Раздел2!C203","v":0}]
[null,"Панкратион","196",0,null,null,null,null,null,null,null,null,null,null,null,null,{"$f":"Раздел2!G204","v":0},{"$f":"Раздел2!C204","v":0}]
[null,"Спортивная гимнастика","197",0,null,null,null,null,null,null,null,null,null,null,null,null,{"$f":"Раздел2!G205","v":0},{"$f":"Раздел2!C205","v":0}]
[null,"Спортивная йога","198",0,null,null,null,null,null,null,null,null,null,null,null,null,{"$f":"Раздел2!G206","v":0},{"$f":"Раздел2!C206","v":0}]
[null,"Спортивно-прикладное собаководство","199",0,null,null,null,null,null,null,null,null,null,null,null,null,{"$f":"Раздел2!G207","v":0},{"$f":"Раздел2!C207","v":0}]
[null,"Спортивное программирование","200",0,null,null,null,null,null,null,null,null,null,null,null,null,{"$f":"Раздел2!G208","v":0},{"$f":"Раздел2!C208","v":0}]
[null,"Спортивное метание ножа","201",0,null,null,null,null,null,null,null,null,null,null,null,null,{"$f":"Раздел2!G209","v":0},{"$f":"Раздел2!C209","v":0}]
[null,"Спортивное ориентирование","202",0,null,null,null,null,null,null,null,null,null,null,null,null,{"$f":"Раздел2!G210","v":0},{"$f":"Раздел2!C210","v":0}]
[null,"Спортивный бридж","203",0,null,null,null,null,null,null,null,null,null,null,null,null,{"$f":"Раздел2!G211","v":0},{"$f":"Раздел2!C211","v":0}]
[null,"Спортивный туризм","204",0,null,null,null,null,null,null,null,null,null,null,null,null,{"$f":"Раздел2!G212","v":0},{"$f":"Раздел2!C212","v":0}]
[null,"Стендовая стрельба - всего","205",0,{"$f":"SUM(E214:E217)","v":0},{"$f":"SUM(F214:F217)","v":0},0,0,0,0,0,0,0,0,0,0,{"$f":"Раздел2!G213","v":0},{"$f":"Раздел2!C213","v":0}]
[null,"в том числе:\nТрап","206",0,null,null,null,null,null,null,null,null,null,null,null,null,{"$f":"Раздел2!G214","v":0},{"$f":"Раздел2!C214","v":0}]
[null,"Скит","207",0,null,null,null,null,null,null,null,null,null,null,null,null,{"$f":"Раздел2!G215","v":0},{"$f":"Раздел2!C215","v":0}]
[null,"Дубль-трап","208",0,null,null,null,null,null,null,null,null,null,null,null,null,{"$f":"Раздел2!G216","v":0},{"$f":"Раздел2!C216","v":0}]
[null,"Спортинг","209",0,null,null,null,null,null,null,null,null,null,null,null,null,{"$f":"Раздел2!G217","v":0},{"$f":"Раздел2!C217","v":0}]
[null,"Страйкбол","210",0,null,null,null,null,null,null,null,null,null,null,null,null,{"$f":"Раздел2!G218","v":0},{"$f":"Раздел2!C218","v":0}]
[null,"Стрельба из арбалета","211",0,null,null,null,null,null,null,null,null,null,null,null,null,{"$f":"Раздел2!G219","v":0},{"$f":"Раздел2!C219","v":0}]
[null,"Стрельба из лука - всего","212",0,{"$f":"SUM(E221:E223)","v":0},{"$f":"SUM(F221:F223)","v":0},0,0,0,0,0,0,0,0,0,0,{"$f":"Раздел2!G220","v":0},{"$f":"Раздел2!C220","v":0}]
[null,"в том числе:\nКлассический лук","213",0,null,null,null,null,null,null,null,null,null,null,null,null,{"$f":"Раздел2!G221","v":0},{"$f":"Раздел2!C221","v":0}]
[null,"   Блочный лук","214",0,null,null,null,null,null,null,null,null,null,null,null,null,{"$f":"Раздел2!G222","v":0},{"$f":"Раздел2!C222","v":0}]
[null,"   Ачери ","215",0,null,null,null,null,null,null,null,null,null,null,null,null,{"$f":"Раздел2!G223","v":0},{"$f":"Раздел2!C223","v":0}]
[null,"Судомодельный спорт","216",0,null,null,null,null,null,null,null,null,null,null,null,null,{"$f":"Раздел2!G224","v":0},{"$f":"Раздел2!C224","v":0}]
[null,"Сумо","217",0,null,null,null,null,null,null,null,null,null,null,null,null,{"$f":"Раздел2!G225","v":0},{"$f":"Раздел2!C225","v":0}]
[null,"Таврели","218",0,null,null,null,null,null,null,null,null,null,null,null,null,{"$f":"Раздел2!G226","v":0},{"$f":"Раздел2!C226","v":0}]
[null,"Тайский бокс","219",0,null,null,null,null,null,null,null,null,null,null,null,null,{"$f":"Раздел2!G227","v":0},{"$f":"Раздел2!C227","v":0}]
[null,"Танцевальный спорт - всего","220",0,{"$f":"SUM(E229:E230)","v":0},{"$f":"SUM(F229:F230)","v":0},0,0,0,0,0,0,0,0,0,0,{"$f":"Раздел2!G228","v":0},{"$f":"Раздел2!C228","v":0}]
[null,"в том числе:\nТанцевальный спорт","221",0,null,null,null,null,null,null,null,null,null,null,null,null,{"$f":"Раздел2!G229","v":0},{"$f":"Раздел2!C229","v":0}]
[null,"Брейкинг","222",0,null,null,null,null,null,null,null,null,null,null,null,null,{"$f":"Раздел2!G230","v":0},{"$f":"Раздел2!C230","v":0}]
[null,"Теннис","223",0,null,null,null,null,null,null,null,null,null,null,null,null,{"$f":"Раздел2!G231","v":0},{"$f":"Раздел2!C231","v":0}]
[null,"Триатлон","224",0,null,null,null,null,null,null,null,null,null,null,null,null,{"$f":"Раздел2!G232","v":0},{"$f":"Раздел2!C232","v":0}]
[null,"Тхэквондо (ВТФ)","225",0,null,null,null,null,null,null,null,null,null,null,null,null,{"$f":"Раздел2!G233","v":0},{"$f":"Раздел2!C233","v":0}]
[null,"Тхэквондо ГТФ","226",0,null,null,null,null,null,null,null,null,null,null,null,null,{"$f":"Раздел2!G234","v":0},{"$f":"Раздел2!C234","v":0}]
[null,"Тхэквондо ИТФ","227",0,null,null,null,null,null,null,null,null,null,null,null,null,{"$f":"Раздел2!G235","v":0},{"$f":"Раздел2!C235","v":0}]
[null,"Тхэквондо МФТ","228",0,null,null,null,null,null,null,null,null,null,null,null,null,{"$f":"Раздел2!G236","v":0},{"$f":"Раздел2!C236","v":0}]
[null,"Тяжелая атлетика","229",0,null,null,null,null,null,null,null,null,null,null,null,null,{"$f":"Раздел2!G237","v":0},{"$f":"Раздел2!C237","v":0}]
[null,"Универсальный бой","230",0,null,null,null,null,null,null,null,null,null,null,null,null,{"$f":"Раздел2!G238","v":0},{"$f":"Раздел2!C238","v":0}]
[null,"Ушу","231",0,null,null,null,null,null,null,null,null,null,null,null,null,{"$f":"Раздел2!G239","v":0},{"$f":"Раздел2!C239","v":0}]
[null,"Фехтование - всего","232",0,{"$f":"SUM(E241:E244)","v":0},{"$f":"SUM(F241:F244)","v":0},0,0,0,0,0,0,0,0,0,0,{"$f":"Раздел2!G240","v":0},{"$f":"Раздел2!C240","v":0}]
[null,"в том числе:\nРапира","233",0,null,null,null,null,null,null,null,null,null,null,null,null,{"$f":"Раздел2!G241","v":0},{"$f":"Раздел2!C241","v":0}]
[null,"Сабля","234",0,null,null,null,null,null,null,null,null,null,null,null,null,{"$f":"Раздел2!G242","v":0},{"$f":"Раздел2!C242","v":0}]
[null,"Шпага","235",0,null,null,null,null,null,null,null,null,null,null,null,null,{"$f":"Раздел2!G243","v":0},{"$f":"Раздел2!C243","v":0}]
[null,"Арт-фехтование","236",0,null,null,null,null,null,null,null,null,null,null,null,null,{"$f":"Раздел2!G244","v":0},{"$f":"Раздел2!C244","v":0}]
[null,"Фигурное катание на коньках","237",0,null,null,null,null,null,null,null,null,null,null,null,null,{"$f":"Раздел2!G245","v":0},{"$f":"Раздел2!C245","v":0}]
[null,"Фитнес-аэробика","238",0,null,null,null,null,null,null,null,null,null,null,null,null,{"$f":"Раздел2!G246","v":0},{"$f":"Раздел2!C246","v":0}]
[null,"Флаинг диск","239",0,null,null,null,null,null,null,null,null,null,null,null,null,{"$f":"Раздел2!G247","v":0},{"$f":"Раздел2!C247","v":0}]
[null,"Флорбол","240",0,null,null,null,null,null,null,null,null,null,null,null,null,{"$f":"Раздел2!G248","v":0},{"$f":"Раздел2!C248","v":0}]
[null,"Фристайл - всего","241",0,{"$f":"SUM(E250:E255)","v":0},{"$f":"SUM(F250:F255)","v":0},0,0,0,0,0,0,0,0,0,0,{"$f":"Раздел2!G249","v":0},{"$f":"Раздел2!C249","v":0}]
[null,"в том числе:\nАкробатика","242",0,null,null,null,null,null,null,null,null,null,null,null,null,{"$f":"Раздел2!G250","v":0},{"$f":"Раздел2!C250","v":0}]
[null,"Биг-эйр","243",0,null,null,null,null,null,null,null,null,null,null,null,null,{"$f":"Раздел2!G251","v":0},{"$f":"Раздел2!C251","v":0}]
[null,"Могул","244",0,null,null,null,null,null,null,null,null,null,null,null,null,{"$f":"Раздел2!G252","v":0},{"$f":"Раздел2!C252","v":0}]
[null,"Ски-кросс","245",0,null,null,null,null,null,null,null,null,null,null,null,null,{"$f":"Раздел2!G253","v":0},{"$f":"Раздел2!C253","v":0}]
[null,"Хаф-пайп","246",0,null,null,null,null,null,null,null,null,null,null,null,null,{"$f":"Раздел2!G254","v":0},{"$f":"Раздел2!C254","v":0}]
[null,"Слоуп-стайл","247",0,null,null,null,null,null,null,null,null,null,null,null,null,{"$f":"Раздел2!G255","v":0},{"$f":"Раздел2!C255","v":0}]
[null,"Функциональное многоборье","248",0,null,null,null,null,null,null,null,null,null,null,null,null,{"$f":"Раздел2!G256","v":0},{"$f":"Раздел2!C256","v":0}]
[null,"Футбол - всего","249",0,{"$f":"SUM(E258:E263)","v":0},{"$f":"SUM(F258:F263)","v":0},0,0,0,0,0,0,0,0,0,0,{"$f":"Раздел2!G257","v":0},{"$f":"Раздел2!C257","v":0}]
[null,"в том числе:\nФутбол (муж.)","250",0,null,null,null,null,null,null,null,null,null,null,null,null,{"$f":"Раздел2!G258","v":0},{"$f":"Раздел2!C258","v":0}]
[null,"Футбол (жен.)","251",0,null,null,null,null,null,null,null,null,null,null,null,null,{"$f":"Раздел2!G259","v":0},{"$f":"Раздел2!C259","v":0}]
[null,"Мини-футбол (футзал)","252",0,null,null,null,null,null,null,null,null,null,null,null,null,{"$f":"Раздел2!G260","v":0},{"$f":"Раздел2!C260","v":0}]
[null,"Пляжный футбол","253",0,null,null,null,null,null,null,null,null,null,null,null,null,{"$f":"Раздел2!G261","v":0},{"$f":"Раздел2!C261","v":0}]
[null,"Футбол 6х6, 7х7, 8х8","254",0,null,null,null,null,null,null,null,null,null,null,null,null,{"$f":"Раздел2!G262","v":0},{"$f":"Раздел2!C262","v":0}]
[null,"Интерактивный футбол","255",0,null,null,null,null,null,null,null,null,null,null,null,null,{"$f":"Раздел2!G263","v":0},{"$f":"Раздел2!C263","v":0}]
[null,"Хапкидо","256",0,null,null,null,null,null,null,null,null,null,null,null,null,{"$f":"Раздел2!G264","v":0},{"$f":"Раздел2!C264","v":0}]
[null,"Хапсагай","257",0,null,null,null,null,null,null,null,null,null,null,null,null,{"$f":"Раздел2!G265","v":0},{"$f":"Раздел2!C265","v":0}]
[null,"Хоккей - всего","258",{"$f":"SUM(E266:J266)","v":0},{"$f":"SUM(E267:E268)","v":0},{"$f":"SUM(F267:F268)","v":0},0,0,0,0,0,0,0,0,0,0,{"$f":"Раздел2!G266","v":0},{"$f":"Раздел2!C266","v":0}]
[null,"в том числе:\nХоккей (муж.)","259",0,null,null,null,null,null,null,null,null,null,null,null,null,{"$f":"Раздел2!G267","v":0},{"$f":"Раздел2!C267","v":0}]
[null,"Хоккей (жен.)","260",0,null,null,null,null,null,null,null,null,null,null,null,null,{"$f":"Раздел2!G268","v":0},{"$f":"Раздел2!C268","v":0}]
[null,"Хоккей на траве - всего","261",0,{"$f":"SUM(E270:E272)","v":0},{"$f":"SUM(F270:F272)","v":0},0,0,0,0,0,0,0,0,0,0,{"$f":"Раздел2!G269","v":0},{"$f":"Раздел2!C269","v":0}]
[null,"в том числе:\nХоккей на траве (муж.)","262",0,null,null,null,null,null,null,null,null,null,null,null,null,{"$f":"Раздел2!G270","v":0},{"$f":"Раздел2!C270","v":0}]
[null,"Хоккей на траве (жен.)","263",0,null,null,null,null,null,null,null,null,null,null,null,null,{"$f":"Раздел2!G271","v":0},{"$f":"Раздел2!C271","v":0}]
[null,"Индорхоккей","264",0,null,null,null,null,null,null,null,null,null,null,null,null,{"$f":"Раздел2!G272","v":0},{"$f":"Раздел2!C272","v":0}]
[null,"Хоккей с мячом","265",0,null,null,null,null,null,null,null,null,null,null,null,null,{"$f":"Раздел2!G273","v":0},{"$f":"Раздел2!C273","v":0}]
[null,"Художественная гимнастика","266",0,null,null,null,null,null,null,null,null,null,null,null,null,{"$f":"Раздел2!G274","v":0},{"$f":"Раздел2!C274","v":0}]
[null,"Хуреш","267",0,null,null,null,null,null,null,null,null,null,null,null,null,{"$f":"Раздел2!G275","v":0},{"$f":"Раздел2!C275","v":0}]
[null,"Чир спорт","268",0,null,null,null,null,null,null,null,null,null,null,null,null,{"$f":"Раздел2!G276","v":0},{"$f":"Раздел2!C276","v":0}]
[null,"Шахматы","269",0,null,null,null,null,null,null,null,null,null,null,null,null,{"$f":"Раздел2!G277","v":30},{"$f":"Раздел2!C277","v":1}]
[null,"Шашки","270",0,null,null,null,null,null,null,null,null,null,null,null,null,{"$f":"Раздел2!G278","v":0},{"$f":"Раздел2!C278","v":0}]
[null,"Шодсанлат","271",0,null,null,null,null,null,null,null,null,null,null,null,null,{"$f":"Раздел2!G279","v":0},{"$f":"Раздел2!C279","v":0}]
[null,"Эстетическая гимнастика","272",{"$f":"SUM(E280:J280)","v":0},null,null,null,null,null,null,null,null,null,null,null,null,{"$f":"Раздел2!G280","v":0},{"$f":"Раздел2!C280","v":0}]
[null,"Якутские национальные прыжки","273",0,null,null,null,null,null,null,null,null,null,null,null,null,{"$f":"Раздел2!G281","v":0},{"$f":"Раздел2!C281","v":0}]
[null,"ИТОГО","274",{"$f":"SUM(D9:D22,D26:D29,D32:D37,D48:D53,D58:D60,D42:D45,D64:D74,D79:D89,D93:D100,D103:D107,D115:D118,D119:D132,D135:D140,D143,D148:D149,D155:D158,D164:D165,D166:D180,D181:D199,D205:D210,D211:D213,D218:D220,D224:D228,D231:D240,D245:D249,D256:D257,D264:D266,D269,D273:D281)","v":0},{"$f":"SUM(E9:E22,E26:E29,E32:E37,E48:E53,E58:E60,E42:E45,E64:E74,E79:E89,E93:E100,E103:E107,E115:E118,E119:E132,E135:E140,E143,E148:E149,E155:E158,E164:E165,E166:E180,E181:E199,E205:E210,E211:E213,E218:E220,E224:E228,E231:E240,E245:E249,E256:E257,E264:E266,E269,E273:E281)","v":0},0,0,0,0,0,0,0,0,0,0,{"$f":"SUM(P9:P22,P26:P29,P32:P37,P48:P53,P58:P60,P42:P45,P64:P74,P79:P89,P93:P100,P103:P107,P115:P118,P119:P132,P135:P140,P143,P148:P149,P155:P158,P164:P165,P166:P180,P181:P199,P205:P210,P211:P213,P218:P220,P224:P228,P231:P240,P245:P249,P256:P257,P264:P266,P269,P273:P281)","v":0},{"$f":"Раздел2!G282","v":1426},{"$f":"Раздел2!C282","v":7}]

{"sheet":"Раздел7","index":7,"n_rows":281,"n_cols":38,"rows_kept":281,"cut":false,"hidden":false,"merged":[[0,0,6,0],[3,3,4,8],[3,9,4,13],[3,14,4,18],[3,19,4,23],[3,24,4,28],[3,29,4,33],[0,1,0,33],[1,28,1,33],[2,1,5,1],[2,2,5,2],[2,3,2,33]]}
[null,"Раздел VII. Всероссийские спортивные соревнования"]
[null,null,null,null,null,null,null,null,null,null,null,null,null,null,null,null,null,null,null,null,null,null,null,null,null,null,null,null,"Коды по ОКЕИ: единица - 642"]
[null,"Виды спорта","№ строки","Результаты выступлений на соревнованиях"]
[null,null,null,"Всего",null,null,null,null,null,"Чемпионат России",null,null,null,null,"Первенство России среди юниоров и юниорок",null,null,null,null,"Первенство России среди юношей и девушек",null,null,null,null,"Кубок России",null,null,null,null,"Прочие официальные всероссийские соревнования"]
[]
[null,null,null,"медали \n(1-3 место)",1,2,3,"4-6","учас-тие",1,2,3,"4-6","учас-тие",1,2,3,"4-6","учас-тие",1,2,3,"4-6","учас-тие",1,2,3,"4-6","учас-тие",1,2,3,"4-6","учас-тие"]
[null,1,2,3,4,5,6,7,8,9,10,11,12,13,14,15,16,17,18,19,20,21,22,23,24,25,26,27,28,29,30,31,32,33,null,null,"2 р","цсп?"]
[null,"Авиамодельный спорт","01",{"$f":"SUM(E8:G8)","v":0},{"$f":"SUM(J8,O8,T8,Y8,AD8)","v":0},{"$f":"SUM(K8,P8,U8,Z8,AE8)","v":0},{"$f":"SUM(L8,Q8,V8,AA8,AF8)","v":0},{"$f":"SUM(M8,R8,W8,AB8,AG8)","v":0},{"$f":"SUM(N8,S8,X8,AC8,AH8)","v":0},null,null,null,null,null,null,null,null,null,null,null,null,null,null,null,null,null,null,null,null,null,null,null,null,null,null,null,{"$f":"Раздел2!C9","v":0},{"$f":"Раздел1!I18","v":0}]
[null,"Авиационные гонки","02",{"$f":"SUM(E9:G9)","v":0},{"$f":"SUM(J9,O9,T9,Y9,AD9)","v":0},{"$f":"SUM(K9,P9,U9,Z9,AE9)","v":0},{"$f":"SUM(L9,Q9,V9,AA9,AF9)","v":0},{"$f":"SUM(M9,R9,W9,AB9,AG9)","v":0},{"$f":"SUM(N9,S9,X9,AC9,AH9)","v":0},null,null,null,null,null,null,null,null,null,null,null,null,null,null,null,null,null,null,null,null,null,null,null,null,null,null,null,{"$f":"Раздел2!C10","v":0}]
[null,"Автомобильный спорт","03",0,0,0,0,0,0,null,null,null,null,null,null,null,null,null,null,null,null,null,null,null,null,null,null,null,null,null,null,null,null,null,null,null,{"$f":"Раздел2!C11","v":0}]
[null,"Автомодельный спорт","04",0,0,0,0,0,0,null,null,null,null,null,null,null,null,null,null,null,null,null,null,null,null,null,null,null,null,null,null,null,null,null,null,null,{"$f":"Раздел2!C12","v":0}]
[null,"Айкидо","05",0,0,0,0,0,0,null,null,null,null,null,null,null,null,null,null,null,null,null,null,null,null,null,null,null,null,null,null,null,null,null,null,null,{"$f":"Раздел2!C13","v":0}]
[null,"Айсшток","06",0,0,0,0,0,0,null,null,null,null,null,null,null,null,null,null,null,null,null,null,null,null,null,null,null,null,null,null,null,null,null,null,null,{"$f":"Раздел2!C14","v":0}]
[null,"Акробатический рок-н-ролл","07",0,0,0,0,0,0,null,null,null,null,null,null,null,null,null,null,null,null,null,null,null,null,null,null,null,null,null,null,null,null,null,null,null,{"$f":"Раздел2!C15","v":0}]
[null,"Альпинизм","08",0,0,0,0,0,0,null,null,null,null,null,null,null,null,null,null,null,null,null,null,null,null,null,null,null,null,null,null,null,null,null,null,null,{"$f":"Раздел2!C16","v":0}]
[null,"Американский футбол","09",0,0,0,0,0,0,null,null,null,null,null,null,null,null,null,null,null,null,null,null,null,null,null,null,null,null,null,null,null,null,null,null,null,{"$f":"Раздел2!C17","v":0}]
[null,"Армейский рукопашный бой","10",0,0,0,0,0,0,null,null,null,null,null,null,null,null,null,null,null,null,null,null,null,null,null,null,null,null,null,null,null,null,null,null,null,{"$f":"Раздел2!C18","v":0}]
[null,"Армейское тактико-стрелковое многоборье","11",0,0,0,0,0,0,null,null,null,null,null,null,null,null,null,null,null,null,null,null,null,null,null,null,null,null,null,null,null,null,null,null,null,{"$f":"Раздел2!C19","v":0}]
[null,"Армрестлинг","12",0,0,0,0,0,0,null,null,null,null,null,null,null,null,null,null,null,null,null,null,null,null,null,null,null,null,null,null,null,null,null,null,null,{"$f":"Раздел2!C20","v":0}]
[null,"Бадминтон","13",0,0,0,0,0,0,null,null,null,null,null,null,null,null,null,null,null,null,null,null,null,null,null,null,null,null,null,null,null,null,null,null,null,{"$f":"Раздел2!C21","v":0}]
[null,"Баскетбол - всего","14",0,0,0,0,0,0,{"$f":"SUM(J22:J24)","v":0},{"$f":"SUM(K22:K24)","v":0},0,0,0,0,0,0,0,0,0,0,0,0,0,0,0,0,0,0,0,0,0,0,0,null,null,{"$f":"Раздел2!C22","v":1}]
[null,"в том числе:\nБаскетбол (муж.)","15",0,0,0,0,0,0,null,null,null,null,null,null,null,null,null,null,null,null,null,null,null,null,null,null,null,null,null,null,null,null,null,null,null,{"$f":"Раздел2!C23","v":1}]
[null,"Баскетбол (жен.)","16",0,0,0,0,0,0,null,null,null,null,null,null,null,null,null,null,null,null,null,null,null,null,null,null,null,null,null,null,null,null,null,null,null,{"$f":"Раздел2!C24","v":1}]
[null,"Баскетбол 3х3","17",0,0,0,0,0,0,null,null,null,null,null,null,null,null,null,null,null,null,null,null,null,null,null,null,null,null,null,null,null,null,null,null,null,{"$f":"Раздел2!C25","v":0}]
[null,"Бейсбол","18",0,0,0,0,0,0,null,null,null,null,null,null,null,null,null,null,null,null,null,null,null,null,null,null,null,null,null,null,null,null,null,null,null,{"$f":"Раздел2!C26","v":0}]
[null,"Биатлон","19",0,0,0,0,0,0,null,null,null,null,null,null,null,null,null,null,null,null,null,null,null,null,null,null,null,null,null,null,null,null,null,null,null,{"$f":"Раздел2!C27","v":1}]
[null,"Бильярдный спорт","20",0,0,0,0,0,0,null,null,null,null,null,null,null,null,null,null,null,null,null,null,null,null,null,null,null,null,null,null,null,null,null,null,null,{"$f":"Раздел2!C28","v":0}]
[null,"Бобслей - всего","21",0,0,0,0,0,0,{"$f":"SUM(J29:J30)","v":0},{"$f":"SUM(K29:K30)","v":0},0,0,0,0,0,0,0,0,0,0,0,0,0,0,0,0,0,0,0,0,0,0,0,null,null,{"$f":"Раздел2!C29","v":0}]
[null,"в том числе:\nБобслей","22",0,0,0,0,0,0,null,null,null,null,null,null,null,null,null,null,null,null,null,null,null,null,null,null,null,null,null,null,null,null,null,null,null,{"$f":"Раздел2!C30","v":0}]
[null,"Скелетон","23",0,0,0,0,0,0,null,null,null,null,null,null,null,null,null,null,null,null,null,null,null,null,null,null,null,null,null,null,null,null,null,null,null,{"$f":"Раздел2!C31","v":0}]
[null,"Бодибилдинг","24",0,0,0,0,0,0,null,null,null,null,null,null,null,null,null,null,null,null,null,null,null,null,null,null,null,null,null,null,null,null,null,null,null,{"$f":"Раздел2!C32","v":0}]
[null,"Бокс","25",0,0,0,0,0,0,null,null,null,null,null,null,null,null,null,null,null,null,null,null,null,null,null,null,null,null,null,null,null,null,null,null,null,{"$f":"Раздел2!C33","v":1}]
[null,"Борьба на поясах","26",0,0,0,0,0,0,null,null,null,null,null,null,null,null,null,null,null,null,null,null,null,null,null,null,null,null,null,null,null,null,null,null,null,{"$f":"Раздел2!C34","v":0}]
[null,"Боулинг","27",0,0,0,0,0,0,null,null,null,null,null,null,null,null,null,null,null,null,null,null,null,null,null,null,null,null,null,null,null,null,null,null,null,{"$f":"Раздел2!C35","v":0}]
[null,"Боулспорт","28",0,0,0,0,0,0,null,null,null,null,null,null,null,null,null,null,null,null,null,null,null,null,null,null,null,null,null,null,null,null,null,null,null,{"$f":"Раздел2!C36","v":0}]
[null,"Велосипедный спорт - всего","29",0,0,0,0,0,0,{"$f":"SUM(J37:J40)","v":0},{"$f":"SUM(K37:K40)","v":0},0,0,0,0,0,0,0,0,0,0,0,0,0,0,0,0,0,0,0,0,0,0,0,null,null,{"$f":"Раздел2!C37","v":0}]
[null,"в том числе:\nBMX","30",0,0,0,0,0,0,null,null,null,null,null,null,null,null,null,null,null,null,null,null,null,null,null,null,null,null,null,null,null,null,null,null,null,{"$f":"Раздел2!C38","v":0}]
[null,"Маунтинбайк","31",0,0,0,0,0,0,null,null,null,null,null,null,null,null,null,null,null,null,null,null,null,null,null,null,null,null,null,null,null,null,null,null,null,{"$f":"Раздел2!C39","v":0}]
[null,"Трек","32",0,0,0,0,0,0,null,null,null,null,null,null,null,null,null,null,null,null,null,null,null,null,null,null,null,null,null,null,null,null,null,null,null,{"$f":"Раздел2!C40","v":0}]
[null,"Шоссе","33",0,0,0,0,0,0,null,null,null,null,null,null,null,null,null,null,null,null,null,null,null,null,null,null,null,null,null,null,null,null,null,null,null,{"$f":"Раздел2!C41","v":0}]
[null,"Вертолетный спорт","34",0,0,0,0,0,0,null,null,null,null,null,null,null,null,null,null,null,null,null,null,null,null,null,null,null,null,null,null,null,null,null,null,null,{"$f":"Раздел2!C42","v":0}]
[null,"Водно-моторный спорт","35",0,0,0,0,0,0,null,null,null,null,null,null,null,null,null,null,null,null,null,null,null,null,null,null,null,null,null,null,null,null,null,null,null,{"$f":"Раздел2!C43","v":0}]
[null,"Водно-спасательное многоборье","36",0,0,0,0,0,0,null,null,null,null,null,null,null,null,null,null,null,null,null,null,null,null,null,null,null,null,null,null,null,null,null,null,null,{"$f":"Раздел2!C44","v":0}]
[null,"Водное поло - всего ","37",0,0,0,0,0,0,{"$f":"SUM(J45:J46)","v":0},{"$f":"SUM(K45:K46)","v":0},0,0,0,0,0,0,0,0,0,0,0,0,0,0,0,0,0,0,0,0,0,0,0,null,null,{"$f":"Раздел2!C45","v":0}]
[null,"в том числе:\nВодное поло (муж.)","38",0,0,0,0,0,0,null,null,null,null,null,null,null,null,null,null,null,null,null,null,null,null,null,null,null,null,null,null,null,null,null,null,null,{"$f":"Раздел2!C46","v":0}]
[null,"Водное поло (жен.)","39",0,0,0,0,0,0,null,null,null,null,null,null,null,null,null,null,null,null,null,null,null,null,null,null,null,null,null,null,null,null,null,null,null,{"$f":"Раздел2!C47","v":0}]
[null,"Воднолыжный спорт","40",0,0,0,0,0,0,null,null,null,null,null,null,null,null,null,null,null,null,null,null,null,null,null,null,null,null,null,null,null,null,null,null,null,{"$f":"Раздел2!C48","v":0}]
[null,"Военно-прикладной спорт","41",0,0,0,0,0,0,null,null,null,null,null,null,null,null,null,null,null,null,null,null,null,null,null,null,null,null,null,null,null,null,null,null,null,{"$f":"Раздел2!C49","v":0}]
[null,"Военно-спортивное многоборье","42",0,0,0,0,0,0,null,null,null,null,null,null,null,null,null,null,null,null,null,null,null,null,null,null,null,null,null,null,null,null,null,null,null,{"$f":"Раздел2!C50","v":0}]
[null,"Воздухоплавательный спорт","43",0,0,0,0,0,0,null,null,null,null,null,null,null,null,null,null,null,null,null,null,null,null,null,null,null,null,null,null,null,null,null,null,null,{"$f":"Раздел2!C51","v":0}]
[null,"Воздушно-силовая атлетика","44",0,0,0,0,0,0,null,null,null,null,null,null,null,null,null,null,null,null,null,null,null,null,null,null,null,null,null,null,null,null,null,null,null,{"$f":"Раздел2!C52","v":0}]
[null,"Волейбол - всего","45",0,0,0,0,0,0,{"$f":"SUM(J53:J56)","v":0},{"$f":"SUM(K53:K56)","v":0},0,0,0,0,0,0,0,0,0,0,0,0,0,0,0,0,0,0,0,0,0,0,0,null,null,{"$f":"Раздел2!C53","v":0}]
[null,"в том числе:\nВолейбол (муж.)","46",0,0,0,0,0,0,null,null,null,null,null,null,null,null,null,null,null,null,null,null,null,null,null,null,null,null,null,null,null,null,null,null,null,{"$f":"Раздел2!C54","v":0}]
[null,"Волейбол (жен.)","47",0,0,0,0,0,0,null,null,null,null,null,null,null,null,null,null,null,null,null,null,null,null,null,null,null,null,null,null,null,null,null,null,null,{"$f":"Раздел2!C55","v":0}]
[null,"Пляжный волейбол (муж.)","48",0,0,0,0,0,0,null,null,null,null,null,null,null,null,null,null,null,null,null,null,null,null,null,null,null,null,null,null,null,null,null,null,null,{"$f":"Раздел2!C56","v":0}]
[null,"Пляжный волейбол (жен.)","49",0,0,0,0,0,0,null,null,null,null,null,null,null,null,null,null,null,null,null,null,null,null,null,null,null,null,null,null,null,null,null,null,null,{"$f":"Раздел2!C57","v":0}]
[null,"Восточное боевое единоборство","50",0,0,0,0,0,0,null,null,null,null,null,null,null,null,null,null,null,null,null,null,null,null,null,null,null,null,null,null,null,null,null,null,null,{"$f":"Раздел2!C58","v":0}]
[null,"Всестилевое каратэ","51",0,0,0,0,0,0,null,null,null,null,null,null,null,null,null,null,null,null,null,null,null,null,null,null,null,null,null,null,null,null,null,null,null,{"$f":"Раздел2!C59","v":0}]
[null,"Гандбол - всего","52",0,0,0,0,0,0,{"$f":"SUM(J60:J62)","v":0},{"$f":"SUM(K60:K62)","v":0},0,0,0,0,0,0,0,0,0,0,0,0,0,0,0,0,0,0,0,0,0,0,0,null,null,{"$f":"Раздел2!C60","v":0}]
[null,"в том числе:\nГандбол (муж.)","53",0,0,0,0,0,0,null,null,null,null,null,null,null,null,null,null,null,null,null,null,null,null,null,null,null,null,null,null,null,null,null,null,null,{"$f":"Раздел2!C61","v":0}]
[null,"Гандбол (жен.)","54",0,0,0,0,0,0,null,null,null,null,null,null,null,null,null,null,null,null,null,null,null,null,null,null,null,null,null,null,null,null,null,null,null,{"$f":"Раздел2!C62","v":0}]
[null,"Пляжный гандбол","55",0,0,0,0,0,0,null,null,null,null,null,null,null,null,null,null,null,null,null,null,null,null,null,null,null,null,null,null,null,null,null,null,null,{"$f":"Раздел2!C63","v":0}]
[null,"Гиревой спорт","56",0,0,0,0,0,0,null,null,null,null,null,null,null,null,null,null,null,null,null,null,null,null,null,null,null,null,null,null,null,null,null,null,null,{"$f":"Раздел2!C64","v":0}]
[null,"Го","57",0,0,0,0,0,0,null,null,null,null,null,null,null,null,null,null,null,null,null,null,null,null,null,null,null,null,null,null,null,null,null,null,null,{"$f":"Раздел2!C65","v":0}]
[null,"Гольф","58",0,0,0,0,0,0,null,null,null,null,null,null,null,null,null,null,null,null,null,null,null,null,null,null,null,null,null,null,null,null,null,null,null,{"$f":"Раздел2!C66","v":0}]
[null,"Гонки на охотничьих лыжах","59",0,0,0,0,0,0,null,null,null,null,null,null,null,null,null,null,null,null,null,null,null,null,null,null,null,null,null,null,null,null,null,null,null,{"$f":"Раздел2!C67","v":0}]
[null,"Гонки с препятствиями","60",0,0,0,0,0,0,null,null,null,null,null,null,null,null,null,null,null,null,null,null,null,null,null,null,null,null,null,null,null,null,null,null,null,{"$f":"Раздел2!C68","v":0}]
[null,"Горнолыжный спорт","61",0,0,0,0,0,0,null,null,null,null,null,null,null,null,null,null,null,null,null,null,null,null,null,null,null,null,null,null,null,null,null,null,null,{"$f":"Раздел2!C69","v":0}]
[null,"Городошный спорт","62",0,0,0,0,0,0,null,null,null,null,null,null,null,null,null,null,null,null,null,null,null,null,null,null,null,null,null,null,null,null,null,null,null,{"$f":"Раздел2!C70","v":0}]
[null,"Гребля на байдарках и каноэ","63",0,0,0,0,0,0,null,null,null,null,null,null,null,null,null,null,null,null,null,null,null,null,null,null,null,null,null,null,null,null,null,null,null,{"$f":"Раздел2!C71","v":0}]
[null,"Гребля на шлюпках","64",0,0,0,0,0,0,null,null,null,null,null,null,null,null,null,null,null,null,null,null,null,null,null,null,null,null,null,null,null,null,null,null,null,{"$f":"Раздел2!C72","v":0}]
[null,"Гребной слалом","65",0,0,0,0,0,0,null,null,null,null,null,null,null,null,null,null,null,null,null,null,null,null,null,null,null,null,null,null,null,null,null,null,null,{"$f":"Раздел2!C73","v":0}]
[null,"Гребной спорт - всего","66",{"$f":"SUM(E73:G73)","v":0},{"$f":"SUM(J73,O73,T73,Y73,AD73)","v":0},{"$f":"SUM(K73,P73,U73,Z73,AE73)","v":0},{"$f":"SUM(L73,Q73,V73,AA73,AF73)","v":0},{"$f":"SUM(M73,R73,W73,AB73,AG73)","v":0},{"$f":"SUM(N73,S73,X73,AC73,AH73)","v":0},{"$f":"SUM(J74:J77)","v":0},{"$f":"SUM(K74:K77)","v":0},0,0,0,0,0,0,0,0,0,0,0,0,0,0,0,0,0,0,0,0,0,0,0,null,null,{"$f":"Раздел2!C74","v":0}]
[null,"в том числе:\nАкадемическая гребля","67",0,0,0,0,0,0,null,null,null,null,null,null,null,null,null,null,null,null,null,null,null,null,null,null,null,null,null,null,null,null,null,null,null,{"$f":"Раздел2!C75","v":0}]
[null,"Гребля-индор","68",0,0,0,0,0,0,null,null,null,null,null,null,null,null,null,null,null,null,null,null,null,null,null,null,null,null,null,null,null,null,null,null,null,{"$f":"Раздел2!C76","v":0}]
[null,"Народная гребля","69",0,0,0,0,0,0,null,null,null,null,null,null,null,null,null,null,null,null,null,null,null,null,null,null,null,null,null,null,null,null,null,null,null,{"$f":"Раздел2!C77","v":0}]
[null,"Прибрежная гребля","70",0,0,0,0,0,0,null,null,null,null,null,null,null,null,null,null,null,null,null,null,null,null,null,null,null,null,null,null,null,null,null,null,null,{"$f":"Раздел2!C78","v":0}]
[null,"Гребно-парусное двоеборье","71",0,0,0,0,0,0,null,null,null,null,null,null,null,null,null,null,null,null,null,null,null,null,null,null,null,null,null,null,null,null,null,null,null,{"$f":"Раздел2!C79","v":0}]
[null,"Дартс","72",0,0,0,0,0,0,null,null,null,null,null,null,null,null,null,null,null,null,null,null,null,null,null,null,null,null,null,null,null,null,null,null,null,{"$f":"Раздел2!C80","v":0}]
[null,"Джиу-джитсу","73",0,0,0,0,0,0,null,null,null,null,null,null,null,null,null,null,null,null,null,null,null,null,null,null,null,null,null,null,null,null,null,null,null,{"$f":"Раздел2!C81","v":0}]
[null,"Дзюдо","74",1,0,0,1,2,5,null,null,null,null,null,null,null,null,null,null,null,null,null,null,null,null,null,null,null,null,null,null,1,2,5,null,null,{"$f":"Раздел2!C82","v":1}]
[null,"Ездовой спорт","75",0,0,0,0,0,0,null,null,null,null,null,null,null,null,null,null,null,null,null,null,null,null,null,null,null,null,null,null,null,null,null,null,null,{"$f":"Раздел2!C83","v":0}]
[null,"Зимнее плавание","76",0,0,0,0,0,0,null,null,null,null,null,null,null,null,null,null,null,null,null,null,null,null,null,null,null,null,null,null,null,null,null,null,null,{"$f":"Раздел2!C84","v":0}]
[null,"Капоэйра","77",0,0,0,0,0,0,null,null,null,null,null,null,null,null,null,null,null,null,null,null,null,null,null,null,null,null,null,null,null,null,null,null,null,{"$f":"Раздел2!C85","v":0}]
[null,"Каратэ","78",0,0,0,0,0,0,null,null,null,null,null,null,null,null,null,null,null,null,null,null,null,null,null,null,null,null,null,null,null,null,null,null,null,{"$f":"Раздел2!C86","v":0}]
[null,"Кендо","79",0,0,0,0,0,0,null,null,null,null,null,null,null,null,null,null,null,null,null,null,null,null,null,null,null,null,null,null,null,null,null,null,null,{"$f":"Раздел2!C87","v":0}]
[null,"Керешу","80",0,0,0,0,0,0,null,null,null,null,null,null,null,null,null,null,null,null,null,null,null,null,null,null,null,null,null,null,null,null,null,null,null,{"$f":"Раздел2!C88","v":0}]
[null,"Кёрлинг - всего","81",0,0,0,0,0,0,{"$f":"SUM(J89:J91)","v":0},{"$f":"SUM(K89:K91)","v":0},0,0,0,0,0,0,0,0,0,0,0,0,0,0,0,0,0,0,0,0,0,0,0,null,null,{"$f":"Раздел2!C89","v":0}]
[null,"в том числе:\nКерлинг (муж.)","82",0,0,0,0,0,0,null,null,null,null,null,null,null,null,null,null,null,null,null,null,null,null,null,null,null,null,null,null,null,null,null,null,null,{"$f":"Раздел2!C90","v":0}]
[null,"Керлинг (жен.)","83",0,0,0,0,0,0,null,null,null,null,null,null,null,null,null,null,null,null,null,null,null,null,null,null,null,null,null,null,null,null,null,null,null,{"$f":"Раздел2!C91","v":0}]
[null,"Кёрлинг – смешанные пары","84",0,0,0,0,0,0,null,null,null,null,null,null,null,null,null,null,null,null,null,null,null,null,null,null,null,null,null,null,null,null,null,null,null,{"$f":"Раздел2!C92","v":0}]
[null,"Кикбоксинг","85",0,0,0,0,0,0,null,null,null,null,null,null,null,null,null,null,null,null,null,null,null,null,null,null,null,null,null,null,null,null,null,null,null,{"$f":"Раздел2!C93","v":0}]
[null,"Кинологический спорт","86",0,0,0,0,0,0,null,null,null,null,null,null,null,null,null,null,null,null,null,null,null,null,null,null,null,null,null,null,null,null,null,null,null,{"$f":"Раздел2!C94","v":0}]
[null,"Киокусинкай","87",0,0,0,0,0,0,null,null,null,null,null,null,null,null,null,null,null,null,null,null,null,null,null,null,null,null,null,null,null,null,null,null,null,{"$f":"Раздел2!C95","v":0}]
[null,"Киокушин","88",0,0,0,0,0,0,null,null,null,null,null,null,null,null,null,null,null,null,null,null,null,null,null,null,null,null,null,null,null,null,null,null,null,{"$f":"Раздел2!C96","v":0}]
[null,"Комплексное единоборство","89",0,0,0,0,0,0,null,null,null,null,null,null,null,null,null,null,null,null,null,null,null,null,null,null,null,null,null,null,null,null,null,null,null,{"$f":"Раздел2!C97","v":0}]
[null,"Компьютерный спорт","90",0,0,0,0,0,0,null,null,null,null,null,null,null,null,null,null,null,null,null,null,null,null,null,null,null,null,null,null,null,null,null,null,null,{"$f":"Раздел2!C98","v":0}]
[null,"Конный спорт","91",0,0,0,0,0,0,null,null,null,null,null,null,null,null,null,null,null,null,null,null,null,null,null,null,null,null,null,null,null,null,null,null,null,{"$f":"Раздел2!C99","v":0}]
[null,"Конькобежный спорт - всего","92",0,0,0,0,0,0,{"$f":"SUM(J100:J101)","v":0},{"$f":"SUM(K100:K101)","v":0},0,0,0,0,0,0,0,0,0,0,0,0,0,0,0,0,0,0,0,0,0,0,0,null,null,{"$f":"Раздел2!C100","v":0}]
[null,"в том числе:\nКонькобежный спорт","93",0,0,0,0,0,0,null,null,null,null,null,null,null,null,null,null,null,null,null,null,null,null,null,null,null,null,null,null,null,null,null,null,null,{"$f":"Раздел2!C101","v":0}]
[null,"Шорт-трек","94",0,0,0,0,0,0,null,null,null,null,null,null,null,null,null,null,null,null,null,null,null,null,null,null,null,null,null,null,null,null,null,null,null,{"$f":"Раздел2!C102","v":0}]
[null,"Корэш","95",0,0,0,0,0,0,null,null,null,null,null,null,null,null,null,null,null,null,null,null,null,null,null,null,null,null,null,null,null,null,null,null,null,{"$f":"Раздел2!C103","v":0}]
[null,"Крикет","96",0,0,0,0,0,0,null,null,null,null,null,null,null,null,null,null,null,null,null,null,null,null,null,null,null,null,null,null,null,null,null,null,null,{"$f":"Раздел2!C104","v":0}]
[null,"Кудо","97",0,0,0,0,0,0,null,null,null,null,null,null,null,null,null,null,null,null,null,null,null,null,null,null,null,null,null,null,null,null,null,null,null,{"$f":"Раздел2!C105","v":0}]
[null,"Лапта","98",0,0,0,0,0,0,null,null,null,null,null,null,null,null,null,null,null,null,null,null,null,null,null,null,null,null,null,null,null,null,null,null,null,{"$f":"Раздел2!C106","v":0}]
[null,"Легкая атлетика - всего","99",8,1,2,5,5,13,{"$f":"SUM(J107:J113)","v":0},{"$f":"SUM(K107:K113)","v":0},0,0,0,0,0,0,0,0,0,0,0,1,2,0,0,0,0,0,1,2,5,4,11,null,null,{"$f":"Раздел2!C107","v":1}]
[null,"в том числе:\nСпринтерский и барьерный бег","100",1,0,0,1,2,6,null,null,null,null,null,null,null,null,null,null,null,null,null,null,1,null,null,null,null,null,null,null,1,2,5,null,null,{"$f":"Раздел2!C108","v":1}]
[null,"Бег на средние дистанции и бег с препятствиями","101",0,0,0,0,0,0,null,null,null,null,null,null,null,null,null,null,null,null,null,null,null,null,null,null,null,null,null,null,null,null,null,null,null,{"$f":"Раздел2!C109","v":1}]
[null,"Бег на длинные и сверхдлинные дистанции","102",0,0,0,0,0,0,null,null,null,null,null,null,null,null,null,null,null,null,null,null,null,null,null,null,null,null,null,null,null,null,null,null,null,{"$f":"Раздел2!C110","v":0}]
[null,"Многоборья","103",0,0,0,0,0,0,null,null,null,null,null,null,null,null,null,null,null,null,null,null,null,null,null,null,null,null,null,null,null,null,null,null,null,{"$f":"Раздел2!C111","v":1}]
[null,"Прыжки","104",0,0,0,0,0,0,null,null,null,null,null,null,null,null,null,null,null,null,null,null,null,null,null,null,null,null,null,null,null,null,null,null,null,{"$f":"Раздел2!C112","v":1}]
[null,"Метания","105",7,1,2,4,3,7,null,null,null,null,null,null,null,null,null,null,null,null,null,1,1,null,null,null,null,null,1,2,4,2,6,null,null,{"$f":"Раздел2!C113","v":1}]
[null,"Спортивная ходьба","106",0,0,0,0,0,0,null,null,null,null,null,null,null,null,null,null,null,null,null,null,null,null,null,null,null,null,null,null,null,null,null,null,null,{"$f":"Раздел2!C114","v":0}]
[null,"Лыжное двоеборье","107",0,0,0,0,0,0,null,null,null,null,null,null,null,null,null,null,null,null,null,null,null,null,null,null,null,null,null,null,null,null,null,null,null,{"$f":"Раздел2!C115","v":0}]
[null,"Лыжные гонки","108",0,0,0,0,0,0,null,null,null,null,null,null,null,null,null,null,null,null,null,null,null,null,null,null,null,null,null,null,null,null,null,null,null,{"$f":"Раздел2!C116","v":1}]
[null,"Мас-рестлинг","109",0,0,0,0,0,0,null,null,null,null,null,null,null,null,null,null,null,null,null,null,null,null,null,null,null,null,null,null,null,null,null,null,null,{"$f":"Раздел2!C117","v":0}]
[null,"Международное военно-спортивное многоборье","110",0,0,0,0,0,0,null,null,null,null,null,null,null,null,null,null,null,null,null,null,null,null,null,null,null,null,null,null,null,null,null,null,null,{"$f":"Раздел2!C118","v":0}]
[null,"Микрофутзал","111",0,0,0,0,0,0,null,null,null,null,null,null,null,null,null,null,null,null,null,null,null,null,null,null,null,null,null,null,null,null,null,null,null,{"$f":"Раздел2!C119","v":0}]
[null,"Многоборье кинологов","112",0,0,0,0,0,0,null,null,null,null,null,null,null,null,null,null,null,null,null,null,null,null,null,null,null,null,null,null,null,null,null,null,null,{"$f":"Раздел2!C120","v":0}]
[null,"Многоборье спасателей МЧС России","113",0,0,0,0,0,0,null,null,null,null,null,null,null,null,null,null,null,null,null,null,null,null,null,null,null,null,null,null,null,null,null,null,null,{"$f":"Раздел2!C121","v":0}]
[null,"Морское многоборье","114",0,0,0,0,0,0,null,null,null,null,null,null,null,null,null,null,null,null,null,null,null,null,null,null,null,null,null,null,null,null,null,null,null,{"$f":"Раздел2!C122","v":0}]
[null,"Мотоциклетный спорт","115",0,0,0,0,0,0,null,null,null,null,null,null,null,null,null,null,null,null,null,null,null,null,null,null,null,null,null,null,null,null,null,null,null,{"$f":"Раздел2!C123","v":0}]
[null,"Нарды","116",0,0,0,0,0,0,null,null,null,null,null,null,null,null,null,null,null,null,null,null,null,null,null,null,null,null,null,null,null,null,null,null,null,{"$f":"Раздел2!C124","v":0}]
[null,"Настольный теннис","117",0,0,0,0,0,0,null,null,null,null,null,null,null,null,null,null,null,null,null,null,null,null,null,null,null,null,null,null,null,null,null,null,null,{"$f":"Раздел2!C125","v":0}]
[null,"Падел","118",0,0,0,0,0,0,null,null,null,null,null,null,null,null,null,null,null,null,null,null,null,null,null,null,null,null,null,null,null,null,null,null,null,{"$f":"Раздел2!C126","v":0}]
[null,"Парашютный спорт","119",0,0,0,0,0,0,null,null,null,null,null,null,null,null,null,null,null,null,null,null,null,null,null,null,null,null,null,null,null,null,null,null,null,{"$f":"Раздел2!C127","v":0}]
[null,"Парусный спорт","120",0,0,0,0,0,0,null,null,null,null,null,null,null,null,null,null,null,null,null,null,null,null,null,null,null,null,null,null,null,null,null,null,null,{"$f":"Раздел2!C128","v":0}]
[null,"Пауэрлифтинг","121",0,0,0,0,0,0,null,null,null,null,null,null,null,null,null,null,null,null,null,null,null,null,null,null,null,null,null,null,null,null,null,null,null,{"$f":"Раздел2!C129","v":0}]
[null,"Перетягивание каната","122",0,0,0,0,0,0,null,null,null,null,null,null,null,null,null,null,null,null,null,null,null,null,null,null,null,null,null,null,null,null,null,null,null,{"$f":"Раздел2!C130","v":0}]
[null,"Пилонный спорт","123",0,0,0,0,0,0,null,null,null,null,null,null,null,null,null,null,null,null,null,null,null,null,null,null,null,null,null,null,null,null,null,null,null,{"$f":"Раздел2!C131","v":0}]
[null,"Плавание - всего","124",0,0,0,0,0,0,{"$f":"SUM(J132:J133)","v":0},{"$f":"SUM(K132:K133)","v":0},0,0,0,0,0,0,0,0,0,0,0,0,0,0,0,0,0,0,0,0,0,0,0,null,null,{"$f":"Раздел2!C132","v":0}]
[null,"в том числе:\nПлавание ","125",0,0,0,0,0,0,null,null,null,null,null,null,null,null,null,null,null,null,null,null,null,null,null,null,null,null,null,null,null,null,null,null,null,{"$f":"Раздел2!C133","v":0}]
[null,"Открытая вода","126",0,0,0,0,0,0,null,null,null,null,null,null,null,null,null,null,null,null,null,null,null,null,null,null,null,null,null,null,null,null,null,null,null,{"$f":"Раздел2!C134","v":0}]
[null,"Планерный спорт","127",0,0,0,0,0,0,null,null,null,null,null,null,null,null,null,null,null,null,null,null,null,null,null,null,null,null,null,null,null,null,null,null,null,{"$f":"Раздел2!C135","v":0}]
[null,"Подводный спорт","128",0,0,0,0,0,0,null,null,null,null,null,null,null,null,null,null,null,null,null,null,null,null,null,null,null,null,null,null,null,null,null,null,null,{"$f":"Раздел2!C136","v":0}]
[null,"Пожарно-спасательный спорт","129",0,0,0,0,0,0,null,null,null,null,null,null,null,null,null,null,null,null,null,null,null,null,null,null,null,null,null,null,null,null,null,null,null,{"$f":"Раздел2!C137","v":0}]
[null,"Полиатлон","130",{"$f":"SUM(E137:G137)","v":0},{"$f":"SUM(J137,O137,T137,Y137,AD137)","v":0},{"$f":"SUM(K137,P137,U137,Z137,AE137)","v":0},{"$f":"SUM(L137,Q137,V137,AA137,AF137)","v":0},{"$f":"SUM(M137,R137,W137,AB137,AG137)","v":0},{"$f":"SUM(N137,S137,X137,AC137,AH137)","v":0},null,null,null,null,null,null,null,null,null,null,null,null,null,null,null,null,null,null,null,null,null,null,null,null,null,null,null,{"$f":"Раздел2!C138","v":0}]
[null,"Практическая стрельба","131",0,0,0,0,0,0,null,null,null,null,null,null,null,null,null,null,null,null,null,null,null,null,null,null,null,null,null,null,null,null,null,null,null,{"$f":"Раздел2!C139","v":0}]
[null,"Прыжки в воду - всего","132",0,0,0,0,0,0,{"$f":"SUM(J140:J141)","v":0},{"$f":"SUM(K140:K141)","v":0},0,0,0,0,0,0,0,0,0,0,0,0,0,0,0,0,0,0,0,0,0,0,0,null,null,{"$f":"Раздел2!C140","v":0}]
[null,"в том числе:\nПрыжки в воду","133",0,0,0,0,0,0,null,null,null,null,null,null,null,null,null,null,null,null,null,null,null,null,null,null,null,null,null,null,null,null,null,null,null,{"$f":"Раздел2!C141","v":0}]
[null,"Прыжки в открытый водоем","134",0,0,0,0,0,0,null,null,null,null,null,null,null,null,null,null,null,null,null,null,null,null,null,null,null,null,null,null,null,null,null,null,null,{"$f":"Раздел2!C142","v":0}]
[null,"Прыжки на батуте - всего","135",0,0,0,0,0,0,{"$f":"SUM(J143:J146)","v":0},{"$f":"SUM(K143:K146)","v":0},0,0,0,0,0,0,0,0,0,0,0,0,0,0,0,0,0,0,0,0,0,0,0,null,null,{"$f":"Раздел2!C143","v":0}]
[null,"в том числе:\nАкробатическая дорожка","136",0,0,0,0,0,0,null,null,null,null,null,null,null,null,null,null,null,null,null,null,null,null,null,null,null,null,null,null,null,null,null,null,null,{"$f":"Раздел2!C144","v":0}]
[null,"Двойной минитрамп","137",0,0,0,0,0,0,null,null,null,null,null,null,null,null,null,null,null,null,null,null,null,null,null,null,null,null,null,null,null,null,null,null,null,{"$f":"Раздел2!C145","v":0}]
[null,"Индивидуальные прыжки","138",0,0,0,0,0,0,null,null,null,null,null,null,null,null,null,null,null,null,null,null,null,null,null,null,null,null,null,null,null,null,null,null,null,{"$f":"Раздел2!C146","v":0}]
[null,"Синхронные прыжки","139",0,0,0,0,0,0,null,null,null,null,null,null,null,null,null,null,null,null,null,null,null,null,null,null,null,null,null,null,null,null,null,null,null,{"$f":"Раздел2!C147","v":0}]
[null,"Прыжки на лыжах с трамплина","140",0,0,0,0,0,0,null,null,null,null,null,null,null,null,null,null,null,null,null,null,null,null,null,null,null,null,null,null,null,null,null,null,null,{"$f":"Раздел2!C148","v":0}]
[null,"Пулевая стрельба - всего","141",0,0,0,0,0,0,{"$f":"SUM(J149:J153)","v":0},{"$f":"SUM(K149:K153)","v":0},0,0,0,0,0,0,0,0,0,0,0,0,0,0,0,0,0,0,0,0,0,0,0,null,null,{"$f":"Раздел2!C149","v":0}]
[null,"в том числе:\nПневматическая винтовка","142",0,0,0,0,0,0,null,null,null,null,null,null,null,null,null,null,null,null,null,null,null,null,null,null,null,null,null,null,null,null,null,null,null,{"$f":"Раздел2!C150","v":0}]
[null,"Пневматический пистолет","143",0,0,0,0,0,0,null,null,null,null,null,null,null,null,null,null,null,null,null,null,null,null,null,null,null,null,null,null,null,null,null,null,null,{"$f":"Раздел2!C151","v":0}]
[null,"Малокалиберная винтовка","144",0,0,0,0,0,0,null,null,null,null,null,null,null,null,null,null,null,null,null,null,null,null,null,null,null,null,null,null,null,null,null,null,null,{"$f":"Раздел2!C152","v":0}]
[null,"Малокалиберный пистолет","145",0,0,0,0,0,0,null,null,null,null,null,null,null,null,null,null,null,null,null,null,null,null,null,null,null,null,null,null,null,null,null,null,null,{"$f":"Раздел2!C153","v":0}]
[null,"Движущаяся мишень","146",0,0,0,0,0,0,null,null,null,null,null,null,null,null,null,null,null,null,null,null,null,null,null,null,null,null,null,null,null,null,null,null,null,{"$f":"Раздел2!C154","v":0}]
[null,"Пэйнтбол","147",0,0,0,0,0,0,null,null,null,null,null,null,null,null,null,null,null,null,null,null,null,null,null,null,null,null,null,null,null,null,null,null,null,{"$f":"Раздел2!C155","v":0}]
[null,"Радиоспорт","148",0,0,0,0,0,0,null,null,null,null,null,null,null,null,null,null,null,null,null,null,null,null,null,null,null,null,null,null,null,null,null,null,null,{"$f":"Раздел2!C156","v":0}]
[null,"Рафтинг","149",0,0,0,0,0,0,null,null,null,null,null,null,null,null,null,null,null,null,null,null,null,null,null,null,null,null,null,null,null,null,null,null,null,{"$f":"Раздел2!C157","v":0}]
[null,"Регби - всего","150",0,0,0,0,0,0,{"$f":"SUM(J158:J162)","v":0},{"$f":"SUM(K158:K162)","v":0},0,0,0,0,0,0,0,0,0,0,0,0,0,0,0,0,0,0,0,0,0,0,0,null,null,{"$f":"Раздел2!C158","v":0}]
[null,"в том числе:\nРегби","151",0,0,0,0,0,0,null,null,null,null,null,null,null,null,null,null,null,null,null,null,null,null,null,null,null,null,null,null,null,null,null,null,null,{"$f":"Раздел2!C159","v":0}]
[null,"Регби 7 (муж.)","152",0,0,0,0,0,0,null,null,null,null,null,null,null,null,null,null,null,null,null,null,null,null,null,null,null,null,null,null,null,null,null,null,null,{"$f":"Раздел2!C160","v":0}]
[null,"Регби 7 (жен.)","153",0,0,0,0,0,0,null,null,null,null,null,null,null,null,null,null,null,null,null,null,null,null,null,null,null,null,null,null,null,null,null,null,null,{"$f":"Раздел2!C161","v":0}]
[null,"Регби - пляжное","154",0,0,0,0,0,0,null,null,null,null,null,null,null,null,null,null,null,null,null,null,null,null,null,null,null,null,null,null,null,null,null,null,null,{"$f":"Раздел2!C162","v":0}]
[null,"Регби на снегу","155",0,0,0,0,0,0,null,null,null,null,null,null,null,null,null,null,null,null,null,null,null,null,null,null,null,null,null,null,null,null,null,null,null,{"$f":"Раздел2!C163","v":0}]
[null,"Регбол","156",0,0,0,0,0,0,null,null,null,null,null,null,null,null,null,null,null,null,null,null,null,null,null,null,null,null,null,null,null,null,null,null,null,{"$f":"Раздел2!C164","v":0}]
[null,"Роллер спорт","157",0,0,0,0,0,0,null,null,null,null,null,null,null,null,null,null,null,null,null,null,null,null,null,null,null,null,null,null,null,null,null,null,null,{"$f":"Раздел2!C165","v":0}]
[null,"Роуп скиппинг (спортивная скакалка)","158",0,0,0,0,0,0,null,null,null,null,null,null,null,null,null,null,null,null,null,null,null,null,null,null,null,null,null,null,null,null,null,null,null,{"$f":"Раздел2!C166","v":0}]
[null,"Рукопашный бой","159",0,0,0,0,0,0,null,null,null,null,null,null,null,null,null,null,null,null,null,null,null,null,null,null,null,null,null,null,null,null,null,null,null,{"$f":"Раздел2!C167","v":0}]
[null,"Рыболовный спорт","160",0,0,0,0,0,0,null,null,null,null,null,null,null,null,null,null,null,null,null,null,null,null,null,null,null,null,null,null,null,null,null,null,null,{"$f":"Раздел2!C168","v":0}]
[null,"Сават","161",0,0,0,0,0,0,null,null,null,null,null,null,null,null,null,null,null,null,null,null,null,null,null,null,null,null,null,null,null,null,null,null,null,{"$f":"Раздел2!C169","v":0}]
[null,"Самбо","162",0,0,0,0,0,0,null,null,null,null,null,null,null,null,null,null,null,null,null,null,null,null,null,null,null,null,null,null,null,null,null,null,null,{"$f":"Раздел2!C170","v":0}]
[null,"Самолетный спорт","163",0,0,0,0,0,0,null,null,null,null,null,null,null,null,null,null,null,null,null,null,null,null,null,null,null,null,null,null,null,null,null,null,null,{"$f":"Раздел2!C171","v":0}]
[null,"Санный спорт","164",0,0,0,0,0,0,null,null,null,null,null,null,null,null,null,null,null,null,null,null,null,null,null,null,null,null,null,null,null,null,null,null,null,{"$f":"Раздел2!C172","v":0}]
[null,"Северное многоборье","165",0,0,0,0,0,0,null,null,null,null,null,null,null,null,null,null,null,null,null,null,null,null,null,null,null,null,null,null,null,null,null,null,null,{"$f":"Раздел2!C173","v":0}]
[null,"Серфинг","166",0,0,0,0,0,0,null,null,null,null,null,null,null,null,null,null,null,null,null,null,null,null,null,null,null,null,null,null,null,null,null,null,null,{"$f":"Раздел2!C174","v":0}]
[null,"Силовой экстрим","167",0,0,0,0,0,0,null,null,null,null,null,null,null,null,null,null,null,null,null,null,null,null,null,null,null,null,null,null,null,null,null,null,null,{"$f":"Раздел2!C175","v":0}]
[null,"Синхронное плавание","168",0,0,0,0,0,0,null,null,null,null,null,null,null,null,null,null,null,null,null,null,null,null,null,null,null,null,null,null,null,null,null,null,null,{"$f":"Раздел2!C176","v":0}]
[null,"Скалолазание","169",0,0,0,0,0,0,null,null,null,null,null,null,null,null,null,null,null,null,null,null,null,null,null,null,null,null,null,null,null,null,null,null,null,{"$f":"Раздел2!C177","v":0}]
[null,"Сквош","170",0,0,0,0,0,0,null,null,null,null,null,null,null,null,null,null,null,null,null,null,null,null,null,null,null,null,null,null,null,null,null,null,null,{"$f":"Раздел2!C178","v":0}]
[null,"Скейтбординг","171",0,0,0,0,0,0,null,null,null,null,null,null,null,null,null,null,null,null,null,null,null,null,null,null,null,null,null,null,null,null,null,null,null,{"$f":"Раздел2!C179","v":0}]
[null,"Служебно-боевая стрельба ","172",0,0,0,0,0,0,null,null,null,null,null,null,null,null,null,null,null,null,null,null,null,null,null,null,null,null,null,null,null,null,null,null,null,{"$f":"Раздел2!C180","v":0}]
[null,"Служебно-прикладной спорт","173",0,0,0,0,0,0,null,null,null,null,null,null,null,null,null,null,null,null,null,null,null,null,null,null,null,null,null,null,null,null,null,null,null,{"$f":"Раздел2!C181","v":0}]
[null,"Служебно-прикладной спорт ФСО России","174",0,0,0,0,0,0,null,null,null,null,null,null,null,null,null,null,null,null,null,null,null,null,null,null,null,null,null,null,null,null,null,null,null,{"$f":"Раздел2!C182","v":0}]
[null,"Служебно-прикладной спорт ФТС России","175",0,0,0,0,0,0,null,null,null,null,null,null,null,null,null,null,null,null,null,null,null,null,null,null,null,null,null,null,null,null,null,null,null,{"$f":"Раздел2!C183","v":0}]
[null,"Служебное двоеборье","176",0,0,0,0,0,0,null,null,null,null,null,null,null,null,null,null,null,null,null,null,null,null,null,null,null,null,null,null,null,null,null,null,null,{"$f":"Раздел2!C184","v":0}]
[null,"Служебное единоборство","177",0,0,0,0,0,0,null,null,null,null,null,null,null,null,null,null,null,null,null,null,null,null,null,null,null,null,null,null,null,null,null,null,null,{"$f":"Раздел2!C185","v":0}]
[null,"Служебное многоборье","178",0,0,0,0,0,0,null,null,null,null,null,null,null,null,null,null,null,null,null,null,null,null,null,null,null,null,null,null,null,null,null,null,null,{"$f":"Раздел2!C186","v":0}]
[null,"Служебный биатлон","179",0,0,0,0,0,0,null,null,null,null,null,null,null,null,null,null,null,null,null,null,null,null,null,null,null,null,null,null,null,null,null,null,null,{"$f":"Раздел2!C187","v":0}]
[null,"Спасательный спорт","180",0,0,0,0,0,0,null,null,null,null,null,null,null,null,null,null,null,null,null,null,null,null,null,null,null,null,null,null,null,null,null,null,null,{"$f":"Раздел2!C188","v":0}]
[null,"Стрельба из боевого ручного стрелкового оружия","181",0,0,0,0,0,0,null,null,null,null,null,null,null,null,null,null,null,null,null,null,null,null,null,null,null,null,null,null,null,null,null,null,null,{"$f":"Раздел2!C189","v":0}]
[null,"Стрельба из штатного или табельного оружия","182",0,0,0,0,0,0,null,null,null,null,null,null,null,null,null,null,null,null,null,null,null,null,null,null,null,null,null,null,null,null,null,null,null,{"$f":"Раздел2!C190","v":0}]
[null,"Стрельба на дальние дистанции","183",0,0,0,0,0,0,null,null,null,null,null,null,null,null,null,null,null,null,null,null,null,null,null,null,null,null,null,null,null,null,null,null,null,{"$f":"Раздел2!C191","v":0}]
[null,"Смешанное боевое единоборство (ММА)","184",0,0,0,0,0,0,null,null,null,null,null,null,null,null,null,null,null,null,null,null,null,null,null,null,null,null,null,null,null,null,null,null,null,{"$f":"Раздел2!C192","v":0}]
[null,"Сноуборд","185",0,0,0,0,0,0,null,null,null,null,null,null,null,null,null,null,null,null,null,null,null,null,null,null,null,null,null,null,null,null,null,null,null,{"$f":"Раздел2!C193","v":0}]
[null,"Современное пятиборье","186",0,0,0,0,0,0,null,null,null,null,null,null,null,null,null,null,null,null,null,null,null,null,null,null,null,null,null,null,null,null,null,null,null,{"$f":"Раздел2!C194","v":0}]
[null,"Софтбол","187",0,0,0,0,0,0,null,null,null,null,null,null,null,null,null,null,null,null,null,null,null,null,null,null,null,null,null,null,null,null,null,null,null,{"$f":"Раздел2!C195","v":0}]
[null,"Спорт сверхлегкой авиации","188",0,0,0,0,0,0,null,null,null,null,null,null,null,null,null,null,null,null,null,null,null,null,null,null,null,null,null,null,null,null,null,null,null,{"$f":"Раздел2!C196","v":0}]
[null,"Спортивная акробатика","189",0,0,0,0,0,0,null,null,null,null,null,null,null,null,null,null,null,null,null,null,null,null,null,null,null,null,null,null,null,null,null,null,null,{"$f":"Раздел2!C197","v":0}]
[null,"Спортивная аэробика","190",0,0,0,0,0,0,null,null,null,null,null,null,null,null,null,null,null,null,null,null,null,null,null,null,null,null,null,null,null,null,null,null,null,{"$f":"Раздел2!C198","v":0}]
[null,"Спортивная борьба - всего","191",0,0,0,0,0,0,{"$f":"SUM(J199:J203)","v":0},{"$f":"SUM(K199:K203)","v":0},0,0,0,0,0,0,0,0,0,0,0,0,0,0,0,0,0,0,0,0,0,0,0,null,null,{"$f":"Раздел2!C199","v":0}]
[null,"в том числе:\nВольная борьба","192",0,0,0,0,0,0,null,null,null,null,null,null,null,null,null,null,null,null,null,null,null,null,null,null,null,null,null,null,null,null,null,null,null,{"$f":"Раздел2!C200","v":0}]
[null,"Греко-римская борьба","193",0,0,0,0,0,0,null,null,null,null,null,null,null,null,null,null,null,null,null,null,null,null,null,null,null,null,null,null,null,null,null,null,null,{"$f":"Раздел2!C201","v":0}]
[null,"Грэпплинг","194",{"$f":"SUM(E201:G201)","v":0},{"$f":"SUM(J201,O201,T201,Y201,AD201)","v":0},{"$f":"SUM(K201,P201,U201,Z201,AE201)","v":0},{"$f":"SUM(L201,Q201,V201,AA201,AF201)","v":0},{"$f":"SUM(M201,R201,W201,AB201,AG201)","v":0},{"$f":"SUM(N201,S201,X201,AC201,AH201)","v":0},null,null,null,null,null,null,null,null,null,null,null,null,null,null,null,null,null,null,null,null,null,null,null,null,null,null,null,{"$f":"Раздел2!C202","v":0}]
[null,"Грэпплинг-ги","195",0,0,0,0,0,0,null,null,null,null,null,null,null,null,null,null,null,null,null,null,null,null,null,null,null,null,null,null,null,null,null,null,null,{"$f":"Раздел2!C203","v":0}]
[null,"Панкратион","196",0,0,0,0,0,0,null,null,null,null,null,null,null,null,null,null,null,null,null,null,null,null,null,null,null,null,null,null,null,null,null,null,null,{"$f":"Раздел2!C204","v":0}]
[null,"Спортивная гимнастика","197",0,0,0,0,0,0,null,null,null,null,null,null,null,null,null,null,null,null,null,null,null,null,null,null,null,null,null,null,null,null,null,null,null,{"$f":"Раздел2!C205","v":0}]
[null,"Спортивная йога","198",0,0,0,0,0,0,null,null,null,null,null,null,null,null,null,null,null,null,null,null,null,null,null,null,null,null,null,null,null,null,null,null,null,{"$f":"Раздел2!C206","v":0}]
[null,"Спортивно-прикладное собаководство","199",0,0,0,0,0,0,null,null,null,null,null,null,null,null,null,null,null,null,null,null,null,null,null,null,null,null,null,null,null,null,null,null,null,{"$f":"Раздел2!C207","v":0}]
[null,"Спортивное программирование","200",0,0,0,0,0,0,null,null,null,null,null,null,null,null,null,null,null,null,null,null,null,null,null,null,null,null,null,null,null,null,null,null,null,{"$f":"Раздел2!C208","v":0}]
[null,"Спортивное метание ножа","201",0,0,0,0,0,0,null,null,null,null,null,null,null,null,null,null,null,null,null,null,null,null,null,null,null,null,null,null,null,null,null,null,null,{"$f":"Раздел2!C209","v":0}]
[null,"Спортивное ориентирование","202",0,0,0,0,0,0,null,null,null,null,null,null,null,null,null,null,null,null,null,null,null,null,null,null,null,null,null,null,null,null,null,null,null,{"$f":"Раздел2!C210","v":0}]
[null,"Спортивный бридж","203",0,0,0,0,0,0,null,null,null,null,null,null,null,null,null,null,null,null,null,null,null,null,null,null,null,null,null,null,null,null,null,null,null,{"$f":"Раздел2!C211","v":0}]
[null,"Спортивный туризм","204",0,0,0,0,0,0,null,null,null,null,null,null,null,null,null,null,null,null,null,null,null,null,null,null,null,null,null,null,null,null,null,null,null,{"$f":"Раздел2!C212","v":0}]
[null,"Стендовая стрельба - всего","205",0,0,0,0,0,0,{"$f":"SUM(J213:J216)","v":0},{"$f":"SUM(K213:K216)","v":0},0,0,0,0,0,0,0,0,0,0,0,0,0,0,0,0,0,0,0,0,0,0,0,null,null,{"$f":"Раздел2!C213","v":0}]
[null,"в том числе:\nТрап","206",0,0,0,0,0,0,null,null,null,null,null,null,null,null,null,null,null,null,null,null,null,null,null,null,null,null,null,null,null,null,null,null,null,{"$f":"Раздел2!C214","v":0}]
[null,"Скит","207",0,0,0,0,0,0,null,null,null,null,null,null,null,null,null,null,null,null,null,null,null,null,null,null,null,null,null,null,null,null,null,null,null,{"$f":"Раздел2!C215","v":0}]
[null,"Дубль-трап","208",0,0,0,0,0,0,null,null,null,null,null,null,null,null,null,null,null,null,null,null,null,null,null,null,null,null,null,null,null,null,null,null,null,{"$f":"Раздел2!C216","v":0}]
[null,"Спортинг","209",0,0,0,0,0,0,null,null,null,null,null,null,null,null,null,null,null,null,null,null,null,null,null,null,null,null,null,null,null,null,null,null,null,{"$f":"Раздел2!C217","v":0}]
[null,"Страйкбол","210",0,0,0,0,0,0,null,null,null,null,null,null,null,null,null,null,null,null,null,null,null,null,null,null,null,null,null,null,null,null,null,null,null,{"$f":"Раздел2!C218","v":0}]
[null,"Стрельба из арбалета","211",0,0,0,0,0,0,null,null,null,null,null,null,null,null,null,null,null,null,null,null,null,null,null,null,null,null,null,null,null,null,null,null,null,{"$f":"Раздел2!C219","v":0}]
[null,"Стрельба из лука - всего","212",0,0,0,0,0,0,{"$f":"SUM(J220:J222)","v":0},{"$f":"SUM(K220:K222)","v":0},0,0,0,0,0,0,0,0,0,0,0,0,0,0,0,0,0,0,0,0,0,0,0,null,null,{"$f":"Раздел2!C220","v":0}]
[null,"в том числе:\nКлассический лук","213",0,0,0,0,0,0,null,null,null,null,null,null,null,null,null,null,null,null,null,null,null,null,null,null,null,null,null,null,null,null,null,null,null,{"$f":"Раздел2!C221","v":0}]
[null,"   Блочный лук","214",0,0,0,0,0,0,null,null,null,null,null,null,null,null,null,null,null,null,null,null,null,null,null,null,null,null,null,null,null,null,null,null,null,{"$f":"Раздел2!C222","v":0}]
[null,"   Ачери ","215",0,0,0,0,0,0,null,null,null,null,null,null,null,null,null,null,null,null,null,null,null,null,null,null,null,null,null,null,null,null,null,null,null,{"$f":"Раздел2!C223","v":0}]
[null,"Судомодельный спорт","216",0,0,0,0,0,0,null,null,null,null,null,null,null,null,null,null,null,null,null,null,null,null,null,null,null,null,null,null,null,null,null,null,null,{"$f":"Раздел2!C224","v":0}]
[null,"Сумо","217",0,0,0,0,0,0,null,null,null,null,null,null,null,null,null,null,null,null,null,null,null,null,null,null,null,null,null,null,null,null,null,null,null,{"$f":"Раздел2!C225","v":0}]
[null,"Таврели","218",0,0,0,0,0,0,null,null,null,null,null,null,null,null,null,null,null,null,null,null,null,null,null,null,null,null,null,null,null,null,null,null,null,{"$f":"Раздел2!C226","v":0}]
[null,"Тайский бокс","219",0,0,0,0,0,0,null,null,null,null,null,null,null,null,null,null,null,null,null,null,null,null,null,null,null,null,null,null,null,null,null,null,null,{"$f":"Раздел2!C227","v":0}]
[null,"Танцевальный спорт - всего","220",0,0,0,0,0,0,{"$f":"SUM(J228:J229)","v":0},{"$f":"SUM(K228:K229)","v":0},0,0,0,0,0,0,0,0,0,0,0,0,0,0,0,0,0,0,0,0,0,0,0,null,null,{"$f":"Раздел2!C228","v":0}]
[null,"в том числе:\nТанцевальный спорт","221",0,0,0,0,0,0,null,null,null,null,null,null,null,null,null,null,null,null,null,null,null,null,null,null,null,null,null,null,null,null,null,null,null,{"$f":"Раздел2!C229","v":0}]
[null,"Брейкинг","222",0,0,0,0,0,0,null,null,null,null,null,null,null,null,null,null,null,null,null,null,null,null,null,null,null,null,null,null,null,null,null,null,null,{"$f":"Раздел2!C230","v":0}]
[null,"Теннис","223",0,0,0,0,0,0,null,null,null,null,null,null,null,null,null,null,null,null,null,null,null,null,null,null,null,null,null,null,null,null,null,null,null,{"$f":"Раздел2!C231","v":0}]
[null,"Триатлон","224",0,0,0,0,0,0,null,null,null,null,null,null,null,null,null,null,null,null,null,null,null,null,null,null,null,null,null,null,null,null,null,null,null,{"$f":"Раздел2!C232","v":0}]
[null,"Тхэквондо (ВТФ)","225",0,0,0,0,0,0,null,null,null,null,null,null,null,null,null,null,null,null,null,null,null,null,null,null,null,null,null,null,null,null,null,null,null,{"$f":"Раздел2!C233","v":0}]
[null,"Тхэквондо ГТФ","226",0,0,0,0,0,0,null,null,null,null,null,null,null,null,null,null,null,null,null,null,null,null,null,null,null,null,null,null,null,null,null,null,null,{"$f":"Раздел2!C234","v":0}]
[null,"Тхэквондо ИТФ","227",0,0,0,0,0,0,null,null,null,null,null,null,null,null,null,null,null,null,null,null,null,null,null,null,null,null,null,null,null,null,null,null,null,{"$f":"Раздел2!C235","v":0}]
[null,"Тхэквондо МФТ","228",0,0,0,0,0,0,null,null,null,null,null,null,null,null,null,null,null,null,null,null,null,null,null,null,null,null,null,null,null,null,null,null,null,{"$f":"Раздел2!C236","v":0}]
[null,"Тяжелая атлетика","229",0,0,0,0,0,0,null,null,null,null,null,null,null,null,null,null,null,null,null,null,null,null,null,null,null,null,null,null,null,null,null,null,null,{"$f":"Раздел2!C237","v":0}]
[null,"Универсальный бой","230",0,0,0,0,0,0,null,null,null,null,null,null,null,null,null,null,null,null,null,null,null,null,null,null,null,null,null,null,null,null,null,null,null,{"$f":"Раздел2!C238","v":0}]
[null,"Ушу","231",0,0,0,0,0,0,null,null,null,null,null,null,null,null,null,null,null,null,null,null,null,null,null,null,null,null,null,null,null,null,null,null,null,{"$f":"Раздел2!C239","v":0}]
[null,"Фехтование - всего","232",0,0,0,0,0,0,{"$f":"SUM(J240:J243)","v":0},{"$f":"SUM(K240:K243)","v":0},0,0,0,0,0,0,0,0,0,0,0,0,0,0,0,0,0,0,0,0,0,0,0,null,null,{"$f":"Раздел2!C240","v":0}]
[null,"в том числе:\nРапира","233",0,0,0,0,0,0,null,null,null,null,null,null,null,null,null,null,null,null,null,null,null,null,null,null,null,null,null,null,null,null,null,null,null,{"$f":"Раздел2!C241","v":0}]
[null,"Сабля","234",0,0,0,0,0,0,null,null,null,null,null,null,null,null,null,null,null,null,null,null,null,null,null,null,null,null,null,null,null,null,null,null,null,{"$f":"Раздел2!C242","v":0}]
[null,"Шпага","235",0,0,0,0,0,0,null,null,null,null,null,null,null,null,null,null,null,null,null,null,null,null,null,null,null,null,null,null,null,null,null,null,null,{"$f":"Раздел2!C243","v":0}]
[null,"Арт-фехтование","236",0,0,0,0,0,0,null,null,null,null,null,null,null,null,null,null,null,null,null,null,null,null,null,null,null,null,null,null,null,null,null,null,null,{"$f":"Раздел2!C244","v":0}]
[null,"Фигурное катание на коньках","237",0,0,0,0,0,0,null,null,null,null,null,null,null,null,null,null,null,null,null,null,null,null,null,null,null,null,null,null,null,null,null,null,null,{"$f":"Раздел2!C245","v":0}]
[null,"Фитнес-аэробика","238",0,0,0,0,0,0,null,null,null,null,null,null,null,null,null,null,null,null,null,null,null,null,null,null,null,null,null,null,null,null,null,null,null,{"$f":"Раздел2!C246","v":0}]
[null,"Флаинг диск","239",0,0,0,0,0,0,null,null,null,null,null,null,null,null,null,null,null,null,null,null,null,null,null,null,null,null,null,null,null,null,null,null,null,{"$f":"Раздел2!C247","v":0}]
[null,"Флорбол","240",0,0,0,0,0,0,null,null,null,null,null,null,null,null,null,null,null,null,null,null,null,null,null,null,null,null,null,null,null,null,null,null,null,{"$f":"Раздел2!C248","v":0}]
[null,"Фристайл - всего","241",0,0,0,0,0,0,{"$f":"SUM(J249:J254)","v":0},{"$f":"SUM(K249:K254)","v":0},0,0,0,0,0,0,0,0,0,0,0,0,0,0,0,0,0,0,0,0,0,0,0,null,null,{"$f":"Раздел2!C249","v":0}]
[null,"в том числе:\nАкробатика","242",0,0,0,0,0,0,null,null,null,null,null,null,null,null,null,null,null,null,null,null,null,null,null,null,null,null,null,null,null,null,null,null,null,{"$f":"Раздел2!C250","v":0}]
[null,"Биг-эйр","243",0,0,0,0,0,0,null,null,null,null,null,null,null,null,null,null,null,null,null,null,null,null,null,null,null,null,null,null,null,null,null,null,null,{"$f":"Раздел2!C251","v":0}]
[null,"Могул","244",0,0,0,0,0,0,null,null,null,null,null,null,null,null,null,null,null,null,null,null,null,null,null,null,null,null,null,null,null,null,null,null,null,{"$f":"Раздел2!C252","v":0}]
[null,"Ски-кросс","245",0,0,0,0,0,0,null,null,null,null,null,null,null,null,null,null,null,null,null,null,null,null,null,null,null,null,null,null,null,null,null,null,null,{"$f":"Раздел2!C253","v":0}]
[null,"Хаф-пайп","246",0,0,0,0,0,0,null,null,null,null,null,null,null,null,null,null,null,null,null,null,null,null,null,null,null,null,null,null,null,null,null,null,null,{"$f":"Раздел2!C254","v":0}]
[null,"Слоуп-стайл","247",0,0,0,0,0,0,null,null,null,null,null,null,null,null,null,null,null,null,null,null,null,null,null,null,null,null,null,null,null,null,null,null,null,{"$f":"Раздел2!C255","v":0}]
[null,"Функциональное многоборье","248",0,0,0,0,0,0,null,null,null,null,null,null,null,null,null,null,null,null,null,null,null,null,null,null,null,null,null,null,null,null,null,null,null,{"$f":"Раздел2!C256","v":0}]
[null,"Футбол - всего","249",0,0,0,0,0,0,{"$f":"SUM(J257:J262)","v":0},{"$f":"SUM(K257:K262)","v":0},0,0,0,0,0,0,0,0,0,0,0,0,0,0,0,0,0,0,0,0,0,0,0,null,null,{"$f":"Раздел2!C257","v":0}]
[null,"в том числе:\nФутбол (муж.)","250",0,0,0,0,0,0,null,null,null,null,null,null,null,null,null,null,null,null,null,null,null,null,null,null,null,null,null,null,null,null,null,null,null,{"$f":"Раздел2!C258","v":0}]
[null,"Футбол (жен.)","251",0,0,0,0,0,0,null,null,null,null,null,null,null,null,null,null,null,null,null,null,null,null,null,null,null,null,null,null,null,null,null,null,null,{"$f":"Раздел2!C259","v":0}]
[null,"Мини-футбол (футзал)","252",0,0,0,0,0,0,null,null,null,null,null,null,null,null,null,null,null,null,null,null,null,null,null,null,null,null,null,null,null,null,null,null,null,{"$f":"Раздел2!C260","v":0}]
[null,"Пляжный футбол","253",0,0,0,0,0,0,null,null,null,null,null,null,null,null,null,null,null,null,null,null,null,null,null,null,null,null,null,null,null,null,null,null,null,{"$f":"Раздел2!C261","v":0}]
[null,"Футбол 6х6, 7х7, 8х8","254",0,0,0,0,0,0,null,null,null,null,null,null,null,null,null,null,null,null,null,null,null,null,null,null,null,null,null,null,null,null,null,null,null,{"$f":"Раздел2!C262","v":0}]
[null,"Интерактивный футбол","255",0,0,0,0,0,0,null,null,null,null,null,null,null,null,null,null,null,null,null,null,null,null,null,null,null,null,null,null,null,null,null,null,null,{"$f":"Раздел2!C263","v":0}]
[null,"Хапкидо","256",0,0,0,0,0,0,null,null,null,null,null,null,null,null,null,null,null,null,null,null,null,null,null,null,null,null,null,null,null,null,null,null,null,{"$f":"Раздел2!C264","v":0}]
[null,"Хапсагай","257",0,0,0,0,0,0,null,null,null,null,null,null,null,null,null,null,null,null,null,null,null,null,null,null,null,null,null,null,null,null,null,null,null,{"$f":"Раздел2!C265","v":0}]
[null,"Хоккей - всего","258",{"$f":"SUM(E265:G265)","v":0},{"$f":"SUM(J265,O265,T265,Y265,AD265)","v":0},{"$f":"SUM(K265,P265,U265,Z265,AE265)","v":0},{"$f":"SUM(L265,Q265,V265,AA265,AF265)","v":0},{"$f":"SUM(M265,R265,W265,AB265,AG265)","v":0},{"$f":"SUM(N265,S265,X265,AC265,AH265)","v":0},{"$f":"SUM(J266:J267)","v":0},{"$f":"SUM(K266:K267)","v":0},0,0,0,0,0,0,0,0,0,0,0,0,0,0,0,0,0,0,0,0,0,0,0,null,null,{"$f":"Раздел2!C266","v":0}]
[null,"в том числе:\nХоккей (муж.)","259",0,0,0,0,0,0,null,null,null,null,null,null,null,null,null,null,null,null,null,null,null,null,null,null,null,null,null,null,null,null,null,null,null,{"$f":"Раздел2!C267","v":0}]
[null,"Хоккей (жен.)","260",0,0,0,0,0,0,null,null,null,null,null,null,null,null,null,null,null,null,null,null,null,null,null,null,null,null,null,null,null,null,null,null,null,{"$f":"Раздел2!C268","v":0}]
[null,"Хоккей на траве - всего","261",0,0,0,0,0,0,{"$f":"SUM(J269:J271)","v":0},{"$f":"SUM(K269:K271)","v":0},0,0,0,0,0,0,0,0,0,0,0,0,0,0,0,0,0,0,0,0,0,0,0,null,null,{"$f":"Раздел2!C269","v":0}]
[null,"в том числе:\nХоккей на траве (муж.)","262",0,0,0,0,0,0,null,null,null,null,null,null,null,null,null,null,null,null,null,null,null,null,null,null,null,null,null,null,null,null,null,null,null,{"$f":"Раздел2!C270","v":0}]
[null,"Хоккей на траве (жен.)","263",0,0,0,0,0,0,null,null,null,null,null,null,null,null,null,null,null,null,null,null,null,null,null,null,null,null,null,null,null,null,null,null,null,{"$f":"Раздел2!C271","v":0}]
[null,"Индорхоккей","264",0,0,0,0,0,0,null,null,null,null,null,null,null,null,null,null,null,null,null,null,null,null,null,null,null,null,null,null,null,null,null,null,null,{"$f":"Раздел2!C272","v":0}]
[null,"Хоккей с мячом","265",0,0,0,0,0,0,null,null,null,null,null,null,null,null,null,null,null,null,null,null,null,null,null,null,null,null,null,null,null,null,null,null,null,{"$f":"Раздел2!C273","v":0}]
[null,"Художественная гимнастика","266",0,0,0,0,0,0,null,null,null,null,null,null,null,null,null,null,null,null,null,null,null,null,null,null,null,null,null,null,null,null,null,null,null,{"$f":"Раздел2!C274","v":0}]
[null,"Хуреш","267",0,0,0,0,0,0,null,null,null,null,null,null,null,null,null,null,null,null,null,null,null,null,null,null,null,null,null,null,null,null,null,null,null,{"$f":"Раздел2!C275","v":0}]
[null,"Чир спорт","268",0,0,0,0,0,0,null,null,null,null,null,null,null,null,null,null,null,null,null,null,null,null,null,null,null,null,null,null,null,null,null,null,null,{"$f":"Раздел2!C276","v":0}]
[null,"Шахматы","269",0,0,0,0,0,0,null,null,null,null,null,null,null,null,null,null,null,null,null,null,null,null,null,null,null,null,null,null,null,null,null,null,null,{"$f":"Раздел2!C277","v":1}]
[null,"Шашки","270",0,0,0,0,0,0,null,null,null,null,null,null,null,null,null,null,null,null,null,null,null,null,null,null,null,null,null,null,null,null,null,null,null,{"$f":"Раздел2!C278","v":0}]
[null,"Шодсанлат","271",0,0,0,0,0,0,null,null,null,null,null,null,null,null,null,null,null,null,null,null,null,null,null,null,null,null,null,null,null,null,null,null,null,{"$f":"Раздел2!C279","v":0}]
[null,"Эстетическая гимнастика","272",0,0,0,0,0,0,null,null,null,null,null,null,null,null,null,null,null,null,null,null,null,null,null,null,null,null,null,null,null,null,null,null,null,{"$f":"Раздел2!C280","v":0}]
[null,"Якутские национальные прыжки","273",0,0,0,0,0,0,null,null,null,null,null,null,null,null,null,null,null,null,null,null,null,null,null,null,null,null,null,null,null,null,null,null,null,{"$f":"Раздел2!C281","v":0}]
[null,"ИТОГО","274",9,1,2,6,7,18,{"$f":"SUM(J8:J21,J25:J28,J31:J36,J47:J52,J57:J59,J41:J44,J63:J73,J78:J88,J92:J99,J102:J106,J114:J117,J118:J131,J134:J139,J142,J147:J148,J154:J157,J163:J164,J165:J179,J180:J198,J204:J209,J210:J212,J217:J219,J223:J227,J230:J239,J244:J248,J255:J256,J263:J265,J268,J272:J280)","v":0},{"$f":"SUM(K8:K21,K25:K28,K31:K36,K47:K52,K57:K59,K41:K44,K63:K73,K78:K88,K92:K99,K102:K106,K114:K117,K118:K131,K134:K139,K142,K147:K148,K154:K157,K163:K164,K165:K179,K180:K198,K204:K209,K210:K212,K217:K219,K223:K227,K230:K239,K244:K248,K255:K256,K263:K265,K268,K272:K280)","v":0},0,0,0,0,0,0,0,0,0,0,0,1,2,0,0,0,0,0,1,2,6,6,16,null,null,{"$f":"Раздел2!C282","v":7}]

{"sheet":"Раздел8","index":8,"n_rows":281,"n_cols":62,"rows_kept":281,"cut":false,"hidden":false,"merged":[[0,0,0,32],[3,2,4,7],[3,8,4,12],[3,13,4,17],[3,18,4,22],[3,23,4,27],[3,28,4,32],[1,50,1,57],[2,1,5,1],[2,2,2,32],[2,33,2,57],[2,0,5,0],[3,33,4,37],[3,38,4,42],[3,43,4,47],[3,48,4,52],[3,53,4,57]]}
["Раздел VIII. Международные спортивные соревнования"]
[null,null,null,null,null,null,null,null,null,null,null,null,null,null,null,null,null,null,null,null,null,null,null,null,null,null,null,null,null,null,null,null,null,null,null,null,null,null,null,null,null,null,null,null,null,null,null,null,null,null,"Коды по ОКЕИ: единица - 642"]
["Виды спорта","№ строки","Результаты выступлений на соревнованиях",null,null,null,null,null,null,null,null,null,null,null,null,null,null,null,null,null,null,null,null,null,null,null,null,null,null,null,null,null,null,"Результаты выступлений на соревнованиях"]
[null,null,"Всего",null,null,null,null,null,"Олимпийские игры",null,null,null,null,"Чемпионат мира",null,null,null,null,"Юношеские Олимпийские игры",null,null,null,null,"Первенство мира",null,null,null,null,"Кубок мира",null,null,null,null,"Этапы Кубка мира",null,null,null,null,"Чемпионат Европы",null,null,null,null,"Первенство Европы",null,null,null,null,"Кубок Европы",null,null,null,null,"Прочие официальные между-народные соревнования"]
[]
[null,null,"медали \n(1-3 место)",1,2,3,"4-6","учас-тие",1,2,3,"4-6","учас-тие",1,2,3,"4-6","учас-тие",1,2,3,"4-6","учас-тие",1,2,3,"4-6","учас-тие",1,2,3,"4-6","учас-тие",1,2,3,"4-6","учас-тие",1,2,3,"4-6","учас-тие",1,2,3,"4-6","учас-тие",1,2,3,"4-6","учас-тие",1,2,3,"4-6","учас-тие"]
[1,2,3,4,5,6,7,8,9,10,11,12,13,14,15,16,17,18,19,20,21,22,23,24,25,26,27,28,29,30,31,32,33,34,35,36,37,38,39,40,41,42,43,44,45,46,47,48,49,50,51,52,53,54,55,56,57,58,null,null,"2р-3","цсп?"]
["Авиамодельный спорт","01",{"$f":"SUM(D8:F8)","v":0},{"$f":"SUM(I8,N8,S8,X8,AC8,AH8,AM8,AR8,AW8,BB8)","v":0},{"$f":"SUM(J8,O8,T8,Y8,AD8,AI8,AN8,AS8,AX8,BC8)","v":0},0,0,{"$f":"SUM(M8,R8,W8,AB8,AG8,AL8,AQ8,AV8,BA8,BF8)","v":0},null,null,null,null,null,null,null,null,null,null,null,null,null,null,null,null,null,null,null,null,null,null,null,null,null,null,null,null,null,null,null,null,null,null,null,null,null,null,null,null,null,null,null,null,null,null,null,null,null,null,null,null,{"$f":"Раздел2!C9","v":0},{"$f":"Раздел1!I18","v":0}]
["Авиационные гонки","02",{"$f":"SUM(D9:F9)","v":0},{"$f":"SUM(I9,N9,S9,X9,AC9,AH9,AM9,AR9,AW9,BB9)","v":0},{"$f":"SUM(J9,O9,T9,Y9,AD9,AI9,AN9,AS9,AX9,BC9)","v":0},{"$f":"SUM(K9,P9,U9,Z9,AE9,AJ9,AO9,AT9,AY9,BD9)","v":0},{"$f":"SUM(L9,Q9,V9,AA9,AF9,AK9,AP9,AU9,AZ9,BE9)","v":0},{"$f":"SUM(M9,R9,W9,AB9,AG9,AL9,AQ9,AV9,BA9,BF9)","v":0},null,null,null,null,null,null,null,null,null,null,null,null,null,null,null,null,null,null,null,null,null,null,null,null,null,null,null,null,null,null,null,null,null,null,null,null,null,null,null,null,null,null,null,null,null,null,null,null,null,null,null,null,{"$f":"Раздел2!C10","v":0}]
["Автомобильный спорт","03",0,0,0,0,0,0,null,null,null,null,null,null,null,null,null,null,null,null,null,null,null,null,null,null,null,null,null,null,null,null,null,null,null,null,null,null,null,null,null,null,null,null,null,null,null,null,null,null,null,null,null,null,null,null,null,null,null,null,{"$f":"Раздел2!C11","v":0}]
["Автомодельный спорт","04",0,0,0,0,0,0,null,null,null,null,null,null,null,null,null,null,null,null,null,null,null,null,null,null,null,null,null,null,null,null,null,null,null,null,null,null,null,null,null,null,null,null,null,null,null,null,null,null,null,null,null,null,null,null,null,null,null,null,{"$f":"Раздел2!C12","v":0}]
["Айкидо","05",0,0,0,0,0,0,null,null,null,null,null,null,null,null,null,null,null,null,null,null,null,null,null,null,null,null,null,null,null,null,null,null,null,null,null,null,null,null,null,null,null,null,null,null,null,null,null,null,null,null,null,null,null,null,null,null,null,null,{"$f":"Раздел2!C13","v":0}]
["Айсшток","06",0,0,0,0,0,0,null,null,null,null,null,null,null,null,null,null,null,null,null,null,null,null,null,null,null,null,null,null,null,null,null,null,null,null,null,null,null,null,null,null,null,null,null,null,null,null,null,null,null,null,null,null,null,null,null,null,null,null,{"$f":"Раздел2!C14","v":0}]
["Акробатический рок-н-ролл","07",0,0,0,0,0,0,null,null,null,null,null,null,null,null,null,null,null,null,null,null,null,null,null,null,null,null,null,null,null,null,null,null,null,null,null,null,null,null,null,null,null,null,null,null,null,null,null,null,null,null,null,null,null,null,null,null,null,null,{"$f":"Раздел2!C15","v":0}]
["Альпинизм","08",0,0,0,0,0,0,null,null,null,null,null,null,null,null,null,null,null,null,null,null,null,null,null,null,null,null,null,null,null,null,null,null,null,null,null,null,null,null,null,null,null,null,null,null,null,null,null,null,null,null,null,null,null,null,null,null,null,null,{"$f":"Раздел2!C16","v":0}]
["Американский футбол","09",0,0,0,0,0,0,null,null,null,null,null,null,null,null,null,null,null,null,null,null,null,null,null,null,null,null,null,null,null,null,null,null,null,null,null,null,null,null,null,null,null,null,null,null,null,null,null,null,null,null,null,null,null,null,null,null,null,null,{"$f":"Раздел2!C17","v":0}]
["Армейский рукопашный бой","10",0,0,0,0,0,0,null,null,null,null,null,null,null,null,null,null,null,null,null,null,null,null,null,null,null,null,null,null,null,null,null,null,null,null,null,null,null,null,null,null,null,null,null,null,null,null,null,null,null,null,null,null,null,null,null,null,null,null,{"$f":"Раздел2!C18","v":0}]
["Армейское тактико-стрелковое многоборье","11",0,0,0,0,0,0,null,null,null,null,null,null,null,null,null,null,null,null,null,null,null,null,null,null,null,null,null,null,null,null,null,null,null,null,null,null,null,null,null,null,null,null,null,null,null,null,null,null,null,null,null,null,null,null,null,null,null,null,{"$f":"Раздел2!C19","v":0}]
["Армрестлинг","12",0,0,0,0,0,0,null,null,null,null,null,null,null,null,null,null,null,null,null,null,null,null,null,null,null,null,null,null,null,null,null,null,null,null,null,null,null,null,null,null,null,null,null,null,null,null,null,null,null,null,null,null,null,null,null,null,null,null,{"$f":"Раздел2!C20","v":0}]
["Бадминтон","13",0,0,0,0,0,0,null,null,null,null,null,null,null,null,null,null,null,null,null,null,null,null,null,null,null,null,null,null,null,null,null,null,null,null,null,null,null,null,null,null,null,null,null,null,null,null,null,null,null,null,null,null,null,null,null,null,null,null,{"$f":"Раздел2!C21","v":0}]
["Баскетбол - всего","14",0,0,0,0,0,0,{"$f":"SUM(I22:I24)","v":0},{"$f":"SUM(J22:J24)","v":0},0,0,0,0,0,0,0,0,0,0,0,0,0,0,0,0,0,0,0,0,0,0,0,0,0,0,0,0,0,0,0,0,0,0,0,0,0,0,0,0,0,0,0,0,0,0,0,0,null,null,{"$f":"Раздел2!C22","v":1}]
["в том числе:\nБаскетбол (муж.)","15",0,0,0,0,0,0,null,null,null,null,null,null,null,null,null,null,null,null,null,null,null,null,null,null,null,null,null,null,null,null,null,null,null,null,null,null,null,null,null,null,null,null,null,null,null,null,null,null,null,null,null,null,null,null,null,null,null,null,{"$f":"Раздел2!C23","v":1}]
["Баскетбол (жен.)","16",0,0,0,0,0,0,null,null,null,null,null,null,null,null,null,null,null,null,null,null,null,null,null,null,null,null,null,null,null,null,null,null,null,null,null,null,null,null,null,null,null,null,null,null,null,null,null,null,null,null,null,null,null,null,null,null,null,null,{"$f":"Раздел2!C24","v":1}]
["Баскетбол 3х3","17",0,0,0,0,0,0,null,null,null,null,null,null,null,null,null,null,null,null,null,null,null,null,null,null,null,null,null,null,null,null,null,null,null,null,null,null,null,null,null,null,null,null,null,null,null,null,null,null,null,null,null,null,null,null,null,null,null,null,{"$f":"Раздел2!C25","v":0}]
["Бейсбол","18",0,0,0,0,0,0,null,null,null,null,null,null,null,null,null,null,null,null,null,null,null,null,null,null,null,null,null,null,null,null,null,null,null,null,null,null,null,null,null,null,null,null,null,null,null,null,null,null,null,null,null,null,null,null,null,null,null,null,{"$f":"Раздел2!C26","v":0}]
["Биатлон","19",0,0,0,0,0,0,null,null,null,null,null,null,null,null,null,null,null,null,null,null,null,null,null,null,null,null,null,null,null,null,null,null,null,null,null,null,null,null,null,null,null,null,null,null,null,null,null,null,null,null,null,null,null,null,null,null,null,null,{"$f":"Раздел2!C27","v":1}]
["Бильярдный спорт","20",0,0,0,0,0,0,null,null,null,null,null,null,null,null,null,null,null,null,null,null,null,null,null,null,null,null,null,null,null,null,null,null,null,null,null,null,null,null,null,null,null,null,null,null,null,null,null,null,null,null,null,null,null,null,null,null,null,null,{"$f":"Раздел2!C28","v":0}]
["Бобслей - всего","21",0,0,0,0,0,0,{"$f":"SUM(I29:I30)","v":0},{"$f":"SUM(J29:J30)","v":0},0,0,0,0,0,0,0,0,0,0,0,0,0,0,0,0,0,0,0,0,0,0,0,0,0,0,0,0,0,0,0,0,0,0,0,0,0,0,0,0,0,0,0,0,0,0,0,0,null,null,{"$f":"Раздел2!C29","v":0}]
["в том числе:\nБобслей","22",0,0,0,0,0,0,null,null,null,null,null,null,null,null,null,null,null,null,null,null,null,null,null,null,null,null,null,null,null,null,null,null,null,null,null,null,null,null,null,null,null,null,null,null,null,null,null,null,null,null,null,null,null,null,null,null,null,null,{"$f":"Раздел2!C30","v":0}]
["Скелетон","23",0,0,0,0,0,0,null,null,null,null,null,null,null,null,null,null,null,null,null,null,null,null,null,null,null,null,null,null,null,null,null,null,null,null,null,null,null,null,null,null,null,null,null,null,null,null,null,null,null,null,null,null,null,null,null,null,null,null,{"$f":"Раздел2!C31","v":0}]
["Бодибилдинг","24",0,0,0,0,0,0,null,null,null,null,null,null,null,null,null,null,null,null,null,null,null,null,null,null,null,null,null,null,null,null,null,null,null,null,null,null,null,null,null,null,null,null,null,null,null,null,null,null,null,null,null,null,null,null,null,null,null,null,{"$f":"Раздел2!C32","v":0}]
["Бокс","25",0,0,0,0,0,0,null,null,null,null,null,null,null,null,null,null,null,null,null,null,null,null,null,null,null,null,null,null,null,null,null,null,null,null,null,null,null,null,null,null,null,null,null,null,null,null,null,null,null,null,null,null,null,null,null,null,null,null,{"$f":"Раздел2!C33","v":1}]
["Борьба на поясах","26",0,0,0,0,0,0,null,null,null,null,null,null,null,null,null,null,null,null,null,null,null,null,null,null,null,null,null,null,null,null,null,null,null,null,null,null,null,null,null,null,null,null,null,null,null,null,null,null,null,null,null,null,null,null,null,null,null,null,{"$f":"Раздел2!C34","v":0}]
["Боулинг","27",0,0,0,0,0,0,null,null,null,null,null,null,null,null,null,null,null,null,null,null,null,null,null,null,null,null,null,null,null,null,null,null,null,null,null,null,null,null,null,null,null,null,null,null,null,null,null,null,null,null,null,null,null,null,null,null,null,null,{"$f":"Раздел2!C35","v":0}]
["Боулспорт","28",0,0,0,0,0,0,null,null,null,null,null,null,null,null,null,null,null,null,null,null,null,null,null,null,null,null,null,null,null,null,null,null,null,null,null,null,null,null,null,null,null,null,null,null,null,null,null,null,null,null,null,null,null,null,null,null,null,null,{"$f":"Раздел2!C36","v":0}]
["Велосипедный спорт - всего","29",0,0,0,0,0,0,{"$f":"SUM(I37:I40)","v":0},{"$f":"SUM(J37:J40)","v":0},0,0,0,0,0,0,0,0,0,0,0,0,0,0,0,0,0,0,0,0,0,0,0,0,0,0,0,0,0,0,0,0,0,0,0,0,0,0,0,0,0,0,0,0,0,0,0,0,null,null,{"$f":"Раздел2!C37","v":0}]
["в том числе:\nBMX","30",0,0,0,0,0,0,null,null,null,null,null,null,null,null,null,null,null,null,null,null,null,null,null,null,null,null,null,null,null,null,null,null,null,null,null,null,null,null,null,null,null,null,null,null,null,null,null,null,null,null,null,null,null,null,null,null,null,null,{"$f":"Раздел2!C38","v":0}]
["Маунтинбайк","31",0,0,0,0,0,0,null,null,null,null,null,null,null,null,null,null,null,null,null,null,null,null,null,null,null,null,null,null,null,null,null,null,null,null,null,null,null,null,null,null,null,null,null,null,null,null,null,null,null,null,null,null,null,null,null,null,null,null,{"$f":"Раздел2!C39","v":0}]
["Трек","32",0,0,0,0,0,0,null,null,null,null,null,null,null,null,null,null,null,null,null,null,null,null,null,null,null,null,null,null,null,null,null,null,null,null,null,null,null,null,null,null,null,null,null,null,null,null,null,null,null,null,null,null,null,null,null,null,null,null,{"$f":"Раздел2!C40","v":0}]
["Шоссе","33",0,0,0,0,0,0,null,null,null,null,null,null,null,null,null,null,null,null,null,null,null,null,null,null,null,null,null,null,null,null,null,null,null,null,null,null,null,null,null,null,null,null,null,null,null,null,null,null,null,null,null,null,null,null,null,null,null,null,{"$f":"Раздел2!C41","v":0}]
["Вертолетный спорт","34",0,0,0,0,0,0,null,null,null,null,null,null,null,null,null,null,null,null,null,null,null,null,null,null,null,null,null,null,null,null,null,null,null,null,null,null,null,null,null,null,null,null,null,null,null,null,null,null,null,null,null,null,null,null,null,null,null,null,{"$f":"Раздел2!C42","v":0}]
["Водно-моторный спорт","35",0,0,0,0,0,0,null,null,null,null,null,null,null,null,null,null,null,null,null,null,null,null,null,null,null,null,null,null,null,null,null,null,null,null,null,null,null,null,null,null,null,null,null,null,null,null,null,null,null,null,null,null,null,null,null,null,null,null,{"$f":"Раздел2!C43","v":0}]
["Водно-спасательное многоборье","36",0,0,0,0,0,0,null,null,null,null,null,null,null,null,null,null,null,null,null,null,null,null,null,null,null,null,null,null,null,null,null,null,null,null,null,null,null,null,null,null,null,null,null,null,null,null,null,null,null,null,null,null,null,null,null,null,null,null,{"$f":"Раздел2!C44","v":0}]
["Водное поло - всего ","37",0,0,0,0,0,0,{"$f":"SUM(I45:I46)","v":0},{"$f":"SUM(J45:J46)","v":0},0,0,0,0,0,0,0,0,0,0,0,0,0,0,0,0,{"$f":"SUM(AA45:AA46)","v":0},0,0,0,0,0,0,0,0,0,0,0,0,0,0,0,0,0,0,0,0,0,0,0,0,0,0,0,0,0,0,0,null,null,{"$f":"Раздел2!C45","v":0}]
["в том числе:\nВодное поло (муж.)","38",0,0,0,0,0,0,null,null,null,null,null,null,null,null,null,null,null,null,null,null,null,null,null,null,null,null,null,null,null,null,null,null,null,null,null,null,null,null,null,null,null,null,null,null,null,null,null,null,null,null,null,null,null,null,null,null,null,null,{"$f":"Раздел2!C46","v":0}]
["Водное поло (жен.)","39",0,0,0,0,0,0,null,null,null,null,null,null,null,null,null,null,null,null,null,null,null,null,null,null,null,null,null,null,null,null,null,null,null,null,null,null,null,null,null,null,null,null,null,null,null,null,null,null,null,null,null,null,null,null,null,null,null,null,{"$f":"Раздел2!C47","v":0}]
["Воднолыжный спорт","40",0,0,0,0,0,0,null,null,null,null,null,null,null,null,null,null,null,null,null,null,null,null,null,null,null,null,null,null,null,null,null,null,null,null,null,null,null,null,null,null,null,null,null,null,null,null,null,null,null,null,null,null,null,null,null,null,null,null,{"$f":"Раздел2!C48","v":0}]
["Военно-прикладной спорт","41",0,0,0,0,0,0,null,null,null,null,null,null,null,null,null,null,null,null,null,null,null,null,null,null,null,null,null,null,null,null,null,null,null,null,null,null,null,null,null,null,null,null,null,null,null,null,null,null,null,null,null,null,null,null,null,null,null,null,{"$f":"Раздел2!C49","v":0}]
["Военно-спортивное многоборье","42",0,0,0,0,0,0,null,null,null,null,null,null,null,null,null,null,null,null,null,null,null,null,null,null,null,null,null,null,null,null,null,null,null,null,null,null,null,null,null,null,null,null,null,null,null,null,null,null,null,null,null,null,null,null,null,null,null,null,{"$f":"Раздел2!C50","v":0}]
["Воздухоплавательный спорт","43",0,0,0,0,0,0,null,null,null,null,null,null,null,null,null,null,null,null,null,null,null,null,null,null,null,null,null,null,null,null,null,null,null,null,null,null,null,null,null,null,null,null,null,null,null,null,null,null,null,null,null,null,null,null,null,null,null,null,{"$f":"Раздел2!C51","v":0}]
["Воздушно-силовая атлетика","44",0,0,0,0,0,0,null,null,null,null,null,null,null,null,null,null,null,null,null,null,null,null,null,null,null,null,null,null,null,null,null,null,null,null,null,null,null,null,null,null,null,null,null,null,null,null,null,null,null,null,null,null,null,null,null,null,null,null,{"$f":"Раздел2!C52","v":0}]
["Волейбол - всего","45",0,0,0,0,0,0,{"$f":"SUM(I53:I56)","v":0},{"$f":"SUM(J53:J56)","v":0},0,0,0,0,0,0,0,0,0,0,0,0,0,0,0,0,0,0,0,0,0,0,0,0,0,0,0,0,0,0,0,0,0,0,0,0,0,0,0,0,0,0,0,0,0,0,0,0,null,null,{"$f":"Раздел2!C53","v":0}]
["в том числе:\nВолейбол (муж.)","46",0,0,0,0,0,0,null,null,null,null,null,null,null,null,null,null,null,null,null,null,null,null,null,null,null,null,null,null,null,null,null,null,null,null,null,null,null,null,null,null,null,null,null,null,null,null,null,null,null,null,null,null,null,null,null,null,null,null,{"$f":"Раздел2!C54","v":0}]
["Волейбол (жен.)","47",0,0,0,0,0,0,null,null,null,null,null,null,null,null,null,null,null,null,null,null,null,null,null,null,null,null,null,null,null,null,null,null,null,null,null,null,null,null,null,null,null,null,null,null,null,null,null,null,null,null,null,null,null,null,null,null,null,null,{"$f":"Раздел2!C55","v":0}]
["Пляжный волейбол (муж.)","48",0,0,0,0,0,0,null,null,null,null,null,null,null,null,null,null,null,null,null,null,null,null,null,null,null,null,null,null,null,null,null,null,null,null,null,null,null,null,null,null,null,null,null,null,null,null,null,null,null,null,null,null,null,null,null,null,null,null,{"$f":"Раздел2!C56","v":0}]
["Пляжный волейбол (жен.)","49",0,0,0,0,0,0,null,null,null,null,null,null,null,null,null,null,null,null,null,null,null,null,null,null,null,null,null,null,null,null,null,null,null,null,null,null,null,null,null,null,null,null,null,null,null,null,null,null,null,null,null,null,null,null,null,null,null,null,{"$f":"Раздел2!C57","v":0}]
["Восточное боевое единоборство","50",0,0,0,0,0,0,null,null,null,null,null,null,null,null,null,null,null,null,null,null,null,null,null,null,null,null,null,null,null,null,null,null,null,null,null,null,null,null,null,null,null,null,null,null,null,null,null,null,null,null,null,null,null,null,null,null,null,null,{"$f":"Раздел2!C58","v":0}]
["Всестилевое каратэ","51",0,0,0,0,0,0,null,null,null,null,null,null,null,null,null,null,null,null,null,null,null,null,null,null,null,null,null,null,null,null,null,null,null,null,null,null,null,null,null,null,null,null,null,null,null,null,null,null,null,null,null,null,null,null,null,null,null,null,{"$f":"Раздел2!C59","v":0}]
["Гандбол - всего","52",0,0,0,0,0,0,{"$f":"SUM(I60:I62)","v":0},{"$f":"SUM(J60:J62)","v":0},0,0,0,0,0,0,0,0,0,0,0,0,0,0,0,0,0,0,0,0,0,0,0,0,0,0,0,0,0,0,0,0,0,0,0,0,0,0,0,0,0,0,0,0,0,0,0,0,null,null,{"$f":"Раздел2!C60","v":0}]
["в том числе:\nГандбол (муж.)","53",0,0,0,0,0,0,null,null,null,null,null,null,null,null,null,null,null,null,null,null,null,null,null,null,null,null,null,null,null,null,null,null,null,null,null,null,null,null,null,null,null,null,null,null,null,null,null,null,null,null,null,null,null,null,null,null,null,null,{"$f":"Раздел2!C61","v":0}]
["Гандбол (жен.)","54",0,0,0,0,0,0,null,null,null,null,null,null,null,null,null,null,null,null,null,null,null,null,null,null,null,null,null,null,null,null,null,null,null,null,null,null,null,null,null,null,null,null,null,null,null,null,null,null,null,null,null,null,null,null,null,null,null,null,{"$f":"Раздел2!C62","v":0}]
["Пляжный гандбол","55",0,0,0,0,0,0,null,null,null,null,null,null,null,null,null,null,null,null,null,null,null,null,null,null,null,null,null,null,null,null,null,null,null,null,null,null,null,null,null,null,null,null,null,null,null,null,null,null,null,null,null,null,null,null,null,null,null,null,{"$f":"Раздел2!C63","v":0}]
["Гиревой спорт","56",0,0,0,0,0,0,null,null,null,null,null,null,null,null,null,null,null,null,null,null,null,null,null,null,null,null,null,null,null,null,null,null,null,null,null,null,null,null,null,null,null,null,null,null,null,null,null,null,null,null,null,null,null,null,null,null,null,null,{"$f":"Раздел2!C64","v":0}]
["Го","57",0,0,0,0,0,0,null,null,null,null,null,null,null,null,null,null,null,null,null,null,null,null,null,null,null,null,null,null,null,null,null,null,null,null,null,null,null,null,null,null,null,null,null,null,null,null,null,null,null,null,null,null,null,null,null,null,null,null,{"$f":"Раздел2!C65","v":0}]
["Гольф","58",0,0,0,0,0,0,null,null,null,null,null,null,null,null,null,null,null,null,null,null,null,null,null,null,null,null,null,null,null,null,null,null,null,null,null,null,null,null,null,null,null,null,null,null,null,null,null,null,null,null,null,null,null,null,null,null,null,null,{"$f":"Раздел2!C66","v":0}]
["Гонки на охотничьих лыжах","59",0,0,0,0,0,0,null,null,null,null,null,null,null,null,null,null,null,null,null,null,null,null,null,null,null,null,null,null,null,null,null,null,null,null,null,null,null,null,null,null,null,null,null,null,null,null,null,null,null,null,null,null,null,null,null,null,null,null,{"$f":"Раздел2!C67","v":0}]
["Гонки с препятствиями","60",0,0,0,0,0,0,null,null,null,null,null,null,null,null,null,null,null,null,null,null,null,null,null,null,null,null,null,null,null,null,null,null,null,null,null,null,null,null,null,null,null,null,null,null,null,null,null,null,null,null,null,null,null,null,null,null,null,null,{"$f":"Раздел2!C68","v":0}]
["Горнолыжный спорт","61",0,0,0,0,0,0,null,null,null,null,null,null,null,null,null,null,null,null,null,null,null,null,null,null,null,null,null,null,null,null,null,null,null,null,null,null,null,null,null,null,null,null,null,null,null,null,null,null,null,null,null,null,null,null,null,null,null,null,{"$f":"Раздел2!C69","v":0}]
["Городошный спорт","62",0,0,0,0,0,0,null,null,null,null,null,null,null,null,null,null,null,null,null,null,null,null,null,null,null,null,null,null,null,null,null,null,null,null,null,null,null,null,null,null,null,null,null,null,null,null,null,null,null,null,null,null,null,null,null,null,null,null,{"$f":"Раздел2!C70","v":0}]
["Гребля на байдарках и каноэ","63",0,0,0,0,0,0,null,null,null,null,null,null,null,null,null,null,null,null,null,null,null,null,null,null,null,null,null,null,null,null,null,null,null,null,null,null,null,null,null,null,null,null,null,null,null,null,null,null,null,null,null,null,null,null,null,null,null,null,{"$f":"Раздел2!C71","v":0}]
["Гребля на шлюпках","64",0,0,0,0,0,0,null,null,null,null,null,null,null,null,null,null,null,null,null,null,null,null,null,null,null,null,null,null,null,null,null,null,null,null,null,null,null,null,null,null,null,null,null,null,null,null,null,null,null,null,null,null,null,null,null,null,null,null,{"$f":"Раздел2!C72","v":0}]
["Гребной слалом","65",0,0,0,0,0,0,null,null,null,null,null,null,null,null,null,null,null,null,null,null,null,null,null,null,null,null,null,null,null,null,null,null,null,null,null,null,null,null,null,null,null,null,null,null,null,null,null,null,null,null,null,null,null,null,null,null,null,null,{"$f":"Раздел2!C73","v":0}]
["Гребной спорт - всего","66",{"$f":"SUM(D73:F73)","v":0},{"$f":"SUM(I73,N73,S73,X73,AC73,AH73,AM73,AR73,AW73,BB73)","v":0},{"$f":"SUM(J73,O73,T73,Y73,AD73,AI73,AN73,AS73,AX73,BC73)","v":0},{"$f":"SUM(K73,P73,U73,Z73,AE73,AJ73,AO73,AT73,AY73,BD73)","v":0},{"$f":"SUM(L73,Q73,V73,AA73,AF73,AK73,AP73,AU73,AZ73,BE73)","v":0},{"$f":"SUM(M73,R73,W73,AB73,AG73,AL73,AQ73,AV73,BA73,BF73)","v":0},{"$f":"SUM(I74:I77)","v":0},{"$f":"SUM(J74:J77)","v":0},0,0,0,0,0,0,0,0,0,0,0,0,0,0,0,0,0,0,0,0,0,0,0,0,0,0,0,0,0,0,0,0,0,0,0,0,0,0,0,0,0,0,0,0,0,0,0,0,null,null,{"$f":"Раздел2!C74","v":0}]
["в том числе:\nАкадемическая гребля","67",0,0,0,0,0,0,null,null,null,null,null,null,null,null,null,null,null,null,null,null,null,null,null,null,null,null,null,null,null,null,null,null,null,null,null,null,null,null,null,null,null,null,null,null,null,null,null,null,null,null,null,null,null,null,null,null,null,null,{"$f":"Раздел2!C75","v":0}]
["Гребля-индор","68",0,0,0,0,0,0,null,null,null,null,null,null,null,null,null,null,null,null,null,null,null,null,null,null,null,null,null,null,null,null,null,null,null,null,null,null,null,null,null,null,null,null,null,null,null,null,null,null,null,null,null,null,null,null,null,null,null,null,{"$f":"Раздел2!C76","v":0}]
["Народная гребля","69",0,0,0,0,0,0,null,null,null,null,null,null,null,null,null,null,null,null,null,null,null,null,null,null,null,null,null,null,null,null,null,null,null,null,null,null,null,null,null,null,null,null,null,null,null,null,null,null,null,null,null,null,null,null,null,null,null,null,{"$f":"Раздел2!C77","v":0}]
["Прибрежная гребля","70",0,0,0,0,0,0,null,null,null,null,null,null,null,null,null,null,null,null,null,null,null,null,null,null,null,null,null,null,null,null,null,null,null,null,null,null,null,null,null,null,null,null,null,null,null,null,null,null,null,null,null,null,null,null,null,null,null,null,{"$f":"Раздел2!C78","v":0}]
["Гребно-парусное двоеборье","71",0,0,0,0,0,0,null,null,null,null,null,null,null,null,null,null,null,null,null,null,null,null,null,null,null,null,null,null,null,null,null,null,null,null,null,null,null,null,null,null,null,null,null,null,null,null,null,null,null,null,null,null,null,null,null,null,null,null,{"$f":"Раздел2!C79","v":0}]
["Дартс","72",0,0,0,0,0,0,null,null,null,null,null,null,null,null,null,null,null,null,null,null,null,null,null,null,null,null,null,null,null,null,null,null,null,null,null,null,null,null,null,null,null,null,null,null,null,null,null,null,null,null,null,null,null,null,null,null,null,null,{"$f":"Раздел2!C80","v":0}]
["Джиу-джитсу","73",0,0,0,0,0,0,null,null,null,null,null,null,null,null,null,null,null,null,null,null,null,null,null,null,null,null,null,null,null,null,null,null,null,null,null,null,null,null,null,null,null,null,null,null,null,null,null,null,null,null,null,null,null,null,null,null,null,null,{"$f":"Раздел2!C81","v":0}]
["Дзюдо","74",0,0,0,0,0,0,null,null,null,null,null,null,null,null,null,null,null,null,null,null,null,null,null,null,null,null,null,null,null,null,null,null,null,null,null,null,null,null,null,null,null,null,null,null,null,null,null,null,null,null,null,null,null,null,null,null,null,null,{"$f":"Раздел2!C82","v":1}]
["Ездовой спорт","75",0,0,0,0,0,0,null,null,null,null,null,null,null,null,null,null,null,null,null,null,null,null,null,null,null,null,null,null,null,null,null,null,null,null,null,null,null,null,null,null,null,null,null,null,null,null,null,null,null,null,null,null,null,null,null,null,null,null,{"$f":"Раздел2!C83","v":0}]
["Зимнее плавание","76",0,0,0,0,0,0,null,null,null,null,null,null,null,null,null,null,null,null,null,null,null,null,null,null,null,null,null,null,null,null,null,null,null,null,null,null,null,null,null,null,null,null,null,null,null,null,null,null,null,null,null,null,null,null,null,null,null,null,{"$f":"Раздел2!C84","v":0}]
["Капоэйра","77",0,0,0,0,0,0,null,null,null,null,null,null,null,null,null,null,null,null,null,null,null,null,null,null,null,null,null,null,null,null,null,null,null,null,null,null,null,null,null,null,null,null,null,null,null,null,null,null,null,null,null,null,null,null,null,null,null,null,{"$f":"Раздел2!C85","v":0}]
["Каратэ","78",0,0,0,0,0,0,null,null,null,null,null,null,null,null,null,null,null,null,null,null,null,null,null,null,null,null,null,null,null,null,null,null,null,null,null,null,null,null,null,null,null,null,null,null,null,null,null,null,null,null,null,null,null,null,null,null,null,null,{"$f":"Раздел2!C86","v":0}]
["Кендо","79",0,0,0,0,0,0,null,null,null,null,null,null,null,null,null,null,null,null,null,null,null,null,null,null,null,null,null,null,null,null,null,null,null,null,null,null,null,null,null,null,null,null,null,null,null,null,null,null,null,null,null,null,null,null,null,null,null,null,{"$f":"Раздел2!C87","v":0}]
["Керешу","80",0,0,0,0,0,0,null,null,null,null,null,null,null,null,null,null,null,null,null,null,null,null,null,null,null,null,null,null,null,null,null,null,null,null,null,null,null,null,null,null,null,null,null,null,null,null,null,null,null,null,null,null,null,null,null,null,null,null,{"$f":"Раздел2!C88","v":0}]
["Кёрлинг - всего","81",0,0,0,0,0,0,{"$f":"SUM(I89:I91)","v":0},{"$f":"SUM(J89:J91)","v":0},0,0,0,0,0,0,0,0,0,0,0,0,0,0,0,0,0,0,0,0,0,0,0,0,0,0,0,0,0,0,0,0,0,0,0,0,0,0,0,0,0,0,0,0,0,0,0,0,null,null,{"$f":"Раздел2!C89","v":0}]
["в том числе:\nКерлинг (муж.)","82",0,0,0,0,0,0,null,null,null,null,null,null,null,null,null,null,null,null,null,null,null,null,null,null,null,null,null,null,null,null,null,null,null,null,null,null,null,null,null,null,null,null,null,null,null,null,null,null,null,null,null,null,null,null,null,null,null,null,{"$f":"Раздел2!C90","v":0}]
["Керлинг (жен.)","83",0,0,0,0,0,0,null,null,null,null,null,null,null,null,null,null,null,null,null,null,null,null,null,null,null,null,null,null,null,null,null,null,null,null,null,null,null,null,null,null,null,null,null,null,null,null,null,null,null,null,null,null,null,null,null,null,null,null,{"$f":"Раздел2!C91","v":0}]
["Кёрлинг – смешанные пары","84",0,0,0,0,0,0,null,null,null,null,null,null,null,null,null,null,null,null,null,null,null,null,null,null,null,null,null,null,null,null,null,null,null,null,null,null,null,null,null,null,null,null,null,null,null,null,null,null,null,null,null,null,null,null,null,null,null,null,{"$f":"Раздел2!C92","v":0}]
["Кикбоксинг","85",0,0,0,0,0,0,null,null,null,null,null,null,null,null,null,null,null,null,null,null,null,null,null,null,null,null,null,null,null,null,null,null,null,null,null,null,null,null,null,null,null,null,null,null,null,null,null,null,null,null,null,null,null,null,null,null,null,null,{"$f":"Раздел2!C93","v":0}]
["Кинологический спорт","86",0,0,0,0,0,0,null,null,null,null,null,null,null,null,null,null,null,null,null,null,null,null,null,null,null,null,null,null,null,null,null,null,null,null,null,null,null,null,null,null,null,null,null,null,null,null,null,null,null,null,null,null,null,null,null,null,null,null,{"$f":"Раздел2!C94","v":0}]
["Киокусинкай","87",0,0,0,0,0,0,null,null,null,null,null,null,null,null,null,null,null,null,null,null,null,null,null,null,null,null,null,null,null,null,null,null,null,null,null,null,null,null,null,null,null,null,null,null,null,null,null,null,null,null,null,null,null,null,null,null,null,null,{"$f":"Раздел2!C95","v":0}]
["Киокушин","88",0,0,0,0,0,0,null,null,null,null,null,null,null,null,null,null,null,null,null,null,null,null,null,null,null,null,null,null,null,null,null,null,null,null,null,null,null,null,null,null,null,null,null,null,null,null,null,null,null,null,null,null,null,null,null,null,null,null,{"$f":"Раздел2!C96","v":0}]
["Комплексное единоборство","89",0,0,0,0,0,0,null,null,null,null,null,null,null,null,null,null,null,null,null,null,null,null,null,null,null,null,null,null,null,null,null,null,null,null,null,null,null,null,null,null,null,null,null,null,null,null,null,null,null,null,null,null,null,null,null,null,null,null,{"$f":"Раздел2!C97","v":0}]
["Компьютерный спорт","90",0,0,0,0,0,0,null,null,null,null,null,null,null,null,null,null,null,null,null,null,null,null,null,null,null,null,null,null,null,null,null,null,null,null,null,null,null,null,null,null,null,null,null,null,null,null,null,null,null,null,null,null,null,null,null,null,null,null,{"$f":"Раздел2!C98","v":0}]
["Конный спорт","91",0,0,0,0,0,0,null,null,null,null,null,null,null,null,null,null,null,null,null,null,null,null,null,null,null,null,null,null,null,null,null,null,null,null,null,null,null,null,null,null,null,null,null,null,null,null,null,null,null,null,null,null,null,null,null,null,null,null,{"$f":"Раздел2!C99","v":0}]
["Конькобежный спорт - всего","92",0,0,0,0,0,0,{"$f":"SUM(I100:I101)","v":0},{"$f":"SUM(J100:J101)","v":0},0,0,0,0,0,0,0,0,0,0,0,0,0,0,0,0,0,0,0,0,0,0,0,0,0,0,0,0,0,0,0,0,0,0,0,0,0,0,0,0,0,0,0,0,0,0,0,0,null,null,{"$f":"Раздел2!C100","v":0}]
["в том числе:\nКонькобежный спорт","93",0,0,0,0,0,0,null,null,null,null,null,null,null,null,null,null,null,null,null,null,null,null,null,null,null,null,null,null,null,null,null,null,null,null,null,null,null,null,null,null,null,null,null,null,null,null,null,null,null,null,null,null,null,null,null,null,null,null,{"$f":"Раздел2!C101","v":0}]
["Шорт-трек","94",0,0,0,0,0,0,null,null,null,null,null,null,null,null,null,null,null,null,null,null,null,null,null,null,null,null,null,null,null,null,null,null,null,null,null,null,null,null,null,null,null,null,null,null,null,null,null,null,null,null,null,null,null,null,null,null,null,null,{"$f":"Раздел2!C102","v":0}]
["Корэш","95",0,0,0,0,0,0,null,null,null,null,null,null,null,null,null,null,null,null,null,null,null,null,null,null,null,null,null,null,null,null,null,null,null,null,null,null,null,null,null,null,null,null,null,null,null,null,null,null,null,null,null,null,null,null,null,null,null,null,{"$f":"Раздел2!C103","v":0}]
["Крикет","96",0,0,0,0,0,0,null,null,null,null,null,null,null,null,null,null,null,null,null,null,null,null,null,null,null,null,null,null,null,null,null,null,null,null,null,null,null,null,null,null,null,null,null,null,null,null,null,null,null,null,null,null,null,null,null,null,null,null,{"$f":"Раздел2!C104","v":0}]
["Кудо","97",0,0,0,0,0,0,null,null,null,null,null,null,null,null,null,null,null,null,null,null,null,null,null,null,null,null,null,null,null,null,null,null,null,null,null,null,null,null,null,null,null,null,null,null,null,null,null,null,null,null,null,null,null,null,null,null,null,null,{"$f":"Раздел2!C105","v":0}]
["Лапта","98",0,0,0,0,0,0,null,null,null,null,null,null,null,null,null,null,null,null,null,null,null,null,null,null,null,null,null,null,null,null,null,null,null,null,null,null,null,null,null,null,null,null,null,null,null,null,null,null,null,null,null,null,null,null,null,null,null,null,{"$f":"Раздел2!C106","v":0}]
["Легкая атлетика - всего","99",0,0,0,0,0,0,{"$f":"SUM(I107:I113)","v":0},{"$f":"SUM(J107:J113)","v":0},0,0,0,0,0,0,0,0,0,0,0,0,0,0,0,0,0,0,0,0,0,0,0,0,0,0,0,0,0,0,0,0,0,0,0,0,0,0,0,0,0,0,0,0,0,0,0,0,null,null,{"$f":"Раздел2!C107","v":1}]
["в том числе:\nСпринтерский и барьерный бег","100",0,0,0,0,0,0,null,null,null,null,null,null,null,null,null,null,null,null,null,null,null,null,null,null,null,null,null,null,null,null,null,null,null,null,null,null,null,null,null,null,null,null,null,null,null,null,null,null,null,null,null,null,null,null,null,null,null,null,{"$f":"Раздел2!C108","v":1}]
["Бег на средние дистанции и бег с препятствиями","101",0,0,0,0,0,0,null,null,null,null,null,null,null,null,null,null,null,null,null,null,null,null,null,null,null,null,null,null,null,null,null,null,null,null,null,null,null,null,null,null,null,null,null,null,null,null,null,null,null,null,null,null,null,null,null,null,null,null,{"$f":"Раздел2!C109","v":1}]
["Бег на длинные и сверхдлинные дистанции","102",0,0,0,0,0,0,null,null,null,null,null,null,null,null,null,null,null,null,null,null,null,null,null,null,null,null,null,null,null,null,null,null,null,null,null,null,null,null,null,null,null,null,null,null,null,null,null,null,null,null,null,null,null,null,null,null,null,null,{"$f":"Раздел2!C110","v":0}]
["Многоборья","103",0,0,0,0,0,0,null,null,null,null,null,null,null,null,null,null,null,null,null,null,null,null,null,null,null,null,null,null,null,null,null,null,null,null,null,null,null,null,null,null,null,null,null,null,null,null,null,null,null,null,null,null,null,null,null,null,null,null,{"$f":"Раздел2!C111","v":1}]
["Прыжки","104",0,0,0,0,0,0,null,null,null,null,null,null,null,null,null,null,null,null,null,null,null,null,null,null,null,null,null,null,null,null,null,null,null,null,null,null,null,null,null,null,null,null,null,null,null,null,null,null,null,null,null,null,null,null,null,null,null,null,{"$f":"Раздел2!C112","v":1}]
["Метания","105",0,0,0,0,0,0,null,null,null,null,null,null,null,null,null,null,null,null,null,null,null,null,null,null,null,null,null,null,null,null,null,null,null,null,null,null,null,null,null,null,null,null,null,null,null,null,null,null,null,null,null,null,null,null,null,null,null,null,{"$f":"Раздел2!C113","v":1}]
["Спортивная ходьба","106",0,0,0,0,0,0,null,null,null,null,null,null,null,null,null,null,null,null,null,null,null,null,null,null,null,null,null,null,null,null,null,null,null,null,null,null,null,null,null,null,null,null,null,null,null,null,null,null,null,null,null,null,null,null,null,null,null,null,{"$f":"Раздел2!C114","v":0}]
["Лыжное двоеборье","107",0,0,0,0,0,0,null,null,null,null,null,null,null,null,null,null,null,null,null,null,null,null,null,null,null,null,null,null,null,null,null,null,null,null,null,null,null,null,null,null,null,null,null,null,null,null,null,null,null,null,null,null,null,null,null,null,null,null,{"$f":"Раздел2!C115","v":0}]
["Лыжные гонки","108",0,0,0,0,0,0,null,null,null,null,null,null,null,null,null,null,null,null,null,null,null,null,null,null,null,null,null,null,null,null,null,null,null,null,null,null,null,null,null,null,null,null,null,null,null,null,null,null,null,null,null,null,null,null,null,null,null,null,{"$f":"Раздел2!C116","v":1}]
["Мас-рестлинг","109",0,0,0,0,0,0,null,null,null,null,null,null,null,null,null,null,null,null,null,null,null,null,null,null,null,null,null,null,null,null,null,null,null,null,null,null,null,null,null,null,null,null,null,null,null,null,null,null,null,null,null,null,null,null,null,null,null,null,{"$f":"Раздел2!C117","v":0}]
["Международное военно-спортивное многоборье","110",0,0,0,0,0,0,null,null,null,null,null,null,null,null,null,null,null,null,null,null,null,null,null,null,null,null,null,null,null,null,null,null,null,null,null,null,null,null,null,null,null,null,null,null,null,null,null,null,null,null,null,null,null,null,null,null,null,null,{"$f":"Раздел2!C118","v":0}]
["Микрофутзал","111",0,0,0,0,0,0,null,null,null,null,null,null,null,null,null,null,null,null,null,null,null,null,null,null,null,null,null,null,null,null,null,null,null,null,null,null,null,null,null,null,null,null,null,null,null,null,null,null,null,null,null,null,null,null,null,null,null,null,{"$f":"Раздел2!C119","v":0}]
["Многоборье кинологов","112",0,0,0,0,0,0,null,null,null,null,null,null,null,null,null,null,null,null,null,null,null,null,null,null,null,null,null,null,null,null,null,null,null,null,null,null,null,null,null,null,null,null,null,null,null,null,null,null,null,null,null,null,null,null,null,null,null,null,{"$f":"Раздел2!C120","v":0}]
["Многоборье спасателей МЧС России","113",0,0,0,0,0,0,null,null,null,null,null,null,null,null,null,null,null,null,null,null,null,null,null,null,null,null,null,null,null,null,null,null,null,null,null,null,null,null,null,null,null,null,null,null,null,null,null,null,null,null,null,null,null,null,null,null,null,null,{"$f":"Раздел2!C121","v":0}]
["Морское многоборье","114",0,0,0,0,0,0,null,null,null,null,null,null,null,null,null,null,null,null,null,null,null,null,null,null,null,null,null,null,null,null,null,null,null,null,null,null,null,null,null,null,null,null,null,null,null,null,null,null,null,null,null,null,null,null,null,null,null,null,{"$f":"Раздел2!C122","v":0}]
["Мотоциклетный спорт","115",0,0,0,0,0,0,null,null,null,null,null,null,null,null,null,null,null,null,null,null,null,null,null,null,null,null,null,null,null,null,null,null,null,null,null,null,null,null,null,null,null,null,null,null,null,null,null,null,null,null,null,null,null,null,null,null,null,null,{"$f":"Раздел2!C123","v":0}]
["Нарды","116",0,0,0,0,0,0,null,null,null,null,null,null,null,null,null,null,null,null,null,null,null,null,null,null,null,null,null,null,null,null,null,null,null,null,null,null,null,null,null,null,null,null,null,null,null,null,null,null,null,null,null,null,null,null,null,null,null,null,{"$f":"Раздел2!C124","v":0}]
["Настольный теннис","117",0,0,0,0,0,0,null,null,null,null,null,null,null,null,null,null,null,null,null,null,null,null,null,null,null,null,null,null,null,null,null,null,null,null,null,null,null,null,null,null,null,null,null,null,null,null,null,null,null,null,null,null,null,null,null,null,null,null,{"$f":"Раздел2!C125","v":0}]
["Падел","118",0,0,0,0,0,0,null,null,null,null,null,null,null,null,null,null,null,null,null,null,null,null,null,null,null,null,null,null,null,null,null,null,null,null,null,null,null,null,null,null,null,null,null,null,null,null,null,null,null,null,null,null,null,null,null,null,null,null,{"$f":"Раздел2!C126","v":0}]
["Парашютный спорт","119",0,0,0,0,0,0,null,null,null,null,null,null,null,null,null,null,null,null,null,null,null,null,null,null,null,null,null,null,null,null,null,null,null,null,null,null,null,null,null,null,null,null,null,null,null,null,null,null,null,null,null,null,null,null,null,null,null,null,{"$f":"Раздел2!C127","v":0}]
["Парусный спорт","120",0,0,0,0,0,0,null,null,null,null,null,null,null,null,null,null,null,null,null,null,null,null,null,null,null,null,null,null,null,null,null,null,null,null,null,null,null,null,null,null,null,null,null,null,null,null,null,null,null,null,null,null,null,null,null,null,null,null,{"$f":"Раздел2!C128","v":0}]
["Пауэрлифтинг","121",0,0,0,0,0,0,null,null,null,null,null,null,null,null,null,null,null,null,null,null,null,null,null,null,null,null,null,null,null,null,null,null,null,null,null,null,null,null,null,null,null,null,null,null,null,null,null,null,null,null,null,null,null,null,null,null,null,null,{"$f":"Раздел2!C129","v":0}]
["Перетягивание каната","122",0,0,0,0,0,0,null,null,null,null,null,null,null,null,null,null,null,null,null,null,null,null,null,null,null,null,null,null,null,null,null,null,null,null,null,null,null,null,null,null,null,null,null,null,null,null,null,null,null,null,null,null,null,null,null,null,null,null,{"$f":"Раздел2!C130","v":0}]
["Пилонный спорт","123",0,0,0,0,0,0,null,null,null,null,null,null,null,null,null,null,null,null,null,null,null,null,null,null,null,null,null,null,null,null,null,null,null,null,null,null,null,null,null,null,null,null,null,null,null,null,null,null,null,null,null,null,null,null,null,null,null,null,{"$f":"Раздел2!C131","v":0}]
["Плавание - всего","124",0,0,0,0,0,0,{"$f":"SUM(I132:I133)","v":0},{"$f":"SUM(J132:J133)","v":0},0,0,0,0,0,0,0,0,0,0,0,0,0,0,0,0,0,0,0,0,0,0,0,0,0,0,0,0,0,0,0,0,0,0,0,0,0,0,0,0,0,0,0,0,0,0,0,0,null,null,{"$f":"Раздел2!C132","v":0}]
["в том числе:\nПлавание ","125",0,0,0,0,0,0,null,null,null,null,null,null,null,null,null,null,null,null,null,null,null,null,null,null,null,null,null,null,null,null,null,null,null,null,null,null,null,null,null,null,null,null,null,null,null,null,null,null,null,null,null,null,null,null,null,null,null,null,{"$f":"Раздел2!C133","v":0}]
["Открытая вода","126",0,0,0,0,0,0,null,null,null,null,null,null,null,null,null,null,null,null,null,null,null,null,null,null,null,null,null,null,null,null,null,null,null,null,null,null,null,null,null,null,null,null,null,null,null,null,null,null,null,null,null,null,null,null,null,null,null,null,{"$f":"Раздел2!C134","v":0}]
["Планерный спорт","127",0,0,0,0,0,0,null,null,null,null,null,null,null,null,null,null,null,null,null,null,null,null,null,null,null,null,null,null,null,null,null,null,null,null,null,null,null,null,null,null,null,null,null,null,null,null,null,null,null,null,null,null,null,null,null,null,null,null,{"$f":"Раздел2!C135","v":0}]
["Подводный спорт","128",0,0,0,0,0,0,null,null,null,null,null,null,null,null,null,null,null,null,null,null,null,null,null,null,null,null,null,null,null,null,null,null,null,null,null,null,null,null,null,null,null,null,null,null,null,null,null,null,null,null,null,null,null,null,null,null,null,null,{"$f":"Раздел2!C136","v":0}]
["Пожарно-спасательный спорт","129",0,0,0,0,0,0,null,null,null,null,null,null,null,null,null,null,null,null,null,null,null,null,null,null,null,null,null,null,null,null,null,null,null,null,null,null,null,null,null,null,null,null,null,null,null,null,null,null,null,null,null,null,null,null,null,null,null,null,{"$f":"Раздел2!C137","v":0}]
["Полиатлон","130",{"$f":"SUM(D137:F137)","v":0},{"$f":"SUM(I137,N137,S137,X137,AC137,AH137,AM137,AR137,AW137,BB137)","v":0},{"$f":"SUM(J137,O137,T137,Y137,AD137,AI137,AN137,AS137,AX137,BC137)","v":0},{"$f":"SUM(K137,P137,U137,Z137,AE137,AJ137,AO137,AT137,AY137,BD137)","v":0},{"$f":"SUM(L137,Q137,V137,AA137,AF137,AK137,AP137,AU137,AZ137,BE137)","v":0},{"$f":"SUM(M137,R137,W137,AB137,AG137,AL137,AQ137,AV137,BA137,BF137)","v":0},null,null,null,null,null,null,null,null,null,null,null,null,null,null,null,null,null,null,null,null,null,null,null,null,null,null,null,null,null,null,null,null,null,null,null,null,null,null,null,null,null,null,null,null,null,null,null,null,null,null,null,null,{"$f":"Раздел2!C138","v":0}]
["Практическая стрельба","131",0,0,0,0,0,0,null,null,null,null,null,null,null,null,null,null,null,null,null,null,null,null,null,null,null,null,null,null,null,null,null,null,null,null,null,null,null,null,null,null,null,null,null,null,null,null,null,null,null,null,null,null,null,null,null,null,null,null,{"$f":"Раздел2!C139","v":0}]
["Прыжки в воду - всего","132",0,0,0,0,0,0,{"$f":"SUM(I140:I141)","v":0},{"$f":"SUM(J140:J141)","v":0},0,0,0,0,0,0,0,0,0,0,0,0,0,0,0,0,0,0,0,0,0,0,0,0,0,0,0,0,0,0,0,0,0,0,0,0,0,0,0,0,0,0,0,0,0,0,0,0,null,null,{"$f":"Раздел2!C140","v":0}]
["в том числе:\nПрыжки в воду","133",0,0,0,0,0,0,null,null,null,null,null,null,null,null,null,null,null,null,null,null,null,null,null,null,null,null,null,null,null,null,null,null,null,null,null,null,null,null,null,null,null,null,null,null,null,null,null,null,null,null,null,null,null,null,null,null,null,null,{"$f":"Раздел2!C141","v":0}]
["Прыжки в открытый водоем","134",0,0,0,0,0,0,null,null,null,null,null,null,null,null,null,null,null,null,null,null,null,null,null,null,null,null,null,null,null,null,null,null,null,null,null,null,null,null,null,null,null,null,null,null,null,null,null,null,null,null,null,null,null,null,null,null,null,null,{"$f":"Раздел2!C142","v":0}]
["Прыжки на батуте - всего","135",0,0,0,0,0,0,{"$f":"SUM(I143:I146)","v":0},{"$f":"SUM(J143:J146)","v":0},0,0,0,0,0,0,0,0,0,0,0,0,0,0,0,0,0,0,0,0,0,0,0,0,0,0,0,0,0,0,0,0,0,0,0,0,0,0,0,0,0,0,0,0,0,0,0,0,null,null,{"$f":"Раздел2!C143","v":0}]
["в том числе:\nАкробатическая дорожка","136",0,0,0,0,0,0,null,null,null,null,null,null,null,null,null,null,null,null,null,null,null,null,null,null,null,null,null,null,null,null,null,null,null,null,null,null,null,null,null,null,null,null,null,null,null,null,null,null,null,null,null,null,null,null,null,null,null,null,{"$f":"Раздел2!C144","v":0}]
["Двойной минитрамп","137",0,0,0,0,0,0,null,null,null,null,null,null,null,null,null,null,null,null,null,null,null,null,null,null,null,null,null,null,null,null,null,null,null,null,null,null,null,null,null,null,null,null,null,null,null,null,null,null,null,null,null,null,null,null,null,null,null,null,{"$f":"Раздел2!C145","v":0}]
["Индивидуальные прыжки","138",0,0,0,0,0,0,null,null,null,null,null,null,null,null,null,null,null,null,null,null,null,null,null,null,null,null,null,null,null,null,null,null,null,null,null,null,null,null,null,null,null,null,null,null,null,null,null,null,null,null,null,null,null,null,null,null,null,null,{"$f":"Раздел2!C146","v":0}]
["Синхронные прыжки","139",0,0,0,0,0,0,null,null,null,null,null,null,null,null,null,null,null,null,null,null,null,null,null,null,null,null,null,null,null,null,null,null,null,null,null,null,null,null,null,null,null,null,null,null,null,null,null,null,null,null,null,null,null,null,null,null,null,null,{"$f":"Раздел2!C147","v":0}]
["Прыжки на лыжах с трамплина","140",0,0,0,0,0,0,null,null,null,null,null,null,null,null,null,null,null,null,null,null,null,null,null,null,null,null,null,null,null,null,null,null,null,null,null,null,null,null,null,null,null,null,null,null,null,null,null,null,null,null,null,null,null,null,null,null,null,null,{"$f":"Раздел2!C148","v":0}]
["Пулевая стрельба - всего","141",0,0,0,0,0,0,{"$f":"SUM(I149:I153)","v":0},{"$f":"SUM(J149:J153)","v":0},0,0,0,0,0,0,0,0,0,0,0,0,0,0,0,0,0,0,0,0,0,0,0,0,0,0,0,0,0,0,0,0,0,0,0,0,0,0,0,0,0,0,0,0,0,0,0,0,null,null,{"$f":"Раздел2!C149","v":0}]
["в том числе:\nПневматическая винтовка","142",0,0,0,0,0,0,null,null,null,null,null,null,null,null,null,null,null,null,null,null,null,null,null,null,null,null,null,null,null,null,null,null,null,null,null,null,null,null,null,null,null,null,null,null,null,null,null,null,null,null,null,null,null,null,null,null,null,null,{"$f":"Раздел2!C150","v":0}]
["Пневматический пистолет","143",0,0,0,0,0,0,null,null,null,null,null,null,null,null,null,null,null,null,null,null,null,null,null,null,null,null,null,null,null,null,null,null,null,null,null,null,null,null,null,null,null,null,null,null,null,null,null,null,null,null,null,null,null,null,null,null,null,null,{"$f":"Раздел2!C151","v":0}]
["Малокалиберная винтовка","144",0,0,0,0,0,0,null,null,null,null,null,null,null,null,null,null,null,null,null,null,null,null,null,null,null,null,null,null,null,null,null,null,null,null,null,null,null,null,null,null,null,null,null,null,null,null,null,null,null,null,null,null,null,null,null,null,null,null,{"$f":"Раздел2!C152","v":0}]
["Малокалиберный пистолет","145",0,0,0,0,0,0,null,null,null,null,null,null,null,null,null,null,null,null,null,null,null,null,null,null,null,null,null,null,null,null,null,null,null,null,null,null,null,null,null,null,null,null,null,null,null,null,null,null,null,null,null,null,null,null,null,null,null,null,{"$f":"Раздел2!C153","v":0}]
["Движущаяся мишень","146",0,0,0,0,0,0,null,null,null,null,null,null,null,null,null,null,null,null,null,null,null,null,null,null,null,null,null,null,null,null,null,null,null,null,null,null,null,null,null,null,null,null,null,null,null,null,null,null,null,null,null,null,null,null,null,null,null,null,{"$f":"Раздел2!C154","v":0}]
["Пэйнтбол","147",0,0,0,0,0,0,null,null,null,null,null,null,null,null,null,null,null,null,null,null,null,null,null,null,null,null,null,null,null,null,null,null,null,null,null,null,null,null,null,null,null,null,null,null,null,null,null,null,null,null,null,null,null,null,null,null,null,null,{"$f":"Раздел2!C155","v":0}]
["Радиоспорт","148",0,0,0,0,0,0,null,null,null,null,null,null,null,null,null,null,null,null,null,null,null,null,null,null,null,null,null,null,null,null,null,null,null,null,null,null,null,null,null,null,null,null,null,null,null,null,null,null,null,null,null,null,null,null,null,null,null,null,{"$f":"Раздел2!C156","v":0}]
["Рафтинг","149",0,0,0,0,0,0,null,null,null,null,null,null,null,null,null,null,null,null,null,null,null,null,null,null,null,null,null,null,null,null,null,null,null,null,null,null,null,null,null,null,null,null,null,null,null,null,null,null,null,null,null,null,null,null,null,null,null,null,{"$f":"Раздел2!C157","v":0}]
["Регби - всего","150",0,0,0,0,0,0,{"$f":"SUM(I158:I162)","v":0},{"$f":"SUM(J158:J162)","v":0},0,0,0,0,0,0,0,0,0,0,0,0,0,0,0,0,0,0,0,0,0,0,0,0,0,0,0,0,0,0,0,0,0,0,0,0,0,0,0,0,0,0,0,0,0,0,0,0,null,null,{"$f":"Раздел2!C158","v":0}]
["в том числе:\nРегби","151",0,0,0,0,0,0,null,null,null,null,null,null,null,null,null,null,null,null,null,null,null,null,null,null,null,null,null,null,null,null,null,null,null,null,null,null,null,null,null,null,null,null,null,null,null,null,null,null,null,null,null,null,null,null,null,null,null,null,{"$f":"Раздел2!C159","v":0}]
["Регби 7 (муж.)","152",0,0,0,0,0,0,null,null,null,null,null,null,null,null,null,null,null,null,null,null,null,null,null,null,null,null,null,null,null,null,null,null,null,null,null,null,null,null,null,null,null,null,null,null,null,null,null,null,null,null,null,null,null,null,null,null,null,null,{"$f":"Раздел2!C160","v":0}]
["Регби 7 (жен.)","153",0,0,0,0,0,0,null,null,null,null,null,null,null,null,null,null,null,null,null,null,null,null,null,null,null,null,null,null,null,null,null,null,null,null,null,null,null,null,null,null,null,null,null,null,null,null,null,null,null,null,null,null,null,null,null,null,null,null,{"$f":"Раздел2!C161","v":0}]
["Регби - пляжное","154",0,0,0,0,0,0,null,null,null,null,null,null,null,null,null,null,null,null,null,null,null,null,null,null,null,null,null,null,null,null,null,null,null,null,null,null,null,null,null,null,null,null,null,null,null,null,null,null,null,null,null,null,null,null,null,null,null,null,{"$f":"Раздел2!C162","v":0}]
["Регби на снегу","155",0,0,0,0,0,0,null,null,null,null,null,null,null,null,null,null,null,null,null,null,null,null,null,null,null,null,null,null,null,null,null,null,null,null,null,null,null,null,null,null,null,null,null,null,null,null,null,null,null,null,null,null,null,null,null,null,null,null,{"$f":"Раздел2!C163","v":0}]
["Регбол","156",0,0,0,0,0,0,null,null,null,null,null,null,null,null,null,null,null,null,null,null,null,null,null,null,null,null,null,null,null,null,null,null,null,null,null,null,null,null,null,null,null,null,null,null,null,null,null,null,null,null,null,null,null,null,null,null,null,null,{"$f":"Раздел2!C164","v":0}]
["Роллер спорт","157",0,0,0,0,0,0,null,null,null,null,null,null,null,null,null,null,null,null,null,null,null,null,null,null,null,null,null,null,null,null,null,null,null,null,null,null,null,null,null,null,null,null,null,null,null,null,null,null,null,null,null,null,null,null,null,null,null,null,{"$f":"Раздел2!C165","v":0}]
["Роуп скиппинг (спортивная скакалка)","158",0,0,0,0,0,0,null,null,null,null,null,null,null,null,null,null,null,null,null,null,null,null,null,null,null,null,null,null,null,null,null,null,null,null,null,null,null,null,null,null,null,null,null,null,null,null,null,null,null,null,null,null,null,null,null,null,null,null,{"$f":"Раздел2!C166","v":0}]
["Рукопашный бой","159",0,0,0,0,0,0,null,null,null,null,null,null,null,null,null,null,null,null,null,null,null,null,null,null,null,null,null,null,null,null,null,null,null,null,null,null,null,null,null,null,null,null,null,null,null,null,null,null,null,null,null,null,null,null,null,null,null,null,{"$f":"Раздел2!C167","v":0}]
["Рыболовный спорт","160",0,0,0,0,0,0,null,null,null,null,null,null,null,null,null,null,null,null,null,null,null,null,null,null,null,null,null,null,null,null,null,null,null,null,null,null,null,null,null,null,null,null,null,null,null,null,null,null,null,null,null,null,null,null,null,null,null,null,{"$f":"Раздел2!C168","v":0}]
["Сават","161",0,0,0,0,0,0,null,null,null,null,null,null,null,null,null,null,null,null,null,null,null,null,null,null,null,null,null,null,null,null,null,null,null,null,null,null,null,null,null,null,null,null,null,null,null,null,null,null,null,null,null,null,null,null,null,null,null,null,{"$f":"Раздел2!C169","v":0}]
["Самбо","162",0,0,0,0,0,0,null,null,null,null,null,null,null,null,null,null,null,null,null,null,null,null,null,null,null,null,null,null,null,null,null,null,null,null,null,null,null,null,null,null,null,null,null,null,null,null,null,null,null,null,null,null,null,null,null,null,null,null,{"$f":"Раздел2!C170","v":0}]
["Самолетный спорт","163",0,0,0,0,0,0,null,null,null,null,null,null,null,null,null,null,null,null,null,null,null,null,null,null,null,null,null,null,null,null,null,null,null,null,null,null,null,null,null,null,null,null,null,null,null,null,null,null,null,null,null,null,null,null,null,null,null,null,{"$f":"Раздел2!C171","v":0}]
["Санный спорт","164",0,0,0,0,0,0,null,null,null,null,null,null,null,null,null,null,null,null,null,null,null,null,null,null,null,null,null,null,null,null,null,null,null,null,null,null,null,null,null,null,null,null,null,null,null,null,null,null,null,null,null,null,null,null,null,null,null,null,{"$f":"Раздел2!C172","v":0}]
["Северное многоборье","165",0,0,0,0,0,0,null,null,null,null,null,null,null,null,null,null,null,null,null,null,null,null,null,null,null,null,null,null,null,null,null,null,null,null,null,null,null,null,null,null,null,null,null,null,null,null,null,null,null,null,null,null,null,null,null,null,null,null,{"$f":"Раздел2!C173","v":0}]
["Серфинг","166",0,0,0,0,0,0,null,null,null,null,null,null,null,null,null,null,null,null,null,null,null,null,null,null,null,null,null,null,null,null,null,null,null,null,null,null,null,null,null,null,null,null,null,null,null,null,null,null,null,null,null,null,null,null,null,null,null,null,{"$f":"Раздел2!C174","v":0}]
["Силовой экстрим","167",0,0,0,0,0,0,null,null,null,null,null,null,null,null,null,null,null,null,null,null,null,null,null,null,null,null,null,null,null,null,null,null,null,null,null,null,null,null,null,null,null,null,null,null,null,null,null,null,null,null,null,null,null,null,null,null,null,null,{"$f":"Раздел2!C175","v":0}]
["Синхронное плавание","168",0,0,0,0,0,0,null,null,null,null,null,null,null,null,null,null,null,null,null,null,null,null,null,null,null,null,null,null,null,null,null,null,null,null,null,null,null,null,null,null,null,null,null,null,null,null,null,null,null,null,null,null,null,null,null,null,null,null,{"$f":"Раздел2!C176","v":0}]
["Скалолазание","169",0,0,0,0,0,0,null,null,null,null,null,null,null,null,null,null,null,null,null,null,null,null,null,null,null,null,null,null,null,null,null,null,null,null,null,null,null,null,null,null,null,null,null,null,null,null,null,null,null,null,null,null,null,null,null,null,null,null,{"$f":"Раздел2!C177","v":0}]
["Сквош","170",0,0,0,0,0,0,null,null,null,null,null,null,null,null,null,null,null,null,null,null,null,null,null,null,null,null,null,null,null,null,null,null,null,null,null,null,null,null,null,null,null,null,null,null,null,null,null,null,null,null,null,null,null,null,null,null,null,null,{"$f":"Раздел2!C178","v":0}]
["Скейтбординг","171",0,0,0,0,0,0,null,null,null,null,null,null,null,null,null,null,null,null,null,null,null,null,null,null,null,null,null,null,null,null,null,null,null,null,null,null,null,null,null,null,null,null,null,null,null,null,null,null,null,null,null,null,null,null,null,null,null,null,{"$f":"Раздел2!C179","v":0}]
["Служебно-боевая стрельба ","172",0,0,0,0,0,0,null,null,null,null,null,null,null,null,null,null,null,null,null,null,null,null,null,null,null,null,null,null,null,null,null,null,null,null,null,null,null,null,null,null,null,null,null,null,null,null,null,null,null,null,null,null,null,null,null,null,null,null,{"$f":"Раздел2!C180","v":0}]
["Служебно-прикладной спорт","173",0,0,0,0,0,0,null,null,null,null,null,null,null,null,null,null,null,null,null,null,null,null,null,null,null,null,null,null,null,null,null,null,null,null,null,null,null,null,null,null,null,null,null,null,null,null,null,null,null,null,null,null,null,null,null,null,null,null,{"$f":"Раздел2!C181","v":0}]
["Служебно-прикладной спорт ФСО России","174",0,0,0,0,0,0,null,null,null,null,null,null,null,null,null,null,null,null,null,null,null,null,null,null,null,null,null,null,null,null,null,null,null,null,null,null,null,null,null,null,null,null,null,null,null,null,null,null,null,null,null,null,null,null,null,null,null,null,{"$f":"Раздел2!C182","v":0}]
["Служебно-прикладной спорт ФТС России","175",0,0,0,0,0,0,null,null,null,null,null,null,null,null,null,null,null,null,null,null,null,null,null,null,null,null,null,null,null,null,null,null,null,null,null,null,null,null,null,null,null,null,null,null,null,null,null,null,null,null,null,null,null,null,null,null,null,null,{"$f":"Раздел2!C183","v":0}]
["Служебное двоеборье","176",0,0,0,0,0,0,null,null,null,null,null,null,null,null,null,null,null,null,null,null,null,null,null,null,null,null,null,null,null,null,null,null,null,null,null,null,null,null,null,null,null,null,null,null,null,null,null,null,null,null,null,null,null,null,null,null,null,null,{"$f":"Раздел2!C184","v":0}]
["Служебное единоборство","177",0,0,0,0,0,0,null,null,null,null,null,null,null,null,null,null,null,null,null,null,null,null,null,null,null,null,null,null,null,null,null,null,null,null,null,null,null,null,null,null,null,null,null,null,null,null,null,null,null,null,null,null,null,null,null,null,null,null,{"$f":"Раздел2!C185","v":0}]
["Служебное многоборье","178",0,0,0,0,0,0,null,null,null,null,null,null,null,null,null,null,null,null,null,null,null,null,null,null,null,null,null,null,null,null,null,null,null,null,null,null,null,null,null,null,null,null,null,null,null,null,null,null,null,null,null,null,null,null,null,null,null,null,{"$f":"Раздел2!C186","v":0}]
["Служебный биатлон","179",0,0,0,0,0,0,null,null,null,null,null,null,null,null,null,null,null,null,null,null,null,null,null,null,null,null,null,null,null,null,null,null,null,null,null,null,null,null,null,null,null,null,null,null,null,null,null,null,null,null,null,null,null,null,null,null,null,null,{"$f":"Раздел2!C187","v":0}]
["Спасательный спорт","180",0,0,0,0,0,0,null,null,null,null,null,null,null,null,null,null,null,null,null,null,null,null,null,null,null,null,null,null,null,null,null,null,null,null,null,null,null,null,null,null,null,null,null,null,null,null,null,null,null,null,null,null,null,null,null,null,null,null,{"$f":"Раздел2!C188","v":0}]
["Стрельба из боевого ручного стрелкового оружия","181",0,0,0,0,0,0,null,null,null,null,null,null,null,null,null,null,null,null,null,null,null,null,null,null,null,null,null,null,null,null,null,null,null,null,null,null,null,null,null,null,null,null,null,null,null,null,null,null,null,null,null,null,null,null,null,null,null,null,{"$f":"Раздел2!C189","v":0}]
["Стрельба из штатного или табельного оружия","182",0,0,0,0,0,0,null,null,null,null,null,null,null,null,null,null,null,null,null,null,null,null,null,null,null,null,null,null,null,null,null,null,null,null,null,null,null,null,null,null,null,null,null,null,null,null,null,null,null,null,null,null,null,null,null,null,null,null,{"$f":"Раздел2!C190","v":0}]
["Стрельба на дальние дистанции","183",0,0,0,0,0,0,null,null,null,null,null,null,null,null,null,null,null,null,null,null,null,null,null,null,null,null,null,null,null,null,null,null,null,null,null,null,null,null,null,null,null,null,null,null,null,null,null,null,null,null,null,null,null,null,null,null,null,null,{"$f":"Раздел2!C191","v":0}]
["Смешанное боевое единоборство (ММА)","184",0,0,0,0,0,0,null,null,null,null,null,null,null,null,null,null,null,null,null,null,null,null,null,null,null,null,null,null,null,null,null,null,null,null,null,null,null,null,null,null,null,null,null,null,null,null,null,null,null,null,null,null,null,null,null,null,null,null,{"$f":"Раздел2!C192","v":0}]
["Сноуборд","185",0,0,0,0,0,0,null,null,null,null,null,null,null,null,null,null,null,null,null,null,null,null,null,null,null,null,null,null,null,null,null,null,null,null,null,null,null,null,null,null,null,null,null,null,null,null,null,null,null,null,null,null,null,null,null,null,null,null,{"$f":"Раздел2!C193","v":0}]
["Современное пятиборье","186",0,0,0,0,0,0,null,null,null,null,null,null,null,null,null,null,null,null,null,null,null,null,null,null,null,null,null,null,null,null,null,null,null,null,null,null,null,null,null,null,null,null,null,null,null,null,null,null,null,null,null,null,null,null,null,null,null,null,{"$f":"Раздел2!C194","v":0}]
["Софтбол","187",0,0,0,0,0,0,null,null,null,null,null,null,null,null,null,null,null,null,null,null,null,null,null,null,null,null,null,null,null,null,null,null,null,null,null,null,null,null,null,null,null,null,null,null,null,null,null,null,null,null,null,null,null,null,null,null,null,null,{"$f":"Раздел2!C195","v":0}]
["Спорт сверхлегкой авиации","188",0,0,0,0,0,0,null,null,null,null,null,null,null,null,null,null,null,null,null,null,null,null,null,null,null,null,null,null,null,null,null,null,null,null,null,null,null,null,null,null,null,null,null,null,null,null,null,null,null,null,null,null,null,null,null,null,null,null,{"$f":"Раздел2!C196","v":0}]
["Спортивная акробатика","189",0,0,0,0,0,0,null,null,null,null,null,null,null,null,null,null,null,null,null,null,null,null,null,null,null,null,null,null,null,null,null,null,null,null,null,null,null,null,null,null,null,null,null,null,null,null,null,null,null,null,null,null,null,null,null,null,null,null,{"$f":"Раздел2!C197","v":0}]
["Спортивная аэробика","190",0,0,0,0,0,0,null,null,null,null,null,null,null,null,null,null,null,null,null,null,null,null,null,null,null,null,null,null,null,null,null,null,null,null,null,null,null,null,null,null,null,null,null,null,null,null,null,null,null,null,null,null,null,null,null,null,null,null,{"$f":"Раздел2!C198","v":0}]
["Спортивная борьба - всего","191",0,0,0,0,0,0,{"$f":"SUM(I199:I203)","v":0},{"$f":"SUM(J199:J203)","v":0},0,0,0,0,0,0,0,0,0,0,0,0,0,0,0,0,0,0,0,0,0,0,0,0,0,0,0,0,0,0,0,0,0,0,0,0,0,0,0,0,0,0,0,0,0,0,0,0,null,null,{"$f":"Раздел2!C199","v":0}]
["в том числе:\nВольная борьба","192",0,0,0,0,0,0,null,null,null,null,null,null,null,null,null,null,null,null,null,null,null,null,null,null,null,null,null,null,null,null,null,null,null,null,null,null,null,null,null,null,null,null,null,null,null,null,null,null,null,null,null,null,null,null,null,null,null,null,{"$f":"Раздел2!C200","v":0}]
["Греко-римская борьба","193",0,0,0,0,0,0,null,null,null,null,null,null,null,null,null,null,null,null,null,null,null,null,null,null,null,null,null,null,null,null,null,null,null,null,null,null,null,null,null,null,null,null,null,null,null,null,null,null,null,null,null,null,null,null,null,null,null,null,{"$f":"Раздел2!C201","v":0}]
["Грэпплинг","194",{"$f":"SUM(D201:F201)","v":0},{"$f":"SUM(I201,N201,S201,X201,AC201,AH201,AM201,AR201,AW201,BB201)","v":0},{"$f":"SUM(J201,O201,T201,Y201,AD201,AI201,AN201,AS201,AX201,BC201)","v":0},{"$f":"SUM(K201,P201,U201,Z201,AE201,AJ201,AO201,AT201,AY201,BD201)","v":0},{"$f":"SUM(L201,Q201,V201,AA201,AF201,AK201,AP201,AU201,AZ201,BE201)","v":0},{"$f":"SUM(M201,R201,W201,AB201,AG201,AL201,AQ201,AV201,BA201,BF201)","v":0},null,null,null,null,null,null,null,null,null,null,null,null,null,null,null,null,null,null,null,null,null,null,null,null,null,null,null,null,null,null,null,null,null,null,null,null,null,null,null,null,null,null,null,null,null,null,null,null,null,null,null,null,{"$f":"Раздел2!C202","v":0}]
["Грэпплинг-ги","195",0,0,0,0,0,0,null,null,null,null,null,null,null,null,null,null,null,null,null,null,null,null,null,null,null,null,null,null,null,null,null,null,null,null,null,null,null,null,null,null,null,null,null,null,null,null,null,null,null,null,null,null,null,null,null,null,null,null,{"$f":"Раздел2!C203","v":0}]
["Панкратион","196",0,0,0,0,0,0,null,null,null,null,null,null,null,null,null,null,null,null,null,null,null,null,null,null,null,null,null,null,null,null,null,null,null,null,null,null,null,null,null,null,null,null,null,null,null,null,null,null,null,null,null,null,null,null,null,null,null,null,{"$f":"Раздел2!C204","v":0}]
["Спортивная гимнастика","197",0,0,0,0,0,0,null,null,null,null,null,null,null,null,null,null,null,null,null,null,null,null,null,null,null,null,null,null,null,null,null,null,null,null,null,null,null,null,null,null,null,null,null,null,null,null,null,null,null,null,null,null,null,null,null,null,null,null,{"$f":"Раздел2!C205","v":0}]
["Спортивная йога","198",0,0,0,0,0,0,null,null,null,null,null,null,null,null,null,null,null,null,null,null,null,null,null,null,null,null,null,null,null,null,null,null,null,null,null,null,null,null,null,null,null,null,null,null,null,null,null,null,null,null,null,null,null,null,null,null,null,null,{"$f":"Раздел2!C206","v":0}]
["Спортивно-прикладное собаководство","199",0,0,0,0,0,0,null,null,null,null,null,null,null,null,null,null,null,null,null,null,null,null,null,null,null,null,null,null,null,null,null,null,null,null,null,null,null,null,null,null,null,null,null,null,null,null,null,null,null,null,null,null,null,null,null,null,null,null,{"$f":"Раздел2!C207","v":0}]
["Спортивное программирование","200",0,0,0,0,0,0,null,null,null,null,null,null,null,null,null,null,null,null,null,null,null,null,null,null,null,null,null,null,null,null,null,null,null,null,null,null,null,null,null,null,null,null,null,null,null,null,null,null,null,null,null,null,null,null,null,null,null,null,{"$f":"Раздел2!C208","v":0}]
["Спортивное метание ножа","201",0,0,0,0,0,0,null,null,null,null,null,null,null,null,null,null,null,null,null,null,null,null,null,null,null,null,null,null,null,null,null,null,null,null,null,null,null,null,null,null,null,null,null,null,null,null,null,null,null,null,null,null,null,null,null,null,null,null,{"$f":"Раздел2!C209","v":0}]
["Спортивное ориентирование","202",0,0,0,0,0,0,null,null,null,null,null,null,null,null,null,null,null,null,null,null,null,null,null,null,null,null,null,null,null,null,null,null,null,null,null,null,null,null,null,null,null,null,null,null,null,null,null,null,null,null,null,null,null,null,null,null,null,null,{"$f":"Раздел2!C210","v":0}]
["Спортивный бридж","203",0,0,0,0,0,0,null,null,null,null,null,null,null,null,null,null,null,null,null,null,null,null,null,null,null,null,null,null,null,null,null,null,null,null,null,null,null,null,null,null,null,null,null,null,null,null,null,null,null,null,null,null,null,null,null,null,null,null,{"$f":"Раздел2!C211","v":0}]
["Спортивный туризм","204",0,0,0,0,0,0,null,null,null,null,null,null,null,null,null,null,null,null,null,null,null,null,null,null,null,null,null,null,null,null,null,null,null,null,null,null,null,null,null,null,null,null,null,null,null,null,null,null,null,null,null,null,null,null,null,null,null,null,{"$f":"Раздел2!C212","v":0}]
["Стендовая стрельба - всего","205",0,0,0,0,0,0,{"$f":"SUM(I213:I216)","v":0},{"$f":"SUM(J213:J216)","v":0},0,0,0,0,0,0,0,0,0,0,0,0,0,0,0,0,0,0,0,0,0,0,0,0,0,0,0,0,0,0,0,0,0,0,0,0,0,0,0,0,0,0,0,0,0,0,0,0,null,null,{"$f":"Раздел2!C213","v":0}]
["в том числе:\nТрап","206",0,0,0,0,0,0,null,null,null,null,null,null,null,null,null,null,null,null,null,null,null,null,null,null,null,null,null,null,null,null,null,null,null,null,null,null,null,null,null,null,null,null,null,null,null,null,null,null,null,null,null,null,null,null,null,null,null,null,{"$f":"Раздел2!C214","v":0}]
["Скит","207",0,0,0,0,0,0,null,null,null,null,null,null,null,null,null,null,null,null,null,null,null,null,null,null,null,null,null,null,null,null,null,null,null,null,null,null,null,null,null,null,null,null,null,null,null,null,null,null,null,null,null,null,null,null,null,null,null,null,{"$f":"Раздел2!C215","v":0}]
["Дубль-трап","208",0,0,0,0,0,0,null,null,null,null,null,null,null,null,null,null,null,null,null,null,null,null,null,null,null,null,null,null,null,null,null,null,null,null,null,null,null,null,null,null,null,null,null,null,null,null,null,null,null,null,null,null,null,null,null,null,null,null,{"$f":"Раздел2!C216","v":0}]
["Спортинг","209",0,0,0,0,0,0,null,null,null,null,null,null,null,null,null,null,null,null,null,null,null,null,null,null,null,null,null,null,null,null,null,null,null,null,null,null,null,null,null,null,null,null,null,null,null,null,null,null,null,null,null,null,null,null,null,null,null,null,{"$f":"Раздел2!C217","v":0}]
["Страйкбол","210",0,0,0,0,0,0,null,null,null,null,null,null,null,null,null,null,null,null,null,null,null,null,null,null,null,null,null,null,null,null,null,null,null,null,null,null,null,null,null,null,null,null,null,null,null,null,null,null,null,null,null,null,null,null,null,null,null,null,{"$f":"Раздел2!C218","v":0}]
["Стрельба из арбалета","211",0,0,0,0,0,0,null,null,null,null,null,null,null,null,null,null,null,null,null,null,null,null,null,null,null,null,null,null,null,null,null,null,null,null,null,null,null,null,null,null,null,null,null,null,null,null,null,null,null,null,null,null,null,null,null,null,null,null,{"$f":"Раздел2!C219","v":0}]
["Стрельба из лука - всего","212",0,0,0,0,0,0,{"$f":"SUM(I220:I222)","v":0},{"$f":"SUM(J220:J222)","v":0},0,0,0,0,0,0,0,0,0,0,0,0,0,0,0,0,0,0,0,0,0,0,0,0,0,0,0,0,0,0,0,0,0,0,0,0,0,0,0,0,0,0,0,0,0,0,0,0,null,null,{"$f":"Раздел2!C220","v":0}]
["в том числе:\nКлассический лук","213",0,0,0,0,0,0,null,null,null,null,null,null,null,null,null,null,null,null,null,null,null,null,null,null,null,null,null,null,null,null,null,null,null,null,null,null,null,null,null,null,null,null,null,null,null,null,null,null,null,null,null,null,null,null,null,null,null,null,{"$f":"Раздел2!C221","v":0}]
["   Блочный лук","214",0,0,0,0,0,0,null,null,null,null,null,null,null,null,null,null,null,null,null,null,null,null,null,null,null,null,null,null,null,null,null,null,null,null,null,null,null,null,null,null,null,null,null,null,null,null,null,null,null,null,null,null,null,null,null,null,null,null,{"$f":"Раздел2!C222","v":0}]
["   Ачери ","215",0,0,0,0,0,0,null,null,null,null,null,null,null,null,null,null,null,null,null,null,null,null,null,null,null,null,null,null,null,null,null,null,null,null,null,null,null,null,null,null,null,null,null,null,null,null,null,null,null,null,null,null,null,null,null,null,null,null,{"$f":"Раздел2!C223","v":0}]
["Судомодельный спорт","216",0,0,0,0,0,0,null,null,null,null,null,null,null,null,null,null,null,null,null,null,null,null,null,null,null,null,null,null,null,null,null,null,null,null,null,null,null,null,null,null,null,null,null,null,null,null,null,null,null,null,null,null,null,null,null,null,null,null,{"$f":"Раздел2!C224","v":0}]
["Сумо","217",0,0,0,0,0,0,null,null,null,null,null,null,null,null,null,null,null,null,null,null,null,null,null,null,null,null,null,null,null,null,null,null,null,null,null,null,null,null,null,null,null,null,null,null,null,null,null,null,null,null,null,null,null,null,null,null,null,null,{"$f":"Раздел2!C225","v":0}]
["Таврели","218",0,0,0,0,0,0,null,null,null,null,null,null,null,null,null,null,null,null,null,null,null,null,null,null,null,null,null,null,null,null,null,null,null,null,null,null,null,null,null,null,null,null,null,null,null,null,null,null,null,null,null,null,null,null,null,null,null,null,{"$f":"Раздел2!C226","v":0}]
["Тайский бокс","219",0,0,0,0,0,0,null,null,null,null,null,null,null,null,null,null,null,null,null,null,null,null,null,null,null,null,null,null,null,null,null,null,null,null,null,null,null,null,null,null,null,null,null,null,null,null,null,null,null,null,null,null,null,null,null,null,null,null,{"$f":"Раздел2!C227","v":0}]
["Танцевальный спорт - всего","220",0,0,0,0,0,0,{"$f":"SUM(I228:I229)","v":0},{"$f":"SUM(J228:J229)","v":0},0,0,0,0,0,0,0,0,0,0,0,0,0,0,0,0,0,0,0,0,0,0,0,0,0,0,0,0,0,0,0,0,0,0,0,0,0,0,0,0,0,0,0,0,0,0,0,0,null,null,{"$f":"Раздел2!C228","v":0}]
["в том числе:\nТанцевальный спорт","221",0,0,0,0,0,0,null,null,null,null,null,null,null,null,null,null,null,null,null,null,null,null,null,null,null,null,null,null,null,null,null,null,null,null,null,null,null,null,null,null,null,null,null,null,null,null,null,null,null,null,null,null,null,null,null,null,null,null,{"$f":"Раздел2!C229","v":0}]
["Брейкинг","222",0,0,0,0,0,0,null,null,null,null,null,null,null,null,null,null,null,null,null,null,null,null,null,null,null,null,null,null,null,null,null,null,null,null,null,null,null,null,null,null,null,null,null,null,null,null,null,null,null,null,null,null,null,null,null,null,null,null,{"$f":"Раздел2!C230","v":0}]
["Теннис","223",0,0,0,0,0,0,null,null,null,null,null,null,null,null,null,null,null,null,null,null,null,null,null,null,null,null,null,null,null,null,null,null,null,null,null,null,null,null,null,null,null,null,null,null,null,null,null,null,null,null,null,null,null,null,null,null,null,null,{"$f":"Раздел2!C231","v":0}]
["Триатлон","224",0,0,0,0,0,0,null,null,null,null,null,null,null,null,null,null,null,null,null,null,null,null,null,null,null,null,null,null,null,null,null,null,null,null,null,null,null,null,null,null,null,null,null,null,null,null,null,null,null,null,null,null,null,null,null,null,null,null,{"$f":"Раздел2!C232","v":0}]
["Тхэквондо (ВТФ)","225",0,0,0,0,0,0,null,null,null,null,null,null,null,null,null,null,null,null,null,null,null,null,null,null,null,null,null,null,null,null,null,null,null,null,null,null,null,null,null,null,null,null,null,null,null,null,null,null,null,null,null,null,null,null,null,null,null,null,{"$f":"Раздел2!C233","v":0}]
["Тхэквондо ГТФ","226",0,0,0,0,0,0,null,null,null,null,null,null,null,null,null,null,null,null,null,null,null,null,null,null,null,null,null,null,null,null,null,null,null,null,null,null,null,null,null,null,null,null,null,null,null,null,null,null,null,null,null,null,null,null,null,null,null,null,{"$f":"Раздел2!C234","v":0}]
["Тхэквондо ИТФ","227",0,0,0,0,0,0,null,null,null,null,null,null,null,null,null,null,null,null,null,null,null,null,null,null,null,null,null,null,null,null,null,null,null,null,null,null,null,null,null,null,null,null,null,null,null,null,null,null,null,null,null,null,null,null,null,null,null,null,{"$f":"Раздел2!C235","v":0}]
["Тхэквондо МФТ","228",0,0,0,0,0,0,null,null,null,null,null,null,null,null,null,null,null,null,null,null,null,null,null,null,null,null,null,null,null,null,null,null,null,null,null,null,null,null,null,null,null,null,null,null,null,null,null,null,null,null,null,null,null,null,null,null,null,null,{"$f":"Раздел2!C236","v":0}]
["Тяжелая атлетика","229",0,0,0,0,0,0,null,null,null,null,null,null,null,null,null,null,null,null,null,null,null,null,null,null,null,null,null,null,null,null,null,null,null,null,null,null,null,null,null,null,null,null,null,null,null,null,null,null,null,null,null,null,null,null,null,null,null,null,{"$f":"Раздел2!C237","v":0}]
["Универсальный бой","230",0,0,0,0,0,0,null,null,null,null,null,null,null,null,null,null,null,null,null,null,null,null,null,null,null,null,null,null,null,null,null,null,null,null,null,null,null,null,null,null,null,null,null,null,null,null,null,null,null,null,null,null,null,null,null,null,null,null,{"$f":"Раздел2!C238","v":0}]
["Ушу","231",0,0,0,0,0,0,null,null,null,null,null,null,null,null,null,null,null,null,null,null,null,null,null,null,null,null,null,null,null,null,null,null,null,null,null,null,null,null,null,null,null,null,null,null,null,null,null,null,null,null,null,null,null,null,null,null,null,null,{"$f":"Раздел2!C239","v":0}]
["Фехтование - всего","232",0,0,0,0,0,0,{"$f":"SUM(I240:I243)","v":0},{"$f":"SUM(J240:J243)","v":0},0,0,0,0,0,0,0,0,0,0,0,0,0,0,0,0,0,0,0,0,0,0,0,0,0,0,0,0,0,0,0,0,0,0,0,0,0,0,0,0,0,0,0,0,0,0,0,0,null,null,{"$f":"Раздел2!C240","v":0}]
["в том числе:\nРапира","233",0,0,0,0,0,0,null,null,null,null,null,null,null,null,null,null,null,null,null,null,null,null,null,null,null,null,null,null,null,null,null,null,null,null,null,null,null,null,null,null,null,null,null,null,null,null,null,null,null,null,null,null,null,null,null,null,null,null,{"$f":"Раздел2!C241","v":0}]
["Сабля","234",0,0,0,0,0,0,null,null,null,null,null,null,null,null,null,null,null,null,null,null,null,null,null,null,null,null,null,null,null,null,null,null,null,null,null,null,null,null,null,null,null,null,null,null,null,null,null,null,null,null,null,null,null,null,null,null,null,null,{"$f":"Раздел2!C242","v":0}]
["Шпага","235",0,0,0,0,0,0,null,null,null,null,null,null,null,null,null,null,null,null,null,null,null,null,null,null,null,null,null,null,null,null,null,null,null,null,null,null,null,null,null,null,null,null,null,null,null,null,null,null,null,null,null,null,null,null,null,null,null,null,{"$f":"Раздел2!C243","v":0}]
["Арт-фехтование","236",0,0,0,0,0,0,null,null,null,null,null,null,null,null,null,null,null,null,null,null,null,null,null,null,null,null,null,null,null,null,null,null,null,null,null,null,null,null,null,null,null,null,null,null,null,null,null,null,null,null,null,null,null,null,null,null,null,null,{"$f":"Раздел2!C244","v":0}]
["Фигурное катание на коньках","237",0,0,0,0,0,0,null,null,null,null,null,null,null,null,null,null,null,null,null,null,null,null,null,null,null,null,null,null,null,null,null,null,null,null,null,null,null,null,null,null,null,null,null,null,null,null,null,null,null,null,null,null,null,null,null,null,null,null,{"$f":"Раздел2!C245","v":0}]
["Фитнес-аэробика","238",0,0,0,0,0,0,null,null,null,null,null,null,null,null,null,null,null,null,null,null,null,null,null,null,null,null,null,null,null,null,null,null,null,null,null,null,null,null,null,null,null,null,null,null,null,null,null,null,null,null,null,null,null,null,null,null,null,null,{"$f":"Раздел2!C246","v":0}]
["Флаинг диск","239",0,0,0,0,0,0,null,null,null,null,null,null,null,null,null,null,null,null,null,null,null,null,null,null,null,null,null,null,null,null,null,null,null,null,null,null,null,null,null,null,null,null,null,null,null,null,null,null,null,null,null,null,null,null,null,null,null,null,{"$f":"Раздел2!C247","v":0}]
["Флорбол","240",0,0,0,0,0,0,null,null,null,null,null,null,null,null,null,null,null,null,null,null,null,null,null,null,null,null,null,null,null,null,null,null,null,null,null,null,null,null,null,null,null,null,null,null,null,null,null,null,null,null,null,null,null,null,null,null,null,null,{"$f":"Раздел2!C248","v":0}]
["Фристайл - всего","241",0,0,0,0,0,0,{"$f":"SUM(I249:I254)","v":0},{"$f":"SUM(J249:J254)","v":0},0,0,0,0,0,0,0,0,0,0,0,0,0,0,0,0,0,0,0,0,0,0,0,0,0,0,0,0,0,0,0,0,0,0,0,0,0,0,0,0,0,0,0,0,0,0,0,0,null,null,{"$f":"Раздел2!C249","v":0}]
["в том числе:\nАкробатика","242",0,0,0,0,0,0,null,null,null,null,null,null,null,null,null,null,null,null,null,null,null,null,null,null,null,null,null,null,null,null,null,null,null,null,null,null,null,null,null,null,null,null,null,null,null,null,null,null,null,null,null,null,null,null,null,null,null,null,{"$f":"Раздел2!C250","v":0}]
["Биг-эйр","243",0,0,0,0,0,0,null,null,null,null,null,null,null,null,null,null,null,null,null,null,null,null,null,null,null,null,null,null,null,null,null,null,null,null,null,null,null,null,null,null,null,null,null,null,null,null,null,null,null,null,null,null,null,null,null,null,null,null,{"$f":"Раздел2!C251","v":0}]
["Могул","244",0,0,0,0,0,0,null,null,null,null,null,null,null,null,null,null,null,null,null,null,null,null,null,null,null,null,null,null,null,null,null,null,null,null,null,null,null,null,null,null,null,null,null,null,null,null,null,null,null,null,null,null,null,null,null,null,null,null,{"$f":"Раздел2!C252","v":0}]
["Ски-кросс","245",0,0,0,0,0,0,null,null,null,null,null,null,null,null,null,null,null,null,null,null,null,null,null,null,null,null,null,null,null,null,null,null,null,null,null,null,null,null,null,null,null,null,null,null,null,null,null,null,null,null,null,null,null,null,null,null,null,null,{"$f":"Раздел2!C253","v":0}]
["Хаф-пайп","246",0,0,0,0,0,0,null,null,null,null,null,null,null,null,null,null,null,null,null,null,null,null,null,null,null,null,null,null,null,null,null,null,null,null,null,null,null,null,null,null,null,null,null,null,null,null,null,null,null,null,null,null,null,null,null,null,null,null,{"$f":"Раздел2!C254","v":0}]
["Слоуп-стайл","247",0,0,0,0,0,0,null,null,null,null,null,null,null,null,null,null,null,null,null,null,null,null,null,null,null,null,null,null,null,null,null,null,null,null,null,null,null,null,null,null,null,null,null,null,null,null,null,null,null,null,null,null,null,null,null,null,null,null,{"$f":"Раздел2!C255","v":0}]
["Функциональное многоборье","248",0,0,0,0,0,0,null,null,null,null,null,null,null,null,null,null,null,null,null,null,null,null,null,null,null,null,null,null,null,null,null,null,null,null,null,null,null,null,null,null,null,null,null,null,null,null,null,null,null,null,null,null,null,null,null,null,null,null,{"$f":"Раздел2!C256","v":0}]
["Футбол - всего","249",0,0,0,0,0,0,{"$f":"SUM(I257:I262)","v":0},{"$f":"SUM(J257:J262)","v":0},0,0,0,0,0,0,0,0,0,0,0,0,0,0,0,0,0,0,0,0,0,0,0,0,0,0,0,0,0,0,0,0,0,0,0,0,0,0,0,0,0,0,0,0,0,0,0,0,null,null,{"$f":"Раздел2!C257","v":0}]
["в том числе:\nФутбол (муж.)","250",0,0,0,0,0,0,null,null,null,null,null,null,null,null,null,null,null,null,null,null,null,null,null,null,null,null,null,null,null,null,null,null,null,null,null,null,null,null,null,null,null,null,null,null,null,null,null,null,null,null,null,null,null,null,null,null,null,null,{"$f":"Раздел2!C258","v":0}]
["Футбол (жен.)","251",0,0,0,0,0,0,null,null,null,null,null,null,null,null,null,null,null,null,null,null,null,null,null,null,null,null,null,null,null,null,null,null,null,null,null,null,null,null,null,null,null,null,null,null,null,null,null,null,null,null,null,null,null,null,null,null,null,null,{"$f":"Раздел2!C259","v":0}]
["Мини-футбол (футзал)","252",0,0,0,0,0,0,null,null,null,null,null,null,null,null,null,null,null,null,null,null,null,null,null,null,null,null,null,null,null,null,null,null,null,null,null,null,null,null,null,null,null,null,null,null,null,null,null,null,null,null,null,null,null,null,null,null,null,null,{"$f":"Раздел2!C260","v":0}]
["Пляжный футбол","253",0,0,0,0,0,0,null,null,null,null,null,null,null,null,null,null,null,null,null,null,null,null,null,null,null,null,null,null,null,null,null,null,null,null,null,null,null,null,null,null,null,null,null,null,null,null,null,null,null,null,null,null,null,null,null,null,null,null,{"$f":"Раздел2!C261","v":0}]
["Футбол 6х6, 7х7, 8х8","254",0,0,0,0,0,0,null,null,null,null,null,null,null,null,null,null,null,null,null,null,null,null,null,null,null,null,null,null,null,null,null,null,null,null,null,null,null,null,null,null,null,null,null,null,null,null,null,null,null,null,null,null,null,null,null,null,null,null,{"$f":"Раздел2!C262","v":0}]
["Интерактивный футбол","255",0,0,0,0,0,0,null,null,null,null,null,null,null,null,null,null,null,null,null,null,null,null,null,null,null,null,null,null,null,null,null,null,null,null,null,null,null,null,null,null,null,null,null,null,null,null,null,null,null,null,null,null,null,null,null,null,null,null,{"$f":"Раздел2!C263","v":0}]
["Хапкидо","256",0,0,0,0,0,0,null,null,null,null,null,null,null,null,null,null,null,null,null,null,null,null,null,null,null,null,null,null,null,null,null,null,null,null,null,null,null,null,null,null,null,null,null,null,null,null,null,null,null,null,null,null,null,null,null,null,null,null,{"$f":"Раздел2!C264","v":0}]
["Хапсагай","257",0,0,0,0,0,0,null,null,null,null,null,null,null,null,null,null,null,null,null,null,null,null,null,null,null,null,null,null,null,null,null,null,null,null,null,null,null,null,null,null,null,null,null,null,null,null,null,null,null,null,null,null,null,null,null,null,null,null,{"$f":"Раздел2!C265","v":0}]
["Хоккей - всего","258",{"$f":"SUM(D265:F265)","v":0},{"$f":"SUM(I265,N265,S265,X265,AC265,AH265,AM265,AR265,AW265,BB265)","v":0},{"$f":"SUM(J265,O265,T265,Y265,AD265,AI265,AN265,AS265,AX265,BC265)","v":0},{"$f":"SUM(K265,P265,U265,Z265,AE265,AJ265,AO265,AT265,AY265,BD265)","v":0},{"$f":"SUM(L265,Q265,V265,AA265,AF265,AK265,AP265,AU265,AZ265,BE265)","v":0},{"$f":"SUM(M265,R265,W265,AB265,AG265,AL265,AQ265,AV265,BA265,BF265)","v":0},{"$f":"SUM(I266:I267)","v":0},{"$f":"SUM(J266:J267)","v":0},0,0,0,0,0,0,0,0,0,0,0,0,0,0,0,0,0,0,0,0,0,0,0,0,0,0,0,0,0,0,0,0,0,0,0,0,0,0,0,0,0,0,0,0,0,0,0,0,null,null,{"$f":"Раздел2!C266","v":0}]
["в том числе:\nХоккей (муж.)","259",0,0,0,0,0,0,null,null,null,null,null,null,null,null,null,null,null,null,null,null,null,null,null,null,null,null,null,null,null,null,null,null,null,null,null,null,null,null,null,null,null,null,null,null,null,null,null,null,null,null,null,null,null,null,null,null,null,null,{"$f":"Раздел2!C267","v":0}]
["Хоккей (жен.)","260",0,0,0,0,0,0,null,null,null,null,null,null,null,null,null,null,null,null,null,null,null,null,null,null,null,null,null,null,null,null,null,null,null,null,null,null,null,null,null,null,null,null,null,null,null,null,null,null,null,null,null,null,null,null,null,null,null,null,{"$f":"Раздел2!C268","v":0}]
["Хоккей на траве - всего","261",0,0,0,0,0,0,{"$f":"SUM(I269:I271)","v":0},{"$f":"SUM(J269:J271)","v":0},0,0,0,0,0,0,0,0,0,0,0,0,0,0,0,0,0,0,0,0,0,0,0,0,0,0,0,0,0,0,0,0,0,0,0,0,0,0,0,0,0,0,0,0,0,0,0,0,null,null,{"$f":"Раздел2!C269","v":0}]
["в том числе:\nХоккей на траве (муж.)","262",0,0,0,0,0,0,null,null,null,null,null,null,null,null,null,null,null,null,null,null,null,null,null,null,null,null,null,null,null,null,null,null,null,null,null,null,null,null,null,null,null,null,null,null,null,null,null,null,null,null,null,null,null,null,null,null,null,null,{"$f":"Раздел2!C270","v":0}]
["Хоккей на траве (жен.)","263",0,0,0,0,0,0,null,null,null,null,null,null,null,null,null,null,null,null,null,null,null,null,null,null,null,null,null,null,null,null,null,null,null,null,null,null,null,null,null,null,null,null,null,null,null,null,null,null,null,null,null,null,null,null,null,null,null,null,{"$f":"Раздел2!C271","v":0}]
["Индорхоккей","264",0,0,0,0,0,0,null,null,null,null,null,null,null,null,null,null,null,null,null,null,null,null,null,null,null,null,null,null,null,null,null,null,null,null,null,null,null,null,null,null,null,null,null,null,null,null,null,null,null,null,null,null,null,null,null,null,null,null,{"$f":"Раздел2!C272","v":0}]
["Хоккей с мячом","265",0,0,0,0,0,0,null,null,null,null,null,null,null,null,null,null,null,null,null,null,null,null,null,null,null,null,null,null,null,null,null,null,null,null,null,null,null,null,null,null,null,null,null,null,null,null,null,null,null,null,null,null,null,null,null,null,null,null,{"$f":"Раздел2!C273","v":0}]
["Художественная гимнастика","266",0,0,0,0,0,0,null,null,null,null,null,null,null,null,null,null,null,null,null,null,null,null,null,null,null,null,null,null,null,null,null,null,null,null,null,null,null,null,null,null,null,null,null,null,null,null,null,null,null,null,null,null,null,null,null,null,null,null,{"$f":"Раздел2!C274","v":0}]
["Хуреш","267",0,0,0,0,0,0,null,null,null,null,null,null,null,null,null,null,null,null,null,null,null,null,null,null,null,null,null,null,null,null,null,null,null,null,null,null,null,null,null,null,null,null,null,null,null,null,null,null,null,null,null,null,null,null,null,null,null,null,{"$f":"Раздел2!C275","v":0}]
["Чир спорт","268",0,0,0,0,0,0,null,null,null,null,null,null,null,null,null,null,null,null,null,null,null,null,null,null,null,null,null,null,null,null,null,null,null,null,null,null,null,null,null,null,null,null,null,null,null,null,null,null,null,null,null,null,null,null,null,null,null,null,{"$f":"Раздел2!C276","v":0}]
["Шахматы","269",0,0,0,0,0,0,null,null,null,null,null,null,null,null,null,null,null,null,null,null,null,null,null,null,null,null,null,null,null,null,null,null,null,null,null,null,null,null,null,null,null,null,null,null,null,null,null,null,null,null,null,null,null,null,null,null,null,null,{"$f":"Раздел2!C277","v":1}]
["Шашки","270",0,0,0,0,0,0,null,null,null,null,null,null,null,null,null,null,null,null,null,null,null,null,null,null,null,null,null,null,null,null,null,null,null,null,null,null,null,null,null,null,null,null,null,null,null,null,null,null,null,null,null,null,null,null,null,null,null,null,{"$f":"Раздел2!C278","v":0}]
["Шодсанлат","271",0,0,0,0,0,0,null,null,null,null,null,null,null,null,null,null,null,null,null,null,null,null,null,null,null,null,null,null,null,null,null,null,null,null,null,null,null,null,null,null,null,null,null,null,null,null,null,null,null,null,null,null,null,null,null,null,null,null,{"$f":"Раздел2!C279","v":0}]
["Эстетическая гимнастика","272",0,0,0,0,0,0,null,null,null,null,null,null,null,null,null,null,null,null,null,null,null,null,null,null,null,null,null,null,null,null,null,null,null,null,null,null,null,null,null,null,null,null,null,null,null,null,null,null,null,null,null,null,null,null,null,null,null,null,{"$f":"Раздел2!C280","v":0}]
["Якутские национальные прыжки","273",0,0,0,0,0,0,null,null,null,null,null,null,null,null,null,null,null,null,null,null,null,null,null,null,null,null,null,null,null,null,null,null,null,null,null,null,null,null,null,null,null,null,null,null,null,null,null,null,null,null,null,null,null,null,null,null,null,null,{"$f":"Раздел2!C281","v":0}]
["ИТОГО","274",0,{"$f":"SUM(I281,N281,S281,X281,AC281,AH281,AM281,AR281,AW281,BB281)","v":0},0,0,0,{"$f":"SUM(M281,R281,W281,AB281,AG281,AL281,AQ281,AV281,BA281,BF281)","v":0},{"$f":"SUM(I8:I21,I25:I28,I31:I36,I47:I52,I57:I59,I41:I44,I63:I73,I78:I88,I92:I99,I102:I106,I114:I117,I118:I131,I134:I139,I142,I147:I148,I154:I157,I163:I164,I165:I179,I180:I198,I204:I209,I210:I212,I217:I219,I223:I227,I230:I239,I244:I248,I255:I256,I263:I265,I268,I272:I280)","v":0},{"$f":"SUM(J8:J21,J25:J28,J31:J36,J47:J52,J57:J59,J41:J44,J63:J73,J78:J88,J92:J99,J102:J106,J114:J117,J118:J131,J134:J139,J142,J147:J148,J154:J157,J163:J164,J165:J179,J180:J198,J204:J209,J210:J212,J217:J219,J223:J227,J230:J239,J244:J248,J255:J256,J263:J265,J268,J272:J280)","v":0},0,0,0,0,0,0,0,0,0,0,0,0,0,0,0,0,0,0,0,0,0,0,0,0,0,0,0,0,0,0,0,0,0,0,0,0,0,0,0,0,0,0,0,0,0,0,0,0,null,null,{"$f":"Раздел2!C282","v":7}]

{"sheet":"Раздел9","index":9,"n_rows":284,"n_cols":34,"rows_kept":284,"cut":false,"hidden":false,"merged":[[6,29,7,29],[5,14,7,14],[5,15,7,15],[4,4,7,4],[2,1,7,1],[2,2,7,2],[5,13,7,13],[6,25,7,25],[6,26,7,26],[4,22,4,24],[4,25,5,27],[4,3,7,3],[0,0,121,0],[0,1,0,28],[1,25,1,30],[2,3,3,4],[2,5,2,28],[2,29,2,30],[3,5,3,6],[3,7,3,15],[3,16,3,24],[3,25,3,28],[3,29,5,30],[4,5,7,5],[4,6,7,6],[4,7,4,10],[4,11,7,11],[5,22,7,22],[6,30,7,30],[4,28,7,28],[5,7,7,7],[5,8,7,8],[5,9,6,10],[5,16,7,16],[5,17,7,17],[5,18,6,19],[5,23,7,23],[5,24,7,24],[6,27,7,27],[4,12,7,12],[4,13,4,15],[4,16,4,19],[4,20,7,20],[4,21,7,21]]}
[null,"Раздел IX. Тренерский состав"]
[null,null,null,null,null,null,null,null,null,null,null,null,null,null,null,null,null,null,null,null,null,null,null,null,null,"Код по ОКЕИ: человек – 792"]
[null,"Виды спорта","№ строки","Число тренеров и тренеров-преподавателей",null,"Тренеры",null,null,null,null,null,null,null,null,null,null,null,null,null,null,null,null,null,null,null,null,null,null,null,"Тренеры-преподаватели"]
[null,null,null,null,null,"Число тренеров",null,"штатные тренеры:",null,null,null,null,null,null,null,null,"совместители:",null,null,null,null,null,null,null,null,"из гр.6:",null,null,null,"Число тренеров-преподавателей"]
[null,null,null,"Итого","в том числе штатных","Всего","в том числе штатных","профессиональное образование",null,null,null,"Профессиональная переподготовка (за отчетный год)","Повышение квалификации (за отчетный год)","квалификационные категории",null,null,"профессиональное образование",null,null,null,"Профессиональная переподготовка (за отчетный год)","Повышение квалификации (за отчетный год)","квалификационные категории",null,null,"в возрасте:",null,null,"Звание «Заслуженный тренер России»"]
[null,null,null,null,null,null,null,"высшее","среднее","в том числе\nфизкультурное",null,null,null,"Высшая","Первая","Вторая","высшее","среднее","в том числе\nфизкультурное",null,null,null,"Высшая","Первая","Вторая"]
[null,null,null,null,null,null,null,null,null,null,null,null,null,null,null,null,null,null,null,null,null,null,null,null,null,"до 35 лет","от 36 до 64 лет","старше 64 лет",null,"Всего","в том числе штатных"]
[null,null,null,null,null,null,null,null,null,"высшее","среднее",null,null,null,null,null,null,null,"высшее","среднее"]
[null,1,2,3,4,5,6,7,8,9,10,11,12,13,14,15,16,17,18,19,20,21,22,23,24,25,26,27,28,29,30,null,"5 мин 6","2р"]
[null,"Авиамодельный спорт","01",{"$f":"SUM(F10,AD10)","v":0},{"$f":"SUM(G10,AE10)","v":0},null,null,null,null,null,null,null,null,null,null,null,null,null,null,null,null,null,null,null,null,null,null,null,null,null,null,null,{"$f":"F10-G10","v":0},{"$f":"Раздел2!C9","v":0}]
[null,"Авиационные гонки","02",{"$f":"SUM(F11,AD11)","v":0},{"$f":"SUM(G11,AE11)","v":0},null,null,null,null,null,null,null,null,null,null,null,null,null,null,null,null,null,null,null,null,null,null,null,null,null,null,null,{"$f":"F11-G11","v":0},{"$f":"Раздел2!C10","v":0}]
[null,"Автомобильный спорт","03",0,0,null,null,null,null,null,null,null,null,null,null,null,null,null,null,null,null,null,null,null,null,null,null,null,null,null,null,null,0,{"$f":"Раздел2!C11","v":0}]
[null,"Автомодельный спорт","04",0,0,null,null,null,null,null,null,null,null,null,null,null,null,null,null,null,null,null,null,null,null,null,null,null,null,null,null,null,0,{"$f":"Раздел2!C12","v":0}]
[null,"Айкидо","05",0,0,null,null,null,null,null,null,null,null,null,null,null,null,null,null,null,null,null,null,null,null,null,null,null,null,null,null,null,0,{"$f":"Раздел2!C13","v":0}]
[null,"Айсшток","06",0,0,null,null,null,null,null,null,null,null,null,null,null,null,null,null,null,null,null,null,null,null,null,null,null,null,null,null,null,0,{"$f":"Раздел2!C14","v":0}]
[null,"Акробатический рок-н-ролл","07",0,0,null,null,null,null,null,null,null,null,null,null,null,null,null,null,null,null,null,null,null,null,null,null,null,null,null,null,null,0,{"$f":"Раздел2!C15","v":0}]
[null,"Альпинизм","08",0,0,null,null,null,null,null,null,null,null,null,null,null,null,null,null,null,null,null,null,null,null,null,null,null,null,null,null,null,0,{"$f":"Раздел2!C16","v":0}]
[null,"Американский футбол","09",0,0,null,null,null,null,null,null,null,null,null,null,null,null,null,null,null,null,null,null,null,null,null,null,null,null,null,null,null,0,{"$f":"Раздел2!C17","v":0}]
[null,"Армейский рукопашный бой","10",0,0,null,null,null,null,null,null,null,null,null,null,null,null,null,null,null,null,null,null,null,null,null,null,null,null,null,null,null,0,{"$f":"Раздел2!C18","v":0}]
[null,"Армейское тактико-стрелковое многоборье","11",0,0,null,null,null,null,null,null,null,null,null,null,null,null,null,null,null,null,null,null,null,null,null,null,null,null,null,null,null,0,{"$f":"Раздел2!C19","v":0}]
[null,"Армрестлинг","12",0,0,null,null,null,null,null,null,null,null,null,null,null,null,null,null,null,null,null,null,null,null,null,null,null,null,null,null,null,0,{"$f":"Раздел2!C20","v":0}]
[null,"Бадминтон","13",0,0,null,null,null,null,null,null,null,null,null,null,null,null,null,null,null,null,null,null,null,null,null,null,null,null,null,null,null,0,{"$f":"Раздел2!C21","v":0}]
[null,"Баскетбол - всего","14",6,2,{"$f":"SUM(F24:F26)","v":6},{"$f":"SUM(G24:G26)","v":2},2,0,2,0,0,0,1,0,1,4,0,4,0,0,0,0,0,2,0,2,0,0,0,0,null,4,{"$f":"Раздел2!C22","v":1}]
[null,"в том числе:\nБаскетбол (муж.)","15",6,2,6,2,2,null,2,null,null,null,1,null,1,4,null,4,null,null,null,null,null,2,null,2,null,null,null,null,null,4,{"$f":"Раздел2!C23","v":1}]
[null,"Баскетбол (жен.)","16",0,0,null,null,null,null,null,null,null,null,null,null,null,null,null,null,null,null,null,null,null,null,null,null,null,null,null,null,null,0,{"$f":"Раздел2!C24","v":1}]
[null,"Баскетбол 3х3","17",0,0,null,null,null,null,null,null,null,null,null,null,null,null,null,null,null,null,null,null,null,null,null,null,null,null,null,null,null,0,{"$f":"Раздел2!C25","v":0}]
[null,"Бейсбол","18",0,0,null,null,null,null,null,null,null,null,null,null,null,null,null,null,null,null,null,null,null,null,null,null,null,null,null,null,null,0,{"$f":"Раздел2!C26","v":0}]
[null,"Биатлон","19",3,1,3,1,1,null,null,null,1,null,null,null,null,1,1,1,null,null,null,1,null,1,null,1,null,null,null,null,null,2,{"$f":"Раздел2!C27","v":1}]
[null,"Бильярдный спорт","20",0,0,null,null,null,null,null,null,null,null,null,null,null,null,null,null,null,null,null,null,null,null,null,null,null,null,null,null,null,0,{"$f":"Раздел2!C28","v":0}]
[null,"Бобслей - всего","21",0,0,{"$f":"SUM(F31:F32)","v":0},{"$f":"SUM(G31:G32)","v":0},0,0,0,0,0,0,0,0,0,0,0,0,0,0,0,0,0,0,0,0,0,0,0,0,null,0,{"$f":"Раздел2!C29","v":0}]
[null,"в том числе:\nБобслей","22",0,0,null,null,null,null,null,null,null,null,null,null,null,null,null,null,null,null,null,null,null,null,null,null,null,null,null,null,null,0,{"$f":"Раздел2!C30","v":0}]
[null,"Скелетон","23",0,0,null,null,null,null,null,null,null,null,null,null,null,null,null,null,null,null,null,null,null,null,null,null,null,null,null,null,null,0,{"$f":"Раздел2!C31","v":0}]
[null,"Бодибилдинг","24",0,0,null,null,null,null,null,null,null,null,null,null,null,null,null,null,null,null,null,null,null,null,null,null,null,null,null,null,null,0,{"$f":"Раздел2!C32","v":0}]
[null,"Бокс","25",2,1,2,1,1,null,1,null,null,null,null,null,1,null,1,null,null,null,null,null,null,null,null,1,null,null,null,null,null,1,{"$f":"Раздел2!C33","v":1}]
[null,"Борьба на поясах","26",0,0,null,null,null,null,null,null,null,null,null,null,null,null,null,null,null,null,null,null,null,null,null,null,null,null,null,null,null,0,{"$f":"Раздел2!C34","v":0}]
[null,"Боулинг","27",0,0,null,null,null,null,null,null,null,null,null,null,null,null,null,null,null,null,null,null,null,null,null,null,null,null,null,null,null,0,{"$f":"Раздел2!C35","v":0}]
[null,"Боулспорт","28",0,0,null,null,null,null,null,null,null,null,null,null,null,null,null,null,null,null,null,null,null,null,null,null,null,null,null,null,null,0,{"$f":"Раздел2!C36","v":0}]
[null,"Велосипедный спорт - всего","29",0,0,{"$f":"SUM(F39:F42)","v":0},{"$f":"SUM(G39:G42)","v":0},0,0,0,0,0,0,0,0,0,0,0,0,0,0,0,0,0,0,0,0,0,0,0,0,null,0,{"$f":"Раздел2!C37","v":0}]
[null,"в том числе:\nBMX","30",0,0,null,null,null,null,null,null,null,null,null,null,null,null,null,null,null,null,null,null,null,null,null,null,null,null,null,null,null,0,{"$f":"Раздел2!C38","v":0}]
[null,"Маунтинбайк","31",0,0,null,null,null,null,null,null,null,null,null,null,null,null,null,null,null,null,null,null,null,null,null,null,null,null,null,null,null,0,{"$f":"Раздел2!C39","v":0}]
[null,"Трек","32",0,0,null,null,null,null,null,null,null,null,null,null,null,null,null,null,null,null,null,null,null,null,null,null,null,null,null,null,null,0,{"$f":"Раздел2!C40","v":0}]
[null,"Шоссе","33",0,0,null,null,null,null,null,null,null,null,null,null,null,null,null,null,null,null,null,null,null,null,null,null,null,null,null,null,null,0,{"$f":"Раздел2!C41","v":0}]
[null,"Вертолетный спорт","34",0,0,null,null,null,null,null,null,null,null,null,null,null,null,null,null,null,null,null,null,null,null,null,null,null,null,null,null,null,0,{"$f":"Раздел2!C42","v":0}]
[null,"Водно-моторный спорт","35",0,0,null,null,null,null,null,null,null,null,null,null,null,null,null,null,null,null,null,null,null,null,null,null,null,null,null,null,null,0,{"$f":"Раздел2!C43","v":0}]
[null,"Водно-спасательное многоборье","36",0,0,null,null,null,null,null,null,null,null,null,null,null,null,null,null,null,null,null,null,null,null,null,null,null,null,null,null,null,0,{"$f":"Раздел2!C44","v":0}]
[null,"Водное поло - всего ","37",0,0,{"$f":"SUM(F47:F48)","v":0},{"$f":"SUM(G47:G48)","v":0},0,0,0,0,0,0,0,0,0,0,0,0,0,0,0,0,0,0,0,0,0,0,0,0,null,0,{"$f":"Раздел2!C45","v":0}]
[null,"в том числе:\nВодное поло (муж.)","38",0,0,null,null,null,null,null,null,null,null,null,null,null,null,null,null,null,null,null,null,null,null,null,null,null,null,null,null,null,0,{"$f":"Раздел2!C46","v":0}]
[null,"Водное поло (жен.)","39",0,0,null,null,null,null,null,null,null,null,null,null,null,null,null,null,null,null,null,null,null,null,null,null,null,null,null,null,null,0,{"$f":"Раздел2!C47","v":0}]
[null,"Воднолыжный спорт","40",0,0,null,null,null,null,null,null,null,null,null,null,null,null,null,null,null,null,null,null,null,null,null,null,null,null,null,null,null,0,{"$f":"Раздел2!C48","v":0}]
[null,"Военно-прикладной спорт","41",0,0,null,null,null,null,null,null,null,null,null,null,null,null,null,null,null,null,null,null,null,null,null,null,null,null,null,null,null,0,{"$f":"Раздел2!C49","v":0}]
[null,"Военно-спортивное многоборье","42",0,0,null,null,null,null,null,null,null,null,null,null,null,null,null,null,null,null,null,null,null,null,null,null,null,null,null,null,null,0,{"$f":"Раздел2!C50","v":0}]
[null,"Воздухоплавательный спорт","43",0,0,null,null,null,null,null,null,null,null,null,null,null,null,null,null,null,null,null,null,null,null,null,null,null,null,null,null,null,0,{"$f":"Раздел2!C51","v":0}]
[null,"Воздушно-силовая атлетика","44",0,0,null,null,null,null,null,null,null,null,null,null,null,null,null,null,null,null,null,null,null,null,null,null,null,null,null,null,null,0,{"$f":"Раздел2!C52","v":0}]
[null,"Волейбол - всего","45",0,0,{"$f":"SUM(F55:F58)","v":0},{"$f":"SUM(G55:G58)","v":0},0,0,0,0,0,0,0,0,0,0,0,0,0,0,0,0,0,0,0,0,0,0,0,0,null,0,{"$f":"Раздел2!C53","v":0}]
[null,"в том числе:\nВолейбол (муж.)","46",0,0,null,null,null,null,null,null,null,null,null,null,null,null,null,null,null,null,null,null,null,null,null,null,null,null,null,null,null,0,{"$f":"Раздел2!C54","v":0}]
[null,"Волейбол (жен.)","47",0,0,null,null,null,null,null,null,null,null,null,null,null,null,null,null,null,null,null,null,null,null,null,null,null,null,null,null,null,0,{"$f":"Раздел2!C55","v":0}]
[null,"Пляжный волейбол (муж.)","48",0,0,null,null,null,null,null,null,null,null,null,null,null,null,null,null,null,null,null,null,null,null,null,null,null,null,null,null,null,0,{"$f":"Раздел2!C56","v":0}]
[null,"Пляжный волейбол (жен.)","49",0,0,null,null,null,null,null,null,null,null,null,null,null,null,null,null,null,null,null,null,null,null,null,null,null,null,null,null,null,0,{"$f":"Раздел2!C57","v":0}]
[null,"Восточное боевое единоборство","50",0,0,null,null,null,null,null,null,null,null,null,null,null,null,null,null,null,null,null,null,null,null,null,null,null,null,null,null,null,0,{"$f":"Раздел2!C58","v":0}]
[null,"Всестилевое каратэ","51",0,0,null,null,null,null,null,null,null,null,null,null,null,null,null,null,null,null,null,null,null,null,null,null,null,null,null,null,null,0,{"$f":"Раздел2!C59","v":0}]
[null,"Гандбол - всего","52",0,0,{"$f":"SUM(F62:F64)","v":0},{"$f":"SUM(G62:G64)","v":0},0,0,0,0,0,0,0,0,0,0,0,0,0,0,0,0,0,0,0,0,0,0,0,0,null,0,{"$f":"Раздел2!C60","v":0}]
[null,"в том числе:\nГандбол (муж.)","53",0,0,null,null,null,null,null,null,null,null,null,null,null,null,null,null,null,null,null,null,null,null,null,null,null,null,null,null,null,0,{"$f":"Раздел2!C61","v":0}]
[null,"Гандбол (жен.)","54",0,0,null,null,null,null,null,null,null,null,null,null,null,null,null,null,null,null,null,null,null,null,null,null,null,null,null,null,null,0,{"$f":"Раздел2!C62","v":0}]
[null,"Пляжный гандбол","55",0,0,null,null,null,null,null,null,null,null,null,null,null,null,null,null,null,null,null,null,null,null,null,null,null,null,null,null,null,0,{"$f":"Раздел2!C63","v":0}]
[null,"Гиревой спорт","56",0,0,null,null,null,null,null,null,null,null,null,null,null,null,null,null,null,null,null,null,null,null,null,null,null,null,null,null,null,0,{"$f":"Раздел2!C64","v":0}]
[null,"Го","57",0,0,null,null,null,null,null,null,null,null,null,null,null,null,null,null,null,null,null,null,null,null,null,null,null,null,null,null,null,0,{"$f":"Раздел2!C65","v":0}]
[null,"Гольф","58",0,0,null,null,null,null,null,null,null,null,null,null,null,null,null,null,null,null,null,null,null,null,null,null,null,null,null,null,null,0,{"$f":"Раздел2!C66","v":0}]
[null,"Гонки на охотничьих лыжах","59",0,0,null,null,null,null,null,null,null,null,null,null,null,null,null,null,null,null,null,null,null,null,null,null,null,null,null,null,null,0,{"$f":"Раздел2!C67","v":0}]
[null,"Гонки с препятствиями","60",0,0,null,null,null,null,null,null,null,null,null,null,null,null,null,null,null,null,null,null,null,null,null,null,null,null,null,null,null,0,{"$f":"Раздел2!C68","v":0}]
[null,"Горнолыжный спорт","61",0,0,null,null,null,null,null,null,null,null,null,null,null,null,null,null,null,null,null,null,null,null,null,null,null,null,null,null,null,0,{"$f":"Раздел2!C69","v":0}]
[null,"Городошный спорт","62",0,0,null,null,null,null,null,null,null,null,null,null,null,null,null,null,null,null,null,null,null,null,null,null,null,null,null,null,null,0,{"$f":"Раздел2!C70","v":0}]
[null,"Гребля на байдарках и каноэ","63",0,0,null,null,null,null,null,null,null,null,null,null,null,null,null,null,null,null,null,null,null,null,null,null,null,null,null,null,null,0,{"$f":"Раздел2!C71","v":0}]
[null,"Гребля на шлюпках","64",0,0,null,null,null,null,null,null,null,null,null,null,null,null,null,null,null,null,null,null,null,null,null,null,null,null,null,null,null,0,{"$f":"Раздел2!C72","v":0}]
[null,"Гребной слалом","65",0,0,null,null,null,null,null,null,null,null,null,null,null,null,null,null,null,null,null,null,null,null,null,null,null,null,null,null,null,0,{"$f":"Раздел2!C73","v":0}]
[null,"Гребной спорт - всего","66",{"$f":"SUM(F75,AD75)","v":0},{"$f":"SUM(G75,AE75)","v":0},{"$f":"SUM(F76:F79)","v":0},{"$f":"SUM(G76:G79)","v":0},0,0,0,0,0,0,0,0,0,0,0,0,0,0,0,0,0,0,0,0,0,0,0,0,null,{"$f":"F75-G75","v":0},{"$f":"Раздел2!C74","v":0}]
[null,"в том числе:\nАкадемическая гребля","67",0,0,null,null,null,null,null,null,null,null,null,null,null,null,null,null,null,null,null,null,null,null,null,null,null,null,null,null,null,0,{"$f":"Раздел2!C75","v":0}]
[null,"Гребля-индор","68",0,0,null,null,null,null,null,null,null,null,null,null,null,null,null,null,null,null,null,null,null,null,null,null,null,null,null,null,null,0,{"$f":"Раздел2!C76","v":0}]
[null,"Народная гребля","69",0,0,null,null,null,null,null,null,null,null,null,null,null,null,null,null,null,null,null,null,null,null,null,null,null,null,null,null,null,0,{"$f":"Раздел2!C77","v":0}]
[null,"Прибрежная гребля","70",0,0,null,null,null,null,null,null,null,null,null,null,null,null,null,null,null,null,null,null,null,null,null,null,null,null,null,null,null,0,{"$f":"Раздел2!C78","v":0}]
[null,"Гребно-парусное двоеборье","71",0,0,null,null,null,null,null,null,null,null,null,null,null,null,null,null,null,null,null,null,null,null,null,null,null,null,null,null,null,0,{"$f":"Раздел2!C79","v":0}]
[null,"Дартс","72",0,0,null,null,null,null,null,null,null,null,null,null,null,null,null,null,null,null,null,null,null,null,null,null,null,null,null,null,null,0,{"$f":"Раздел2!C80","v":0}]
[null,"Джиу-джитсу","73",0,0,null,null,null,null,null,null,null,null,null,null,null,null,null,null,null,null,null,null,null,null,null,null,null,null,null,null,null,0,{"$f":"Раздел2!C81","v":0}]
[null,"Дзюдо","74",5,5,5,5,4,1,4,null,null,null,5,null,null,null,null,null,null,null,null,null,null,null,2,3,null,null,null,null,null,0,{"$f":"Раздел2!C82","v":1}]
[null,"Ездовой спорт","75",0,0,null,null,null,null,null,null,null,null,null,null,null,null,null,null,null,null,null,null,null,null,null,null,null,null,null,null,null,0,{"$f":"Раздел2!C83","v":0}]
[null,"Зимнее плавание","76",0,0,null,null,null,null,null,null,null,null,null,null,null,null,null,null,null,null,null,null,null,null,null,null,null,null,null,null,null,0,{"$f":"Раздел2!C84","v":0}]
[null,"Капоэйра","77",0,0,null,null,null,null,null,null,null,null,null,null,null,null,null,null,null,null,null,null,null,null,null,null,null,null,null,null,null,0,{"$f":"Раздел2!C85","v":0}]
[null,"Каратэ","78",0,0,null,null,null,null,null,null,null,null,null,null,null,null,null,null,null,null,null,null,null,null,null,null,null,null,null,null,null,0,{"$f":"Раздел2!C86","v":0}]
[null,"Кендо","79",0,0,null,null,null,null,null,null,null,null,null,null,null,null,null,null,null,null,null,null,null,null,null,null,null,null,null,null,null,0,{"$f":"Раздел2!C87","v":0}]
[null,"Керешу","80",0,0,null,null,null,null,null,null,null,null,null,null,null,null,null,null,null,null,null,null,null,null,null,null,null,null,null,null,null,0,{"$f":"Раздел2!C88","v":0}]
[null,"Кёрлинг - всего","81",0,0,{"$f":"SUM(F91:F93)","v":0},{"$f":"SUM(G91:G93)","v":0},0,0,0,0,0,0,0,0,0,0,0,0,0,0,0,0,0,0,0,0,0,0,0,0,null,0,{"$f":"Раздел2!C89","v":0}]
[null,"в том числе:\nКерлинг (муж.)","82",0,0,null,null,null,null,null,null,null,null,null,null,null,null,null,null,null,null,null,null,null,null,null,null,null,null,null,null,null,0,{"$f":"Раздел2!C90","v":0}]
[null,"Керлинг (жен.)","83",0,0,null,null,null,null,null,null,null,null,null,null,null,null,null,null,null,null,null,null,null,null,null,null,null,null,null,null,null,0,{"$f":"Раздел2!C91","v":0}]
[null,"Кёрлинг – смешанные пары","84",0,0,null,null,null,null,null,null,null,null,null,null,null,null,null,null,null,null,null,null,null,null,null,null,null,null,null,null,null,0,{"$f":"Раздел2!C92","v":0}]
[null,"Кикбоксинг","85",0,0,null,null,null,null,null,null,null,null,null,null,null,null,null,null,null,null,null,null,null,null,null,null,null,null,null,null,null,0,{"$f":"Раздел2!C93","v":0}]
[null,"Кинологический спорт","86",0,0,null,null,null,null,null,null,null,null,null,null,null,null,null,null,null,null,null,null,null,null,null,null,null,null,null,null,null,0,{"$f":"Раздел2!C94","v":0}]
[null,"Киокусинкай","87",0,0,null,null,null,null,null,null,null,null,null,null,null,null,null,null,null,null,null,null,null,null,null,null,null,null,null,null,null,0,{"$f":"Раздел2!C95","v":0}]
[null,"Киокушин","88",0,0,null,null,null,null,null,null,null,null,null,null,null,null,null,null,null,null,null,null,null,null,null,null,null,null,null,null,null,0,{"$f":"Раздел2!C96","v":0}]
[null,"Комплексное единоборство","89",0,0,null,null,null,null,null,null,null,null,null,null,null,null,null,null,null,null,null,null,null,null,null,null,null,null,null,null,null,0,{"$f":"Раздел2!C97","v":0}]
[null,"Компьютерный спорт","90",0,0,null,null,null,null,null,null,null,null,null,null,null,null,null,null,null,null,null,null,null,null,null,null,null,null,null,null,null,0,{"$f":"Раздел2!C98","v":0}]
[null,"Конный спорт","91",0,0,null,null,null,null,null,null,null,null,null,null,null,null,null,null,null,null,null,null,null,null,null,null,null,null,null,null,null,0,{"$f":"Раздел2!C99","v":0}]
[null,"Конькобежный спорт - всего","92",0,0,{"$f":"SUM(F102:F103)","v":0},{"$f":"SUM(G102:G103)","v":0},0,0,0,0,0,0,0,0,0,0,0,0,0,0,0,0,0,0,0,0,0,0,0,0,null,0,{"$f":"Раздел2!C100","v":0}]
[null,"в том числе:\nКонькобежный спорт","93",0,0,null,null,null,null,null,null,null,null,null,null,null,null,null,null,null,null,null,null,null,null,null,null,null,null,null,null,null,0,{"$f":"Раздел2!C101","v":0}]
[null,"Шорт-трек","94",0,0,null,null,null,null,null,null,null,null,null,null,null,null,null,null,null,null,null,null,null,null,null,null,null,null,null,null,null,0,{"$f":"Раздел2!C102","v":0}]
[null,"Корэш","95",0,0,null,null,null,null,null,null,null,null,null,null,null,null,null,null,null,null,null,null,null,null,null,null,null,null,null,null,null,0,{"$f":"Раздел2!C103","v":0}]
[null,"Крикет","96",0,0,null,null,null,null,null,null,null,null,null,null,null,null,null,null,null,null,null,null,null,null,null,null,null,null,null,null,null,0,{"$f":"Раздел2!C104","v":0}]
[null,"Кудо","97",0,0,null,null,null,null,null,null,null,null,null,null,null,null,null,null,null,null,null,null,null,null,null,null,null,null,null,null,null,0,{"$f":"Раздел2!C105","v":0}]
[null,"Лапта","98",0,0,null,null,null,null,null,null,null,null,null,null,null,null,null,null,null,null,null,null,null,null,null,null,null,null,null,null,null,0,{"$f":"Раздел2!C106","v":0}]
[null,"Легкая атлетика - всего","99",5,4,{"$f":"SUM(F109:F115)","v":5},{"$f":"SUM(G109:G115)","v":4},4,0,4,0,0,0,4,0,0,1,0,1,0,0,0,0,0,0,1,3,0,0,0,0,null,1,{"$f":"Раздел2!C107","v":1}]
[null,"в том числе:\nСпринтерский и барьерный бег","100",5,4,5,4,4,null,4,null,null,null,4,null,null,1,null,1,null,null,null,null,null,null,1,3,null,null,null,null,null,1,{"$f":"Раздел2!C108","v":1}]
[null,"Бег на средние дистанции и бег с препятствиями","101",0,0,null,null,null,null,null,null,null,null,null,null,null,null,null,null,null,null,null,null,null,null,null,null,null,null,null,null,null,0,{"$f":"Раздел2!C109","v":1}]
[null,"Бег на длинные и сверхдлинные дистанции","102",0,0,null,null,null,null,null,null,null,null,null,null,null,null,null,null,null,null,null,null,null,null,null,null,null,null,null,null,null,0,{"$f":"Раздел2!C110","v":0}]
[null,"Многоборья","103",0,0,null,null,null,null,null,null,null,null,null,null,null,null,null,null,null,null,null,null,null,null,null,null,null,null,null,null,null,0,{"$f":"Раздел2!C111","v":1}]
[null,"Прыжки","104",0,0,null,null,null,null,null,null,null,null,null,null,null,null,null,null,null,null,null,null,null,null,null,null,null,null,null,null,null,0,{"$f":"Раздел2!C112","v":1}]
[null,"Метания","105",0,0,null,null,null,null,null,null,null,null,null,null,null,null,null,null,null,null,null,null,null,null,null,null,null,null,null,null,null,0,{"$f":"Раздел2!C113","v":1}]
[null,"Спортивная ходьба","106",0,0,null,null,null,null,null,null,null,null,null,null,null,null,null,null,null,null,null,null,null,null,null,null,null,null,null,null,null,0,{"$f":"Раздел2!C114","v":0}]
[null,"Лыжное двоеборье","107",0,0,null,null,null,null,null,null,null,null,null,null,null,null,null,null,null,null,null,null,null,null,null,null,null,null,null,null,null,0,{"$f":"Раздел2!C115","v":0}]
[null,"Лыжные гонки","108",2,1,2,1,1,null,1,null,null,null,1,null,null,null,1,null,null,null,null,null,null,1,null,null,1,null,null,null,null,1,{"$f":"Раздел2!C116","v":1}]
[null,"Мас-рестлинг","109",0,0,null,null,null,null,null,null,null,null,null,null,null,null,null,null,null,null,null,null,null,null,null,null,null,null,null,null,null,0,{"$f":"Раздел2!C117","v":0}]
[null,"Международное военно-спортивное многоборье","110",0,0,null,null,null,null,null,null,null,null,null,null,null,null,null,null,null,null,null,null,null,null,null,null,null,null,null,null,null,0,{"$f":"Раздел2!C118","v":0}]
[null,"Микрофутзал","111",0,0,null,null,null,null,null,null,null,null,null,null,null,null,null,null,null,null,null,null,null,null,null,null,null,null,null,null,null,0,{"$f":"Раздел2!C119","v":0}]
[null,"Многоборье кинологов","112",0,0,null,null,null,null,null,null,null,null,null,null,null,null,null,null,null,null,null,null,null,null,null,null,null,null,null,null,null,0,{"$f":"Раздел2!C120","v":0}]
[null,"Многоборье спасателей МЧС России","113",0,0,null,null,null,null,null,null,null,null,null,null,null,null,null,null,null,null,null,null,null,null,null,null,null,null,null,null,null,0,{"$f":"Раздел2!C121","v":0}]
[null,"Морское многоборье","114",0,0,null,null,null,null,null,null,null,null,null,null,null,null,null,null,null,null,null,null,null,null,null,null,null,null,null,null,null,0,{"$f":"Раздел2!C122","v":0}]
[null,"Мотоциклетный спорт","115",0,0,null,null,null,null,null,null,null,null,null,null,null,null,null,null,null,null,null,null,null,null,null,null,null,null,null,null,null,0,{"$f":"Раздел2!C123","v":0}]
[null,"Нарды","116",0,0,null,null,null,null,null,null,null,null,null,null,null,null,null,null,null,null,null,null,null,null,null,null,null,null,null,null,null,0,{"$f":"Раздел2!C124","v":0}]
[null,"Настольный теннис","117",0,0,null,null,null,null,null,null,null,null,null,null,null,null,null,null,null,null,null,null,null,null,null,null,null,null,null,null,null,0,{"$f":"Раздел2!C125","v":0}]
[null,"Падел","118",0,0,null,null,null,null,null,null,null,null,null,null,null,null,null,null,null,null,null,null,null,null,null,null,null,null,null,null,null,0,{"$f":"Раздел2!C126","v":0}]
[null,"Парашютный спорт","119",0,0,null,null,null,null,null,null,null,null,null,null,null,null,null,null,null,null,null,null,null,null,null,null,null,null,null,null,null,0,{"$f":"Раздел2!C127","v":0}]
[null,"Парусный спорт","120",0,0,null,null,null,null,null,null,null,null,null,null,null,null,null,null,null,null,null,null,null,null,null,null,null,null,null,null,null,0,{"$f":"Раздел2!C128","v":0}]
[null,"Пауэрлифтинг","121",0,0,null,null,null,null,null,null,null,null,null,null,null,null,null,null,null,null,null,null,null,null,null,null,null,null,null,null,null,0,{"$f":"Раздел2!C129","v":0}]
[null,"Перетягивание каната","122",0,0,null,null,null,null,null,null,null,null,null,null,null,null,null,null,null,null,null,null,null,null,null,null,null,null,null,null,null,0,{"$f":"Раздел2!C130","v":0}]
[null,"Пилонный спорт","123",0,0,null,null,null,null,null,null,null,null,null,null,null,null,null,null,null,null,null,null,null,null,null,null,null,null,null,null,null,0,{"$f":"Раздел2!C131","v":0}]
[null,"Плавание - всего","124",0,0,{"$f":"SUM(F134:F135)","v":0},{"$f":"SUM(G134:G135)","v":0},0,0,0,0,0,0,0,0,0,0,0,0,0,0,0,0,0,0,0,0,0,0,0,0,null,0,{"$f":"Раздел2!C132","v":0}]
[null,"в том числе:\nПлавание ","125",0,0,null,null,null,null,null,null,null,null,null,null,null,null,null,null,null,null,null,null,null,null,null,null,null,null,null,null,null,0,{"$f":"Раздел2!C133","v":0}]
[null,"Открытая вода","126",0,0,null,null,null,null,null,null,null,null,null,null,null,null,null,null,null,null,null,null,null,null,null,null,null,null,null,null,null,0,{"$f":"Раздел2!C134","v":0}]
[null,"Планерный спорт","127",0,0,null,null,null,null,null,null,null,null,null,null,null,null,null,null,null,null,null,null,null,null,null,null,null,null,null,null,null,0,{"$f":"Раздел2!C135","v":0}]
[null,"Подводный спорт","128",0,0,null,null,null,null,null,null,null,null,null,null,null,null,null,null,null,null,null,null,null,null,null,null,null,null,null,null,null,0,{"$f":"Раздел2!C136","v":0}]
[null,"Пожарно-спасательный спорт","129",0,0,null,null,null,null,null,null,null,null,null,null,null,null,null,null,null,null,null,null,null,null,null,null,null,null,null,null,null,0,{"$f":"Раздел2!C137","v":0}]
[null,"Полиатлон","130",{"$f":"SUM(F139,AD139)","v":0},{"$f":"SUM(G139,AE139)","v":0},null,null,null,null,null,null,null,null,null,null,null,null,null,null,null,null,null,null,null,null,null,null,null,null,null,null,null,{"$f":"F139-G139","v":0},{"$f":"Раздел2!C138","v":0}]
[null,"Практическая стрельба","131",0,0,null,null,null,null,null,null,null,null,null,null,null,null,null,null,null,null,null,null,null,null,null,null,null,null,null,null,null,0,{"$f":"Раздел2!C139","v":0}]
[null,"Прыжки в воду - всего","132",0,0,{"$f":"SUM(F142:F143)","v":0},{"$f":"SUM(G142:G143)","v":0},0,0,0,0,0,0,0,0,0,0,0,0,0,0,0,0,0,0,0,0,0,0,0,0,null,0,{"$f":"Раздел2!C140","v":0}]
[null,"в том числе:\nПрыжки в воду","133",0,0,null,null,null,null,null,null,null,null,null,null,null,null,null,null,null,null,null,null,null,null,null,null,null,null,null,null,null,0,{"$f":"Раздел2!C141","v":0}]
[null,"Прыжки в открытый водоем","134",0,0,null,null,null,null,null,null,null,null,null,null,null,null,null,null,null,null,null,null,null,null,null,null,null,null,null,null,null,0,{"$f":"Раздел2!C142","v":0}]
[null,"Прыжки на батуте - всего","135",0,0,{"$f":"SUM(F145:F148)","v":0},{"$f":"SUM(G145:G148)","v":0},0,0,0,0,0,0,0,0,0,0,0,0,0,0,0,0,0,0,0,0,0,0,0,0,null,0,{"$f":"Раздел2!C143","v":0}]
[null,"в том числе:\nАкробатическая дорожка","136",0,0,null,null,null,null,null,null,null,null,null,null,null,null,null,null,null,null,null,null,null,null,null,null,null,null,null,null,null,0,{"$f":"Раздел2!C144","v":0}]
[null,"Двойной минитрамп","137",0,0,null,null,null,null,null,null,null,null,null,null,null,null,null,null,null,null,null,null,null,null,null,null,null,null,null,null,null,0,{"$f":"Раздел2!C145","v":0}]
[null,"Индивидуальные прыжки","138",0,0,null,null,null,null,null,null,null,null,null,null,null,null,null,null,null,null,null,null,null,null,null,null,null,null,null,null,null,0,{"$f":"Раздел2!C146","v":0}]
[null,"Синхронные прыжки","139",0,0,null,null,null,null,null,null,null,null,null,null,null,null,null,null,null,null,null,null,null,null,null,null,null,null,null,null,null,0,{"$f":"Раздел2!C147","v":0}]
[null,"Прыжки на лыжах с трамплина","140",0,0,null,null,null,null,null,null,null,null,null,null,null,null,null,null,null,null,null,null,null,null,null,null,null,null,null,null,null,0,{"$f":"Раздел2!C148","v":0}]
[null,"Пулевая стрельба - всего","141",0,0,{"$f":"SUM(F151:F155)","v":0},{"$f":"SUM(G151:G155)","v":0},0,0,0,0,0,0,0,0,0,0,0,0,0,0,0,0,0,0,0,0,0,0,0,0,null,0,{"$f":"Раздел2!C149","v":0}]
[null,"в том числе:\nПневматическая винтовка","142",0,0,null,null,null,null,null,null,null,null,null,null,null,null,null,null,null,null,null,null,null,null,null,null,null,null,null,null,null,0,{"$f":"Раздел2!C150","v":0}]
[null,"Пневматический пистолет","143",0,0,null,null,null,null,null,null,null,null,null,null,null,null,null,null,null,null,null,null,null,null,null,null,null,null,null,null,null,0,{"$f":"Раздел2!C151","v":0}]
[null,"Малокалиберная винтовка","144",0,0,null,null,null,null,null,null,null,null,null,null,null,null,null,null,null,null,null,null,null,null,null,null,null,null,null,null,null,0,{"$f":"Раздел2!C152","v":0}]
[null,"Малокалиберный пистолет","145",0,0,null,null,null,null,null,null,null,null,null,null,null,null,null,null,null,null,null,null,null,null,null,null,null,null,null,null,null,0,{"$f":"Раздел2!C153","v":0}]
[null,"Движущаяся мишень","146",0,0,null,null,null,null,null,null,null,null,null,null,null,null,null,null,null,null,null,null,null,null,null,null,null,null,null,null,null,0,{"$f":"Раздел2!C154","v":0}]
[null,"Пэйнтбол","147",0,0,null,null,null,null,null,null,null,null,null,null,null,null,null,null,null,null,null,null,null,null,null,null,null,null,null,null,null,0,{"$f":"Раздел2!C155","v":0}]
[null,"Радиоспорт","148",0,0,null,null,null,null,null,null,null,null,null,null,null,null,null,null,null,null,null,null,null,null,null,null,null,null,null,null,null,0,{"$f":"Раздел2!C156","v":0}]
[null,"Рафтинг","149",0,0,null,null,null,null,null,null,null,null,null,null,null,null,null,null,null,null,null,null,null,null,null,null,null,null,null,null,null,0,{"$f":"Раздел2!C157","v":0}]
[null,"Регби - всего","150",0,0,{"$f":"SUM(F160:F164)","v":0},{"$f":"SUM(G160:G164)","v":0},0,0,0,0,0,0,0,0,0,0,0,0,0,0,0,0,0,0,0,0,0,0,0,0,null,0,{"$f":"Раздел2!C158","v":0}]
[null,"в том числе:\nРегби","151",0,0,null,null,null,null,null,null,null,null,null,null,null,null,null,null,null,null,null,null,null,null,null,null,null,null,null,null,null,0,{"$f":"Раздел2!C159","v":0}]
[null,"Регби 7 (муж.)","152",0,0,null,null,null,null,null,null,null,null,null,null,null,null,null,null,null,null,null,null,null,null,null,null,null,null,null,null,null,0,{"$f":"Раздел2!C160","v":0}]
[null,"Регби 7 (жен.)","153",0,0,null,null,null,null,null,null,null,null,null,null,null,null,null,null,null,null,null,null,null,null,null,null,null,null,null,null,null,0,{"$f":"Раздел2!C161","v":0}]
[null,"Регби - пляжное","154",0,0,null,null,null,null,null,null,null,null,null,null,null,null,null,null,null,null,null,null,null,null,null,null,null,null,null,null,null,0,{"$f":"Раздел2!C162","v":0}]
[null,"Регби на снегу","155",0,0,null,null,null,null,null,null,null,null,null,null,null,null,null,null,null,null,null,null,null,null,null,null,null,null,null,null,null,0,{"$f":"Раздел2!C163","v":0}]
[null,"Регбол","156",0,0,null,null,null,null,null,null,null,null,null,null,null,null,null,null,null,null,null,null,null,null,null,null,null,null,null,null,null,0,{"$f":"Раздел2!C164","v":0}]
[null,"Роллер спорт","157",0,0,null,null,null,null,null,null,null,null,null,null,null,null,null,null,null,null,null,null,null,null,null,null,null,null,null,null,null,0,{"$f":"Раздел2!C165","v":0}]
[null,"Роуп скиппинг (спортивная скакалка)","158",0,0,null,null,null,null,null,null,null,null,null,null,null,null,null,null,null,null,null,null,null,null,null,null,null,null,null,null,null,0,{"$f":"Раздел2!C166","v":0}]
[null,"Рукопашный бой","159",0,0,null,null,null,null,null,null,null,null,null,null,null,null,null,null,null,null,null,null,null,null,null,null,null,null,null,null,null,0,{"$f":"Раздел2!C167","v":0}]
[null,"Рыболовный спорт","160",0,0,null,null,null,null,null,null,null,null,null,null,null,null,null,null,null,null,null,null,null,null,null,null,null,null,null,null,null,0,{"$f":"Раздел2!C168","v":0}]
[null,"Сават","161",0,0,null,null,null,null,null,null,null,null,null,null,null,null,null,null,null,null,null,null,null,null,null,null,null,null,null,null,null,0,{"$f":"Раздел2!C169","v":0}]
[null,"Самбо","162",0,0,null,null,null,null,null,null,null,null,null,null,null,null,null,null,null,null,null,null,null,null,null,null,null,null,null,null,null,0,{"$f":"Раздел2!C170","v":0}]
[null,"Самолетный спорт","163",0,0,null,null,null,null,null,null,null,null,null,null,null,null,null,null,null,null,null,null,null,null,null,null,null,null,null,null,null,0,{"$f":"Раздел2!C171","v":0}]
[null,"Санный спорт","164",0,0,null,null,null,null,null,null,null,null,null,null,null,null,null,null,null,null,null,null,null,null,null,null,null,null,null,null,null,0,{"$f":"Раздел2!C172","v":0}]
[null,"Северное многоборье","165",0,0,null,null,null,null,null,null,null,null,null,null,null,null,null,null,null,null,null,null,null,null,null,null,null,null,null,null,null,0,{"$f":"Раздел2!C173","v":0}]
[null,"Серфинг","166",0,0,null,null,null,null,null,null,null,null,null,null,null,null,null,null,null,null,null,null,null,null,null,null,null,null,null,null,null,0,{"$f":"Раздел2!C174","v":0}]
[null,"Силовой экстрим","167",0,0,null,null,null,null,null,null,null,null,null,null,null,null,null,null,null,null,null,null,null,null,null,null,null,null,null,null,null,0,{"$f":"Раздел2!C175","v":0}]
[null,"Синхронное плавание","168",0,0,null,null,null,null,null,null,null,null,null,null,null,null,null,null,null,null,null,null,null,null,null,null,null,null,null,null,null,0,{"$f":"Раздел2!C176","v":0}]
[null,"Скалолазание","169",0,0,null,null,null,null,null,null,null,null,null,null,null,null,null,null,null,null,null,null,null,null,null,null,null,null,null,null,null,0,{"$f":"Раздел2!C177","v":0}]
[null,"Сквош","170",0,0,null,null,null,null,null,null,null,null,null,null,null,null,null,null,null,null,null,null,null,null,null,null,null,null,null,null,null,0,{"$f":"Раздел2!C178","v":0}]
[null,"Скейтбординг","171",0,0,null,null,null,null,null,null,null,null,null,null,null,null,null,null,null,null,null,null,null,null,null,null,null,null,null,null,null,0,{"$f":"Раздел2!C179","v":0}]
[null,"Служебно-боевая стрельба ","172",0,0,null,null,null,null,null,null,null,null,null,null,null,null,null,null,null,null,null,null,null,null,null,null,null,null,null,null,null,0,{"$f":"Раздел2!C180","v":0}]
[null,"Служебно-прикладной спорт","173",0,0,null,null,null,null,null,null,null,null,null,null,null,null,null,null,null,null,null,null,null,null,null,null,null,null,null,null,null,0,{"$f":"Раздел2!C181","v":0}]
[null,"Служебно-прикладной спорт ФСО России","174",0,0,null,null,null,null,null,null,null,null,null,null,null,null,null,null,null,null,null,null,null,null,null,null,null,null,null,null,null,0,{"$f":"Раздел2!C182","v":0}]
[null,"Служебно-прикладной спорт ФТС России","175",0,0,null,null,null,null,null,null,null,null,null,null,null,null,null,null,null,null,null,null,null,null,null,null,null,null,null,null,null,0,{"$f":"Раздел2!C183","v":0}]
[null,"Служебное двоеборье","176",0,0,null,null,null,null,null,null,null,null,null,null,null,null,null,null,null,null,null,null,null,null,null,null,null,null,null,null,null,0,{"$f":"Раздел2!C184","v":0}]
[null,"Служебное единоборство","177",0,0,null,null,null,null,null,null,null,null,null,null,null,null,null,null,null,null,null,null,null,null,null,null,null,null,null,null,null,0,{"$f":"Раздел2!C185","v":0}]
[null,"Служебное многоборье","178",0,0,null,null,null,null,null,null,null,null,null,null,null,null,null,null,null,null,null,null,null,null,null,null,null,null,null,null,null,0,{"$f":"Раздел2!C186","v":0}]
[null,"Служебный биатлон","179",0,0,null,null,null,null,null,null,null,null,null,null,null,null,null,null,null,null,null,null,null,null,null,null,null,null,null,null,null,0,{"$f":"Раздел2!C187","v":0}]
[null,"Спасательный спорт","180",0,0,null,null,null,null,null,null,null,null,null,null,null,null,null,null,null,null,null,null,null,null,null,null,null,null,null,null,null,0,{"$f":"Раздел2!C188","v":0}]
[null,"Стрельба из боевого ручного стрелкового оружия","181",0,0,null,null,null,null,null,null,null,null,null,null,null,null,null,null,null,null,null,null,null,null,null,null,null,null,null,null,null,0,{"$f":"Раздел2!C189","v":0}]
[null,"Стрельба из штатного или табельного оружия","182",0,0,null,null,null,null,null,null,null,null,null,null,null,null,null,null,null,null,null,null,null,null,null,null,null,null,null,null,null,0,{"$f":"Раздел2!C190","v":0}]
[null,"Стрельба на дальние дистанции","183",0,0,null,null,null,null,null,null,null,null,null,null,null,null,null,null,null,null,null,null,null,null,null,null,null,null,null,null,null,0,{"$f":"Раздел2!C191","v":0}]
[null,"Смешанное боевое единоборство (ММА)","184",0,0,null,null,null,null,null,null,null,null,null,null,null,null,null,null,null,null,null,null,null,null,null,null,null,null,null,null,null,0,{"$f":"Раздел2!C192","v":0}]
[null,"Сноуборд","185",0,0,null,null,null,null,null,null,null,null,null,null,null,null,null,null,null,null,null,null,null,null,null,null,null,null,null,null,null,0,{"$f":"Раздел2!C193","v":0}]
[null,"Современное пятиборье","186",0,0,null,null,null,null,null,null,null,null,null,null,null,null,null,null,null,null,null,null,null,null,null,null,null,null,null,null,null,0,{"$f":"Раздел2!C194","v":0}]
[null,"Софтбол","187",0,0,null,null,null,null,null,null,null,null,null,null,null,null,null,null,null,null,null,null,null,null,null,null,null,null,null,null,null,0,{"$f":"Раздел2!C195","v":0}]
[null,"Спорт сверхлегкой авиации","188",0,0,null,null,null,null,null,null,null,null,null,null,null,null,null,null,null,null,null,null,null,null,null,null,null,null,null,null,null,0,{"$f":"Раздел2!C196","v":0}]
[null,"Спортивная акробатика","189",0,0,null,null,null,null,null,null,null,null,null,null,null,null,null,null,null,null,null,null,null,null,null,null,null,null,null,null,null,0,{"$f":"Раздел2!C197","v":0}]
[null,"Спортивная аэробика","190",0,0,null,null,null,null,null,null,null,null,null,null,null,null,null,null,null,null,null,null,null,null,null,null,null,null,null,null,null,0,{"$f":"Раздел2!C198","v":0}]
[null,"Спортивная борьба - всего","191",0,0,{"$f":"SUM(F201:F205)","v":0},{"$f":"SUM(G201:G205)","v":0},0,0,0,0,0,0,0,0,0,0,0,0,0,0,0,0,0,0,0,0,0,0,0,0,null,0,{"$f":"Раздел2!C199","v":0}]
[null,"в том числе:\nВольная борьба","192",0,0,null,null,null,null,null,null,null,null,null,null,null,null,null,null,null,null,null,null,null,null,null,null,null,null,null,null,null,0,{"$f":"Раздел2!C200","v":0}]
[null,"Греко-римская борьба","193",0,0,null,null,null,null,null,null,null,null,null,null,null,null,null,null,null,null,null,null,null,null,null,null,null,null,null,null,null,0,{"$f":"Раздел2!C201","v":0}]
[null,"Грэпплинг","194",{"$f":"SUM(F203,AD203)","v":0},{"$f":"SUM(G203,AE203)","v":0},null,null,null,null,null,null,null,null,null,null,null,null,null,null,null,null,null,null,null,null,null,null,null,null,null,null,null,{"$f":"F203-G203","v":0},{"$f":"Раздел2!C202","v":0}]
[null,"Грэпплинг-ги","195",0,0,null,null,null,null,null,null,null,null,null,null,null,null,null,null,null,null,null,null,null,null,null,null,null,null,null,null,null,0,{"$f":"Раздел2!C203","v":0}]
[null,"Панкратион","196",0,0,null,null,null,null,null,null,null,null,null,null,null,null,null,null,null,null,null,null,null,null,null,null,null,null,null,null,null,0,{"$f":"Раздел2!C204","v":0}]
[null,"Спортивная гимнастика","197",0,0,null,null,null,null,null,null,null,null,null,null,null,null,null,null,null,null,null,null,null,null,null,null,null,null,null,null,null,0,{"$f":"Раздел2!C205","v":0}]
[null,"Спортивная йога","198",0,0,null,null,null,null,null,null,null,null,null,null,null,null,null,null,null,null,null,null,null,null,null,null,null,null,null,null,null,0,{"$f":"Раздел2!C206","v":0}]
[null,"Спортивно-прикладное собаководство","199",0,0,null,null,null,null,null,null,null,null,null,null,null,null,null,null,null,null,null,null,null,null,null,null,null,null,null,null,null,0,{"$f":"Раздел2!C207","v":0}]
[null,"Спортивное программирование","200",0,0,null,null,null,null,null,null,null,null,null,null,null,null,null,null,null,null,null,null,null,null,null,null,null,null,null,null,null,0,{"$f":"Раздел2!C208","v":0}]
[null,"Спортивное метание ножа","201",0,0,null,null,null,null,null,null,null,null,null,null,null,null,null,null,null,null,null,null,null,null,null,null,null,null,null,null,null,0,{"$f":"Раздел2!C209","v":0}]
[null,"Спортивное ориентирование","202",0,0,null,null,null,null,null,null,null,null,null,null,null,null,null,null,null,null,null,null,null,null,null,null,null,null,null,null,null,0,{"$f":"Раздел2!C210","v":0}]
[null,"Спортивный бридж","203",0,0,null,null,null,null,null,null,null,null,null,null,null,null,null,null,null,null,null,null,null,null,null,null,null,null,null,null,null,0,{"$f":"Раздел2!C211","v":0}]
[null,"Спортивный туризм","204",0,0,null,null,null,null,null,null,null,null,null,null,null,null,null,null,null,null,null,null,null,null,null,null,null,null,null,null,null,0,{"$f":"Раздел2!C212","v":0}]
[null,"Стендовая стрельба - всего","205",0,0,{"$f":"SUM(F215:F218)","v":0},{"$f":"SUM(G215:G218)","v":0},0,0,0,0,0,0,0,0,0,0,0,0,0,0,0,0,0,0,0,0,0,0,0,0,null,0,{"$f":"Раздел2!C213","v":0}]
[null,"в том числе:\nТрап","206",0,0,null,null,null,null,null,null,null,null,null,null,null,null,null,null,null,null,null,null,null,null,null,null,null,null,null,null,null,0,{"$f":"Раздел2!C214","v":0}]
[null,"Скит","207",0,0,null,null,null,null,null,null,null,null,null,null,null,null,null,null,null,null,null,null,null,null,null,null,null,null,null,null,null,0,{"$f":"Раздел2!C215","v":0}]
[null,"Дубль-трап","208",0,0,null,null,null,null,null,null,null,null,null,null,null,null,null,null,null,null,null,null,null,null,null,null,null,null,null,null,null,0,{"$f":"Раздел2!C216","v":0}]
[null,"Спортинг","209",0,0,null,null,null,null,null,null,null,null,null,null,null,null,null,null,null,null,null,null,null,null,null,null,null,null,null,null,null,0,{"$f":"Раздел2!C217","v":0}]
[null,"Страйкбол","210",0,0,null,null,null,null,null,null,null,null,null,null,null,null,null,null,null,null,null,null,null,null,null,null,null,null,null,null,null,0,{"$f":"Раздел2!C218","v":0}]
[null,"Стрельба из арбалета","211",0,0,null,null,null,null,null,null,null,null,null,null,null,null,null,null,null,null,null,null,null,null,null,null,null,null,null,null,null,0,{"$f":"Раздел2!C219","v":0}]
[null,"Стрельба из лука - всего","212",0,0,{"$f":"SUM(F222:F224)","v":0},{"$f":"SUM(G222:G224)","v":0},0,0,0,0,0,0,0,0,0,0,0,0,0,0,0,0,0,0,0,0,0,0,0,0,null,0,{"$f":"Раздел2!C220","v":0}]
[null,"в том числе:\nКлассический лук","213",0,0,null,null,null,null,null,null,null,null,null,null,null,null,null,null,null,null,null,null,null,null,null,null,null,null,null,null,null,0,{"$f":"Раздел2!C221","v":0}]
[null,"   Блочный лук","214",0,0,null,null,null,null,null,null,null,null,null,null,null,null,null,null,null,null,null,null,null,null,null,null,null,null,null,null,null,0,{"$f":"Раздел2!C222","v":0}]
[null,"   Ачери ","215",0,0,null,null,null,null,null,null,null,null,null,null,null,null,null,null,null,null,null,null,null,null,null,null,null,null,null,null,null,0,{"$f":"Раздел2!C223","v":0}]
[null,"Судомодельный спорт","216",0,0,null,null,null,null,null,null,null,null,null,null,null,null,null,null,null,null,null,null,null,null,null,null,null,null,null,null,null,0,{"$f":"Раздел2!C224","v":0}]
[null,"Сумо","217",0,0,null,null,null,null,null,null,null,null,null,null,null,null,null,null,null,null,null,null,null,null,null,null,null,null,null,null,null,0,{"$f":"Раздел2!C225","v":0}]
[null,"Таврели","218",0,0,null,null,null,null,null,null,null,null,null,null,null,null,null,null,null,null,null,null,null,null,null,null,null,null,null,null,null,0,{"$f":"Раздел2!C226","v":0}]
[null,"Тайский бокс","219",0,0,null,null,null,null,null,null,null,null,null,null,null,null,null,null,null,null,null,null,null,null,null,null,null,null,null,null,null,0,{"$f":"Раздел2!C227","v":0}]
[null,"Танцевальный спорт - всего","220",0,0,{"$f":"SUM(F230:F231)","v":0},{"$f":"SUM(G230:G231)","v":0},0,0,0,0,0,0,0,0,0,0,0,0,0,0,0,0,0,0,0,0,0,0,0,0,null,0,{"$f":"Раздел2!C228","v":0}]
[null,"в том числе:\nТанцевальный спорт ","221",0,0,null,null,null,null,null,null,null,null,null,null,null,null,null,null,null,null,null,null,null,null,null,null,null,null,null,null,null,0,{"$f":"Раздел2!C229","v":0}]
[null,"Брейкинг","222",0,0,null,null,null,null,null,null,null,null,null,null,null,null,null,null,null,null,null,null,null,null,null,null,null,null,null,null,null,0,{"$f":"Раздел2!C230","v":0}]
[null,"Теннис","223",0,0,null,null,null,null,null,null,null,null,null,null,null,null,null,null,null,null,null,null,null,null,null,null,null,null,null,null,null,0,{"$f":"Раздел2!C231","v":0}]
[null,"Триатлон","224",0,0,null,null,null,null,null,null,null,null,null,null,null,null,null,null,null,null,null,null,null,null,null,null,null,null,null,null,null,0,{"$f":"Раздел2!C232","v":0}]
[null,"Тхэквондо (ВТФ)","225",0,0,null,null,null,null,null,null,null,null,null,null,null,null,null,null,null,null,null,null,null,null,null,null,null,null,null,null,null,0,{"$f":"Раздел2!C233","v":0}]
[null,"Тхэквондо ГТФ","226",0,0,null,null,null,null,null,null,null,null,null,null,null,null,null,null,null,null,null,null,null,null,null,null,null,null,null,null,null,0,{"$f":"Раздел2!C234","v":0}]
[null,"Тхэквондо ИТФ","227",0,0,null,null,null,null,null,null,null,null,null,null,null,null,null,null,null,null,null,null,null,null,null,null,null,null,null,null,null,0,{"$f":"Раздел2!C235","v":0}]
[null,"Тхэквондо МФТ","228",0,0,null,null,null,null,null,null,null,null,null,null,null,null,null,null,null,null,null,null,null,null,null,null,null,null,null,null,null,0,{"$f":"Раздел2!C236","v":0}]
[null,"Тяжелая атлетика","229",0,0,null,null,null,null,null,null,null,null,null,null,null,null,null,null,null,null,null,null,null,null,null,null,null,null,null,null,null,0,{"$f":"Раздел2!C237","v":0}]
[null,"Универсальный бой","230",0,0,null,null,null,null,null,null,null,null,null,null,null,null,null,null,null,null,null,null,null,null,null,null,null,null,null,null,null,0,{"$f":"Раздел2!C238","v":0}]
[null,"Ушу","231",0,0,null,null,null,null,null,null,null,null,null,null,null,null,null,null,null,null,null,null,null,null,null,null,null,null,null,null,null,0,{"$f":"Раздел2!C239","v":0}]
[null,"Фехтование - всего","232",0,0,{"$f":"SUM(F242:F245)","v":0},{"$f":"SUM(G242:G245)","v":0},0,0,0,0,0,0,0,0,0,0,0,0,0,0,0,0,0,0,0,0,0,0,0,0,null,0,{"$f":"Раздел2!C240","v":0}]
[null,"в том числе:\nРапира","233",0,0,null,null,null,null,null,null,null,null,null,null,null,null,null,null,null,null,null,null,null,null,null,null,null,null,null,null,null,0,{"$f":"Раздел2!C241","v":0}]
[null,"Сабля","234",0,0,null,null,null,null,null,null,null,null,null,null,null,null,null,null,null,null,null,null,null,null,null,null,null,null,null,null,null,0,{"$f":"Раздел2!C242","v":0}]
[null,"Шпага","235",0,0,null,null,null,null,null,null,null,null,null,null,null,null,null,null,null,null,null,null,null,null,null,null,null,null,null,null,null,0,{"$f":"Раздел2!C243","v":0}]
[null,"Арт-фехтование","236",0,0,null,null,null,null,null,null,null,null,null,null,null,null,null,null,null,null,null,null,null,null,null,null,null,null,null,null,null,0,{"$f":"Раздел2!C244","v":0}]
[null,"Фигурное катание на коньках","237",0,0,null,null,null,null,null,null,null,null,null,null,null,null,null,null,null,null,null,null,null,null,null,null,null,null,null,null,null,0,{"$f":"Раздел2!C245","v":0}]
[null,"Фитнес-аэробика","238",0,0,null,null,null,null,null,null,null,null,null,null,null,null,null,null,null,null,null,null,null,null,null,null,null,null,null,null,null,0,{"$f":"Раздел2!C246","v":0}]
[null,"Флаинг диск","239",0,0,null,null,null,null,null,null,null,null,null,null,null,null,null,null,null,null,null,null,null,null,null,null,null,null,null,null,null,0,{"$f":"Раздел2!C247","v":0}]
[null,"Флорбол","240",0,0,null,null,null,null,null,null,null,null,null,null,null,null,null,null,null,null,null,null,null,null,null,null,null,null,null,null,null,0,{"$f":"Раздел2!C248","v":0}]
[null,"Фристайл - всего","241",0,0,{"$f":"SUM(F251:F256)","v":0},{"$f":"SUM(G251:G256)","v":0},0,0,0,0,0,0,0,0,0,0,0,0,0,0,0,0,0,0,0,0,0,0,0,0,null,0,{"$f":"Раздел2!C249","v":0}]
[null,"в том числе:\nАкробатика","242",0,0,null,null,null,null,null,null,null,null,null,null,null,null,null,null,null,null,null,null,null,null,null,null,null,null,null,null,null,0,{"$f":"Раздел2!C250","v":0}]
[null,"Биг-эйр","243",0,0,null,null,null,null,null,null,null,null,null,null,null,null,null,null,null,null,null,null,null,null,null,null,null,null,null,null,null,0,{"$f":"Раздел2!C251","v":0}]
[null,"Могул","244",0,0,null,null,null,null,null,null,null,null,null,null,null,null,null,null,null,null,null,null,null,null,null,null,null,null,null,null,null,0,{"$f":"Раздел2!C252","v":0}]
[null,"Ски-кросс","245",0,0,null,null,null,null,null,null,null,null,null,null,null,null,null,null,null,null,null,null,null,null,null,null,null,null,null,null,null,0,{"$f":"Раздел2!C253","v":0}]
[null,"Хаф-пайп","246",0,0,null,null,null,null,null,null,null,null,null,null,null,null,null,null,null,null,null,null,null,null,null,null,null,null,null,null,null,0,{"$f":"Раздел2!C254","v":0}]
[null,"Слоуп-стайл","247",0,0,null,null,null,null,null,null,null,null,null,null,null,null,null,null,null,null,null,null,null,null,null,null,null,null,null,null,null,0,{"$f":"Раздел2!C255","v":0}]
[null,"Функциональное многоборье","248",0,0,null,null,null,null,null,null,null,null,null,null,null,null,null,null,null,null,null,null,null,null,null,null,null,null,null,null,null,0,{"$f":"Раздел2!C256","v":0}]
[null,"Футбол - всего","249",0,0,{"$f":"SUM(F259:F264)","v":0},{"$f":"SUM(G259:G264)","v":0},0,0,0,0,0,0,0,0,0,0,0,0,0,0,0,0,0,0,0,0,0,0,0,0,null,0,{"$f":"Раздел2!C257","v":0}]
[null,"в том числе:\nФутбол (муж.)","250",0,0,null,null,null,null,null,null,null,null,null,null,null,null,null,null,null,null,null,null,null,null,null,null,null,null,null,null,null,0,{"$f":"Раздел2!C258","v":0}]
[null,"Футбол (жен.)","251",0,0,null,null,null,null,null,null,null,null,null,null,null,null,null,null,null,null,null,null,null,null,null,null,null,null,null,null,null,0,{"$f":"Раздел2!C259","v":0}]
[null,"Мини-футбол (футзал)","252",0,0,null,null,null,null,null,null,null,null,null,null,null,null,null,null,null,null,null,null,null,null,null,null,null,null,null,null,null,0,{"$f":"Раздел2!C260","v":0}]
[null,"Пляжный футбол","253",0,0,null,null,null,null,null,null,null,null,null,null,null,null,null,null,null,null,null,null,null,null,null,null,null,null,null,null,null,0,{"$f":"Раздел2!C261","v":0}]
[null,"Футбол 6х6, 7х7, 8х8","254",0,0,null,null,null,null,null,null,null,null,null,null,null,null,null,null,null,null,null,null,null,null,null,null,null,null,null,null,null,0,{"$f":"Раздел2!C262","v":0}]
[null,"Интерактивный футбол","255",0,0,null,null,null,null,null,null,null,null,null,null,null,null,null,null,null,null,null,null,null,null,null,null,null,null,null,null,null,0,{"$f":"Раздел2!C263","v":0}]
[null,"Хапкидо","256",0,0,null,null,null,null,null,null,null,null,null,null,null,null,null,null,null,null,null,null,null,null,null,null,null,null,null,null,null,0,{"$f":"Раздел2!C264","v":0}]
[null,"Хапсагай","257",0,0,null,null,null,null,null,null,null,null,null,null,null,null,null,null,null,null,null,null,null,null,null,null,null,null,null,null,null,0,{"$f":"Раздел2!C265","v":0}]
[null,"Хоккей - всего","258",{"$f":"SUM(F267,AD267)","v":0},{"$f":"SUM(G267,AE267)","v":0},{"$f":"SUM(F268:F269)","v":0},{"$f":"SUM(G268:G269)","v":0},0,0,0,0,0,0,0,0,0,0,0,0,0,0,0,0,0,0,0,0,0,0,0,0,null,{"$f":"F267-G267","v":0},{"$f":"Раздел2!C266","v":0}]
[null,"в том числе:\nХоккей (муж.)","259",0,0,null,null,null,null,null,null,null,null,null,null,null,null,null,null,null,null,null,null,null,null,null,null,null,null,null,null,null,0,{"$f":"Раздел2!C267","v":0}]
[null,"Хоккей (жен.)","260",0,0,null,null,null,null,null,null,null,null,null,null,null,null,null,null,null,null,null,null,null,null,null,null,null,null,null,null,null,0,{"$f":"Раздел2!C268","v":0}]
[null,"Хоккей на траве - всего","261",0,0,{"$f":"SUM(F271:F273)","v":0},{"$f":"SUM(G271:G273)","v":0},0,0,0,0,0,0,0,0,0,0,0,0,0,0,0,0,0,0,0,0,0,0,0,0,null,0,{"$f":"Раздел2!C269","v":0}]
[null,"в том числе:\nХоккей на траве (муж.)","262",0,0,null,null,null,null,null,null,null,null,null,null,null,null,null,null,null,null,null,null,null,null,null,null,null,null,null,null,null,0,{"$f":"Раздел2!C270","v":0}]
[null,"Хоккей на траве (жен.)","263",0,0,null,null,null,null,null,null,null,null,null,null,null,null,null,null,null,null,null,null,null,null,null,null,null,null,null,null,null,0,{"$f":"Раздел2!C271","v":0}]
[null,"Индорхоккей","264",0,0,null,null,null,null,null,null,null,null,null,null,null,null,null,null,null,null,null,null,null,null,null,null,null,null,null,null,null,0,{"$f":"Раздел2!C272","v":0}]
[null,"Хоккей с мячом","265",0,0,null,null,null,null,null,null,null,null,null,null,null,null,null,null,null,null,null,null,null,null,null,null,null,null,null,null,null,0,{"$f":"Раздел2!C273","v":0}]
[null,"Художественная гимнастика","266",0,0,null,null,null,null,null,null,null,null,null,null,null,null,null,null,null,null,null,null,null,null,null,null,null,null,null,null,null,0,{"$f":"Раздел2!C274","v":0}]
[null,"Хуреш","267",0,0,null,null,null,null,null,null,null,null,null,null,null,null,null,null,null,null,null,null,null,null,null,null,null,null,null,null,null,0,{"$f":"Раздел2!C275","v":0}]
[null,"Чир спорт","268",0,0,null,null,null,null,null,null,null,null,null,null,null,null,null,null,null,null,null,null,null,null,null,null,null,null,null,null,null,0,{"$f":"Раздел2!C276","v":0}]
[null,"Шахматы","269",1,1,1,1,1,null,null,null,null,null,null,null,1,null,null,null,null,null,null,null,null,null,null,null,1,null,null,null,null,0,{"$f":"Раздел2!C277","v":1}]
[null,"Шашки","270",0,0,null,null,null,null,null,null,null,null,null,null,null,null,null,null,null,null,null,null,null,null,null,null,null,null,null,null,null,0,{"$f":"Раздел2!C278","v":0}]
[null,"Шодсанлат","271",0,0,null,null,null,null,null,null,null,null,null,null,null,null,null,null,null,null,null,null,null,null,null,null,null,null,null,null,null,0,{"$f":"Раздел2!C279","v":0}]
[null,"Эстетическая гимнастика","272",0,0,null,null,null,null,null,null,null,null,null,null,null,null,null,null,null,null,null,null,null,null,null,null,null,null,null,null,null,0,{"$f":"Раздел2!C280","v":0}]
[null,"Якутские национальные прыжки","273",0,0,null,null,null,null,null,null,null,null,null,null,null,null,null,null,null,null,null,null,null,null,null,null,null,null,null,null,null,0,{"$f":"Раздел2!C281","v":0}]
[null,"Тренеры ЦСП","274",0,0,null,null,null,null,null,null,null,null,null,null,null,null,null,null,null,null,null,null,null,null,null,null,null,null,null,null,null,0]
[null,"ИТОГО","275",24,15,{"$f":"SUM(F10:F23,F27:F30,F33:F38,F49:F54,F59:F61,F43:F46,F65:F75,F80:F90,F94:F101,F104:F108,F116:F119,F120:F133,F136:F141,F144,F149:F150,F156:F159,F165:F166,F167:F181,F182:F200,F206:F211,F212:F214,F219:F221,F225:F229,F232:F241,F246:F250,F257:F258,F265:F267,F270,F274:F283)","v":24},{"$f":"SUM(G10:G23,G27:G30,G33:G38,G49:G54,G59:G61,G43:G46,G65:G75,G80:G90,G94:G101,G104:G108,G116:G119,G120:G133,G136:G141,G144,G149:G150,G156:G159,G165:G166,G167:G181,G182:G200,G206:G211,G212:G214,G219:G221,G225:G229,G232:G241,G246:G250,G257:G258,G265:G267,G270,G274:G283)","v":15},14,1,12,0,1,0,11,0,3,6,3,6,0,0,0,1,0,4,3,10,2,0,0,0,null,9]

{"sheet":"Раздел10","index":10,"n_rows":27,"n_cols":15,"rows_kept":27,"cut":false,"hidden":false,"merged":[[5,11,6,11],[5,5,6,5],[5,6,6,6],[5,7,5,8],[5,9,6,9],[5,10,6,10],[5,12,6,12],[0,0,0,8],[1,0,2,0],[1,14,2,14],[2,11,2,13],[1,1,1,13],[5,13,6,13],[3,1,6,1],[3,2,6,2],[3,3,4,4],[3,5,3,13],[4,5,4,8],[4,9,4,11],[4,12,4,13],[5,3,6,3],[5,4,6,4]]}
[]
[null,"Раздел X. Административные работники и специалисты"]
[null,null,null,null,null,null,null,null,null,null,null,"Код по ОКЕИ: человек – 792"]
[null,"Наименование должности","№ строки","Число работников",null,"из них имеют (из гр. 4):"]
[null,null,null,null,null,"профессиональное образование",null,null,null,"квалификационную категорию",null,null,"почетные звания"]
[null,null,null,"Всего","в том числе штатные","высшее","среднее","в том числе\nфизкультурное",null,"высшую","первую","вторую","Заслужен-ный тренер России","Заслуженный работник физической культуры Российской Федерации"]
[null,null,null,null,null,null,null,"высшее","среднее"]
[null,1,2,3,4,5,6,7,8,9,10,11,12,13,"р11"]
[null,"Директор (руководитель)","01",1,1,1,null,1,null,1,null,null,null,null,{"$f":"Раздел11!E42","v":14}]
[null,"Заместители директора, руководители структурных подразделений и их заместители","02",{"$f":"SUM(D11:D12)","v":3},{"$f":"SUM(E11:E12)","v":3},2,0,1,0,0,0,1,0,0]
[null,"      в том числе:\n   по спортивной работе","03",1,1,1,null,1,null,null,null,1]
[null,"   другие (в том числе  руководители структурных подразделений и их заместители)","04",2,2,1]
[null,"Инструкторы по спорту","05"]
[null,"Спортсмены, спортсмены-инструкторы","06"]
[null,"   в том числе:\n   проходящие спортивную подготовку в \n   организациях, осуществляющих спортивную \n   подготовку","07"]
[null,"Инструкторы – методисты (включая старшего)","08",2,2,2,null,1,null,null,null,2]
[null,"Преподаватели","09"]
[null,"Воспитатели (включая старшего)","10"]
[null,"Методисты (включая старшего)","11"]
[null,"Педагоги – психологи","12"]
[null,"Медицинские работники:","13",{"$f":"SUM(D22:D24)","v":0},{"$f":"SUM(E22:E24)","v":0},0,0,0,0,0,0,0,0,0]
[null,"   в том числе:\n   врачи","14"]
[null,"   средний медицинский персонал","15"]
[null,"   младший медицинский персонал","16"]
[null,"Специалисты спортсооружений","17"]
[null,"Прочий персонал","18",18,12,2,10]
[null,"ИТОГО","19",{"$f":"SUM(D9:D10,D13:D14,D16:D21,D25:D26)","v":24},{"$f":"SUM(E9:E10,E13:E14,E16:E21,E25:E26)","v":18},7,10,3,0,1,0,3,0,0]

{"sheet":"Раздел11","index":11,"n_rows":42,"n_cols":17,"rows_kept":42,"cut":false,"hidden":false,"merged":[[0,0,0,8],[1,0,41,0],[1,1,1,14],[2,11,2,15],[3,1,5,1],[3,2,5,2],[3,3,5,3],[3,4,3,8],[3,9,3,13],[3,14,5,14],[3,15,5,15],[4,4,5,4],[4,5,4,8],[4,9,5,9],[4,10,4,13]]}
[]
[null,"Раздел XI. Спортивные сооружения"]
[null,null,null,null,null,null,null,null,null,null,null,"Код по ОКЕИ: единица – 642"]
[null,"Наименование спортивного сооружения","№ стро-ки","Число спортивных сооружений – всего","находящихся на балансе",null,null,null,null,"арендуемых",null,null,null,null,"используемых на безвозмездной основе","Количество спортсооружений, входящих во Всероссийский реестр объектов спорта (из гр. 3)"]
[null,null,null,null,"всего","в том числе по формам собственности:",null,null,null,"всего","в том числе по формам собственности:"]
[null,null,null,null,null,"федеральной","субъектов Российской Федерации","муници-пальной","другой",null,"федеральной","субъектов Российской Федерации","муници-пальной","другой"]
[null,1,2,3,4,5,6,7,8,9,10,11,12,13,14,15,"р13"]
[null,"Стадионы с трибунами – всего","01",{"$f":"E8+J8+O8","v":0},{"$f":"SUM(F8:I8)","v":0},null,null,null,null,{"$f":"SUM(K8:N8)","v":0},null,null,null,null,null,null,{"$f":"SUM(Раздел13!D22:D23)","v":4431.6000000000004}]
[null,"в том числе на 1500 мест и более","02",{"$f":"E9+J9+O9","v":0},{"$f":"SUM(F9:I9)","v":0},null,null,null,null,{"$f":"SUM(K9:N9)","v":0}]
[null,"Плоскостные спортивные сооружения - всего","03",1,1,{"$f":"SUM(F11:F12)","v":0},{"$f":"SUM(G11:G12)","v":0},{"$f":"SUM(H11:H12)","v":1},0,0,{"$f":"SUM(K11:K12)","v":0},{"$f":"SUM(L11:L12)","v":0},0,0,0,{"$f":"SUM(P11:P12)","v":0}]
[null,"в том числе:\nПлоскостные спортивные сооружения","04",1,1,null,null,1,null,0]
[null,"Футбольные поля","05",0,0,null,null,null,null,0]
[null,"Спортивные залы – всего","06",13,10,{"$f":"SUM(F14:F17)","v":0},{"$f":"SUM(G14:G17)","v":0},{"$f":"SUM(H14:H17)","v":10},0,3,{"$f":"SUM(K14:K17)","v":0},{"$f":"SUM(L14:L17)","v":0},2,1,0,{"$f":"SUM(P14:P17)","v":0}]
[null,"      в том числе размером:\n     (42 х 24 м)","07",0,0,null,null,null,null,0]
[null,"     (36 х 18 м); (30 х 18 м) и (30 х 15 м)","08",1,0,null,null,null,null,1,null,null,null,1]
[null,"     (24 х 12 м) и (18 х 9 м)","09",3,1,null,null,1,null,2,null,null,2]
[null,"     иных размеров",10,9,9,null,null,9,null,0]
[null,"Манежи легкоатлетические",11,1,1,null,null,1,null,0]
[null,"Манежи футбольные",12,0,0,null,null,null,null,0]
[null,"Велотреки",13,0,0,null,null,null,null,0]
[null,"Велодромы",14,0,0,null,null,null,null,0]
[null,"Бассейны – всего",15,0,0,{"$f":"SUM(F23:F26)","v":0},{"$f":"SUM(G23:G26)","v":0},{"$f":"SUM(H23:H26)","v":0},0,0,{"$f":"SUM(K23:K26)","v":0},{"$f":"SUM(L23:L26)","v":0},0,0,0,0]
[null,"     в том числе: \n     плавательные 50-метровые",16,0,0,null,null,null,null,0]
[null,"     плавательные 25-метровые",17,0,0,null,null,null,null,0]
[null,"     нестандартных размеров",18,0,0,null,null,null,null,0]
[null,"     для прыжков в воду",19,0,0,null,null,null,null,0]
[null,"         из строки 15 - крытые",20,0,0,null,null,null,null,0]
[null,"Гребные базы",21,0,0,null,null,null,null,0]
[null,"Гребные каналы",22,0,0,null,null,null,null,0]
[null,"Крытые спортивные объекты с искусственным льдом – всего",23,0,0,{"$f":"SUM(F31:F32)","v":0},{"$f":"SUM(G31:G32)","v":0},{"$f":"SUM(H31:H32)","v":0},0,0,{"$f":"SUM(K31:K32)","v":0},{"$f":"SUM(L31:L32)","v":0},0,0,0,{"$f":"SUM(P31:P32)","v":0}]
[null,"  в том числе:\n  крытые спортивные объекты с искусственным     льдом ",24,0,0,null,null,null,null,0]
[null,"     конькобежные",25,0,0,null,null,null,null,0]
[null,"Лыжные базы",26,0,0,null,null,null,null,0]
[null,"Лыжные стадионы",27,0,0,null,null,null,null,0]
[null,"Биатлонные комплексы",28,0,0,null,null,null,null,0]
[null,"Сооружения для стрелковых видов спорта – всего",29,0,0,{"$f":"SUM(F37:F40)","v":0},{"$f":"SUM(G37:G40)","v":0},{"$f":"SUM(H37:H40)","v":0},0,0,{"$f":"SUM(K37:K40)","v":0},{"$f":"SUM(L37:L40)","v":0},0,0,0,{"$f":"SUM(P37:P40)","v":0}]
[null,"     в том числе: \n     тиры",30,0,0,null,null,null,null,0]
[null,"     стрельбища",31,0,0,null,null,null,null,0]
[null,"     стенды",32,0,0,null,null,null,null,0]
[null,"     лукодромы",33,0,0,null,null,null,null,0]
[null,"Другие спортивные сооружения",34,2,2,null,null,2,null,{"$f":"SUM(K41:N41)","v":0}]
[null,"ИТОГО",35,17,14,{"$f":"SUM(F8,F10,F13,F18:F22,F28:F30,F33:F36,F41)","v":0},{"$f":"SUM(G8,G10,G13,G18:G22,G28:G30,G33:G36,G41)","v":0},14,0,3,{"$f":"SUM(K8,K10,K13,K18:K22,K28:K30,K33:K36,K41)","v":0},{"$f":"SUM(L8,L10,L13,L18:L22,L28:L30,L33:L36,L41)","v":0},2,1,{"$f":"SUM(O8,O10,O13,O18:O22,O28:O30,O33:O36,O41)","v":0},{"$f":"SUM(P8,P10,P13,P18:P22,P28:P30,P33:P36,P41)","v":0}]

{"sheet":"Раздел12","index":12,"n_rows":31,"n_cols":31,"rows_kept":31,"cut":false,"hidden":false,"merged":[[3,1,8,1],[3,2,8,2],[3,3,4,4],[3,5,4,6],[3,7,3,28],[4,7,4,18],[4,19,4,28],[5,24,5,28],[6,7,6,10],[6,11,6,14],[6,19,8,19],[6,20,8,20],[6,21,8,21],[6,22,8,22],[6,28,8,28],[7,7,7,18],[5,3,8,3],[5,4,8,4],[5,5,8,5],[6,27,8,27],[5,7,5,14],[6,24,8,24],[5,19,5,23],[5,6,8,6],[6,26,8,26],[5,15,6,18],[6,23,8,23],[6,25,8,25],[1,29,2,29],[2,23,2,28],[0,0,0,19],[1,0,2,0],[1,1,1,28]]}
[]
[null,"Раздел XII. Сведения о численности и оплате труда работников"]
[null,null,null,null,null,null,null,null,null,null,null,null,null,null,null,null,null,null,null,null,null,null,null,"Коды по ОКЕИ: человек – 792; единица – 642; тысяча рублей – 384"]
[null,"Наименование должности","№ строки","Количество ставок, единиц",null,"Средняя численность работников, человек",null,"Фонд начисленной заработной платы работников, тыс. руб."]
[null,null,null,null,null,null,null,"всего",null,null,null,null,null,null,null,null,null,null,null,"по источникам финансирования"]
[null,null,null,"всего (без внешних совместителей)","внешних совме-стителей","списочного состава\n(без внеш-них совме-стителей)\n","внешних совме-стителей","списочного состава (без внешних совместителей)",null,null,null,null,null,null,null,"внешних совместителей",null,null,null,"списочного состава\n(без внешних совместителей)",null,null,null,null,"внешних совместителей"]
[null,null,null,null,null,null,null,"всего",null,null,null,"внутренних совместителей",null,null,null,null,null,null,null,"итого","федеральный бюджет","бюджет субъекта РФ","муниципальный бюджет","ПДД","итого","федеральный бюджет","бюджет субъекта РФ","муниципальный бюджет","ПДД"]
[null,null,null,null,null,null,null,"по разделам функциональной классификации расходов бюджета и средства от приносящей доход деятельности (ПДД)"]
[null,null,null,null,null,null,null,"Итого","07",11,"ПДД","Итого","07",11,"ПДД","Итого","07",11,"ПДД"]
[null,1,2,3,4,5,6,7,8,9,10,11,12,13,14,15,16,17,18,19,20,21,22,23,24,25,26,27,28,null,"13 5"]
[null,"Директор","01",1,null,1,null,{"$f":"SUM(I11:K11)","v":907.1},null,650.1,257,{"$f":"SUM(M11:O11)","v":144.30000000000001},null,null,144.30000000000001,{"$f":"SUM(Q11:S11)","v":0},null,null,null,{"$f":"SUM(U11:X11)","v":907.1},null,null,650.1,257,{"$f":"SUM(Z11:AC11)","v":0},null,null,null,null,null,{"$f":"Раздел13!E9+Раздел13!F9","v":0}]
[null,"Заместители директора, руководители структурных подразделений и их заместители","02",3,null,3,null,{"$f":"SUM(I12:K12)","v":1565.7},null,1349.5,216.2,{"$f":"SUM(M12:O12)","v":216.2},null,null,216.2,{"$f":"SUM(Q12:S12)","v":0},null,null,null,{"$f":"SUM(U12:X12)","v":1565.7},null,null,1349.5,216.2,{"$f":"SUM(Z12:AC12)","v":0},null,null,null,null,null,{"$f":"Раздел13!G9+Раздел13!H9","v":0}]
[null,"Работники учреждений, осуществляющие спортивную подготовку:","03",{"$f":"SUM(D14,D20,D23)","v":14.7},{"$f":"SUM(E14,E20,E23)","v":2.7},15,3,6839.9,0,6157.0999999999995,682.8,645.69999999999993,0,645.69999999999993,0,1006.5,0,1005.1,1.4,6839.9,0,0,6157.0999999999995,682.8,1006.5,0,0,1005.1,1.4,null,{"$f":"Раздел13!I9+Раздел13!J9","v":12405.6}]
[null,"     тренерский персонал - всего:","04",{"$f":"SUM(D15:D17)","v":12.7},{"$f":"SUM(E15:E17)","v":2.7},13,3,6277.9,0,5729.9,548,582.9,0,582.9,0,1006.5,0,1005.1,1.4,6277.9,0,0,5729.9,548,1006.5,0,0,1005.1,1.4,null,{"$f":"Раздел13!K9","v":1359}]
[null,"   в том числе:\n   главные тренеры по видам спорта;","05",null,null,null,null,0,null,null,null,0,null,null,null,0,null,null,null,0,null,null,null,null,{"$f":"SUM(Z15:AC15)","v":0}]
[null,"     старшие тренеры по видам спорта; ","06",null,null,null,null,0,null,null,null,0,null,null,null,0,null,null,null,0,null,null,null,null,0]
[null,"     тренеры по видам спорта - всего:","07",{"$f":"SUM(D18:D19)","v":12.7},{"$f":"SUM(E18:E19)","v":2.7},13,3,6277.9,0,5729.9,548,582.9,0,582.9,0,1006.5,0,1005.1,1.4,6277.9,0,0,5729.9,548,1006.5,0,0,1005.1,1.4]
[null,"       в том числе:\n       тренеры","08",12.7,2.7,13,3,6277.9,null,5729.9,548,582.9,null,582.9,null,1006.5,null,1005.1,1.4,6277.9,null,null,5729.9,548,1006.5,null,null,1005.1,1.4]
[null,"         тренеры-преподаватели","09",null,null,null,null,0,null,null,null,0,null,null,null,0,null,null,null,0,null,null,null,null,0]
[null,"      методический персонал:",10,{"$f":"SUM(D21:D22)","v":2},{"$f":"SUM(E21:E22)","v":0},2,0,562,0,427.2,134.80000000000001,62.8,0,62.8,0,0,0,0,0,562,0,0,427.2,134.80000000000001,0,0,0,0,0]
[null,"      в том числе:\n      инструкторы-методисты;",11,2,null,2,null,562,null,427.2,134.80000000000001,62.8,null,62.8,0,0,null,null,null,562,null,null,427.2,134.80000000000001,0]
[null,"      старшие инструкторы-методисты",12,null,null,null,null,0,null,null,null,0,null,null,null,0,null,null,null,0,null,null,null,null,0]
[null,"спортсмены, спортсмены-инструкторы",13,null,null,null,null,0,null,null,null,0,null,null,null,0,null,null,null,0,null,null,null,null,0]
[null,"Тренеры спортивных сборных команд:",14,{"$f":"SUM(D25:D27)","v":0},{"$f":"SUM(E25:E27)","v":0},0,0,0,0,0,0,0,0,0,0,0,0,0,0,0,0,0,0,0,0,0,0,0,0]
[null,"    в том числе:    \n    главные тренеры спортивных сборных команд;",15,null,null,null,null,0,null,null,null,0,null,null,null,0,null,null,null,0,null,null,null,null,0]
[null,"    старшие тренеры спортивных сборных команд",16,null,null,null,null,0,null,null,null,0,null,null,null,0,null,null,null,0,null,null,null,null,0]
[null,"    старшие тренеры по резерву сборных команд",17,null,null,null,null,0,null,null,null,0,null,null,null,0,null,null,null,0,null,null,null,null,0]
[null,"Тренеры-консультанты",18,null,null,null,null,0,null,null,null,0,null,null,null,0,null,null,null,0,null,null,null,null,0]
[null,"Медицинские работники",19,null,null,null,null,0,null,null,null,0,null,null,null,0,null,null,null,0,null,null,null,null,0]
[null,"Прочий персонал",20,15,2,11,2,2990.4,null,2801.3,189.1,369,null,369,null,455,null,442.5,12.5,2990.4,null,null,2801.3,189.1,455,null,null,442.5,12.5]
[null,"ИТОГО",21,{"$f":"SUM(D11:D13,D24,D28:D30)","v":33.700000000000003},{"$f":"SUM(E11:E13,E24,E28:E30)","v":4.7},30,5,12303.1,0,10958,1345.1,1375.1999999999998,0,1014.6999999999999,360.5,1461.5,0,1447.6,13.9,12303.1,0,0,10958,1345.1,1461.5,0,0,1447.6,13.9]

{"sheet":"Раздел13","index":13,"n_rows":35,"n_cols":22,"rows_kept":35,"cut":false,"hidden":false,"merged":[[0,0,38,0],[0,1,0,14],[1,8,1,10],[2,1,5,1],[2,2,5,2],[2,3,5,3],[2,4,3,10],[4,4,4,5],[4,6,4,7],[4,8,4,9],[35,13,35,15],[4,10,5,10],[27,3,27,4],[28,5,28,9],[31,2,31,4],[33,2,33,4],[34,2,34,3]]}
[null,"Раздел XIII. Финансовая деятельность организаций"]
[null,null,null,null,null,null,null,null,"Код по ОКЕИ: тысяча рублей - 384"]
[null,"Расходы на содержание организаций\n","№ строки","ВСЕГО","в том числе по источникам финансирования и \nразделам функциональной классификации расходов бюджета:"]
[]
[null,null,null,null,"федеральный бюджет",null,"бюджет субъекта Российской Федерации ",null,"муниципальный бюджет ",null,"внебюджетные источники "]
[null,null,null,null,"07","11","07","11","07","11",null,null,null,null,null,null,null,null,null,null,"11р","12 Р"]
[null,1,"2",3,4,5,6,7,8,9,"10",null,null,null,null,null,null,null,null,null,{"$f":"Раздел11!J42","v":3},{"$f":"SUM(Раздел12!U31,Раздел12!Z31)","v":0}]
[null,"Всего расходов","01",{"$f":"SUM(E8:K8)","v":25984.100000000002},{"$f":"SUM(E9:E13,E16,E21:E22,E26)","v":0},{"$f":"SUM(F9:F13,F16,F21:F22,F26)","v":0},145.30000000000001,0,7.7,21487.300000000003,4343.8,null,null,null,null,null,null,null,null,null,null,{"$f":"SUM(Раздел12!V31,Раздел12!AA31)","v":0}]
[null,"в том числе: \nЗаработная плата","02",{"$f":"SUM(E9:K9)","v":13764.6},null,null,null,null,null,12405.6,1359,null,null,null,null,null,null,null,null,null,null,{"$f":"SUM(Раздел12!W31,Раздел12!AB31)","v":12405.6}]
[null,"Организация и проведение спортивных мероприятий","03",31.3,null,null,null,null,null,31.3,null,null,null,null,null,null,null,null,null,null,null,{"$f":"SUM(Раздел12!X31,Раздел12!AC31)","v":1359}]
[null,"Участие в соревнованиях и\nтренировочных сборах","04",1736.9,null,null,null,null,null,686.2,1050.7,null,null,null,null,null,null,null,null,null,null,{"$f":"Раздел12!I31+Раздел12!Q31","v":0}]
[null,"Медико-восстановительные мероприятия","05",0,null,null,null,null,null,null,null,null,null,null,null,null,null,null,null,null,null,{"$f":"Раздел12!J31+Раздел12!R31","v":12405.6}]
[null,"Материально-техническое обеспечение - всего:","06",682.3,{"$f":"SUM(E14:E15)","v":0},{"$f":"SUM(F14:F15)","v":0},0,0,{"$f":"SUM(I14:I15)","v":0},103.8,578.5,null,null,null,null,null,null,null,null,null,null,{"$f":"Раздел12!K31+Раздел12!S31","v":1359}]
[null,"   в том числе: \n   экипировка, спортивное оборудование, \n   инвентарь;","07",89.2,null,null,null,null,null,null,89.2,null,null,null,null,null,null,null,null,null,null,{"$f":"Раздел1!G29","v":1}]
[null,"   прочее","08",593.1,null,null,null,null,null,103.8,489.3]
[null,"Профессиональная переподготовка и повышение квалификации  специалистов, осуществляющих деятельность в области физической культуры и спорта - всего:","09",0,{"$f":"SUM(E17:E20)","v":0},{"$f":"SUM(F17:F20)","v":0},0,0,0,0,0]
[null,"  в том числе: \n  тренеры;","10",0]
[null,"  тренеры-преподаватели;","11",0]
[null,"  инструкторы-методисты;","12",0]
[null,"  другие специалисты","13",0,null,null,null,null,null,null,null,null,null,null,null,null,null,null,null,null,{"$f":"Раздел11!E42","v":14}]
[null,"Предоставление  доступа к объекту спорта","14",0]
[null,"Содержание спортивных сооружений - всего:","15",3755.4000000000005,{"$f":"SUM(E23:E25)","v":0},{"$f":"SUM(F23:F25)","v":0},0,0,0,3283.5000000000005,471.9]
[null,"   в том числе: \n   аренда (услуги спортсооружений);","16",676.2,null,null,null,null,null,676.2,null,null,null,null,null,null,null,null,null,null,null,{"$f":"Раздел11!J42","v":3}]
[null,"   собственные спортсооружения;","17",2947.2000000000003,null,null,null,null,null,{"$f":"2216.3+328.4","v":2544.7000000000003},402.5]
[null,"   другие расходы на содержание","18",132,null,null,null,null,null,62.6,69.400000000000006]
[null,"Прочие расходы","19",6013.5999999999995,null,null,145.30000000000001,null,7.7,4976.8999999999996,883.7]
[null,null,null,{"$error":"#REF!"}]
[null,"Поступило средств от приносящей доход детельности, тысяча рублей:",null,3040.6]
[]
[]
[null,"Должностное лицо, ответственное за предоставление первичных статистических данных (лицо, уполномоченное предоставлять первичные статистические данные \nот имени юридического лица)"]
[null,"заместитель директора по спортивной подготовке","Трошева Эльвира Анатольевна"]
[null,"             (должность)",null,"        (ФИО)",null,"  ","       (подпись)"]
[null,89123372583,"dush-1k-h@yandex.ru"]
[null,"     (номер контактного телефона)","                   (e-mail)",null,null,null,"(дата составления документа)"]